Workbook
Name DK: [3]_lists!$C$261:$C$267
Name II.7.Nebaigta_statyba: '[5]1.vardai'!$G$105
Name IT_grupe: [3]_lists!$C$6:$G$6
Name m: #REF!
Name m: #REF!
Name Nesikliai: [9]_lists!#REF!
Name Nesikliai: [9]_lists!#REF!
Name Padaliniai: [9]_lists!#REF!
Name Padaliniai: [9]_lists!#REF!
Name padaliniai_tipai: [3]_lists!$C$253:$C$255
Name Paskirstymas: [3]_lists!$D$616:$D$618
Name Paslaugos: [10]lists!$C$4:$C$9
Name Priskyrimas_turtas: [11]_!$H$17:$H$45
Name RASgr: [10]lists!$C$161:$C$175
Name RASnr: [10]lists!$B$41:$B$155
Name Sąnaudos: '[5]1.vardai'!$C$479:$C$494
Name Sistemos: [13]Pradžia!$U$10:$U$19
Name Sistemos2: [13]Pradžia!$U$9:$U$19
Name skaicius: [3]_lists!$C$299:$C$303
Name taipne: [9]_lists!$C$65:$C$66
Name TS: [3]_lists!$E$616:$E$628
Name tuscia: [13]_lists!$C$223
Name VAS003_F_BendrujuadministraciniuVeiklosVIIKitosVeiklos: #REF!
Name VAS003_F_BendrujuadministraciniuVeiklosVIIKitosVeiklos: #REF!
Name VAS003_F_BendrujuadministraciniuVeiklosVIKitosReguliuojamos: #REF!
Name VAS003_F_BendrujuadministraciniuVeiklosVIKitosReguliuojamos: #REF!
Name VAS003_F_BendrujuadministraciniuVeiklosVISOSVANDENTVARKOSSANAUDOS: #REF!
Name VAS003_F_BendrujuadministraciniuVeiklosVISOSVANDENTVARKOSSANAUDOS: #REF!
Name VAS003_F_NetiesioginiuVeiklosSanauduVIIKitosVeiklos: #REF!
Name VAS003_F_NetiesioginiuVeiklosSanauduVIIKitosVeiklos: #REF!
Name VAS003_F_NetiesioginiuVeiklosSanauduVIKitosReguliuojamos: #REF!
Name VAS003_F_NetiesioginiuVeiklosSanauduVIKitosReguliuojamos: #REF!
Name VAS003_F_NetiesioginiuVeiklosSanauduVISOSVANDENTVARKOSSANAUDOS: #REF!
Name VAS003_F_NetiesioginiuVeiklosSanauduVISOSVANDENTVARKOSSANAUDOS: #REF!
Name VAS003_F_PajamosIsReguliuojamojeVIIKitosVeiklos: #REF!
Name VAS003_F_PajamosIsReguliuojamojeVIIKitosVeiklos: #REF!
Name VAS003_F_PajamosIsReguliuojamojeVIKitosReguliuojamos: #REF!
Name VAS003_F_PajamosIsReguliuojamojeVIKitosReguliuojamos: #REF!
Name VAS003_F_PajamosIsReguliuojamojeVISOSVANDENTVARKOSSANAUDOS: #REF!
Name VAS003_F_PajamosIsReguliuojamojeVISOSVANDENTVARKOSSANAUDOS: #REF!
Name VAS003_F_UkioSubjektoTiesioginesIApskaitosVeikla: #REF!
Name VAS003_F_UkioSubjektoTiesioginesIApskaitosVeikla: #REF!
Name VAS003_F_UkioSubjektoTiesioginesIII1surinkimas: #REF!
Name VAS003_F_UkioSubjektoTiesioginesIII1surinkimas: #REF!
Name VAS003_F_UkioSubjektoTiesioginesIII2valymas: #REF!
Name VAS003_F_UkioSubjektoTiesioginesIII2valymas: #REF!
Name VAS003_F_UkioSubjektoTiesioginesIII3nuotekuDumblo: #REF!
Name VAS003_F_UkioSubjektoTiesioginesIII3nuotekuDumblo: #REF!
Name VAS003_F_UkioSubjektoTiesioginesIII4PavirsiniuNuoteku: #REF!
Name VAS003_F_UkioSubjektoTiesioginesIII4PavirsiniuNuoteku: #REF!
Name VAS003_F_UkioSubjektoTiesioginesIII5NuotekuTransportavimas: #REF!
Name VAS003_F_UkioSubjektoTiesioginesIII5NuotekuTransportavimas: #REF!
Name VAS003_F_UkioSubjektoTiesioginesVIIKitosVeiklos: #REF!
Name VAS003_F_UkioSubjektoTiesioginesVIIKitosVeiklos: #REF!
Name VAS003_F_UkioSubjektoTiesioginesVIKitosReguliuojamos: #REF!
Name VAS003_F_UkioSubjektoTiesioginesVIKitosReguliuojamos: #REF!
Name VAS003_F_VersloVienetuIrPaslauguPajamosIApskaitosVeikla: #REF!
Name VAS003_F_VersloVienetuIrPaslauguPajamosIApskaitosVeikla: #REF!
Name VAS003_F_VersloVienetuIrPaslauguPajamosII3pristatymas: #REF!
Name VAS003_F_VersloVienetuIrPaslauguPajamosII3pristatymas: #REF!

Sheet 1
E2: Geriamojo vandens tiekimo ir nuotekų tvarkymo bei paviršinių nuotekų tvarkymo paslaugų įmonių apskaitos atskyrimo ir susijusių reikalavimų aprašo 1 priedas
D3: Ilgalaikio turto grupių ir nusidėvėjimo (amortizacijos) skaičiavimo laikotarpių sąrašas
C5: Eil. Nr. | D5: Ilgalaikio turto grupės | E5: Laikotarpis, metais
C6: I. | D6: NEMATERIALUSIS TURTAS
C7: I.1. | D7: standartinė programinė įranga | E7: 4
C8: I.1. | D8: spec. programinė įranga | E8: 4-15
C9: I.1. | D9: kitas nematerialus turtas | E9: 4-15
C10: II.2. | D10: PASTATAI IR STATINIAI
C11: II.2.1. | D11: Pastatai (administraciniai, gamybiniai-ūkiniai ir pan.) | E11: 50-70
C12: II.2.2. | D12: keliai, aikštelės, šaligatviai ir tvoros | E12: 27-30
C13: II.2.3. | D13: vamzdynai | E13: 50
C14: II.2.4. | D14: Kiti įrenginiai (siurblinių statiniai, vandentiekio įrenginiai, nusodintuvai, diukeriai, vandens rezervuarai, gelžbetoniniai metantankai, smėlio gaudytuvai, aerotankai, nusodintuvai, nuotekų valymo flotatoriai, dumblo aikštelės ir kt.) | E14: 35
C15: II.3. | D15: MAŠINOS IR ĮRANGA
C16: II.3.1. | D16: vandens siurbliai, nuotekų ir dumblo siurbliai virš 5 kW, kita įranga ( siurblių valdymo įranga, elektrotechninė įranga, stacionarios ir mobilios darbo bei hidrodinaminės mašinos, staklės, sklendės, grotelės, grėbliai, grandikliai, filtrai, centrifugos) | E16: 10
C17: II.3.2. | D17: nuotekų ir dumblo siurbliai iki 5 kW | E17: 5
C18: II.4. | D18: KITI ĮRENGINIAI, PRIETAISAI IR ĮRANKIAI
C19: II.4.1. | D19: apskaitos prietaisai | E19: 6
C20: II.4.2. | D20: įrankiai (matavimo priemonės, elektriniai įrankiai ir prietaisai, gamybinis inventorius ir kt.) | E20: 6
C21: II.5. | D21: TRANSPORTO PRIEMONĖS
C22: II.5.1. | D22: lengvieji automobiliai | E22: 7
C23: II.5.2. | D23: kitos transporto priemonės (transportas dumblui, vandeniui vežti, autobusai žmonėms vežti) | E23: 10

Sheet 2
D2: Geriamojo vandens tiekimo ir nuotekų tvarkymo bei paviršinių nuotekų tvarkymo paslaugų įmonių apskaitos atskyrimo ir susijusių reikalavimų aprašo 2 priedas
C3: Ūkio subjektas: UAB „Biržų vandenys“
C4: Ataskaitinis laikotarpis: 2021-01-01 - 2021-12-31
C6: Ataskaitinio laikotarpio Ūkio subjekto suvestinė balanso ataskaita pagal finansinės apskaitos standartus (tūkst. Eur)
B8: Eil. Nr. pagal | C8: Straipsniai | D8: Ataskaitinis laikotarpis
C9: TURTAS
B10: A. | C10: ILGALAIKIS TURTAS | D10: 8999.707
B11: B. | C11: TRUMPALAIKIS TURTAS | D11: 1421.607
B12: B.1. | C12: PER VIENUS METUS GAUTINOS SUMOS | D12: 178.664
B13: B.1.1. | C13: Pirkėjų skolos | D13: 123.03
B14: C. | C14: ATEINANČIŲ LAIKOTARPIŲ SĄNAUDOS IR SUKAUPTOS PAJAMOS | D14: 0.845
C15: TURTO IŠ VISO | D15: =SUM(D10:D11,D14) -> 10422.159
C16: NUOSAVAS KAPITALAS IR ĮSIPAREIGOJIMAI
B17: D. | C17: NUOSAVAS KAPITALAS | D17: =SUM(D18,D20,D21,D22,D23) -> 5530.611
B18: D.1. | C18: KAPITALAS | D18: 5808.71
B19: D.1.1. | C19: Įstatinis (pasirašytasis) arba pagrindinis kapitalas | D19: 5808.71
B20: D.2. | C20: AKCIJŲ PRIEDAI | D20: 0.591
B21: D.3. | C21: PERKAINOJIMO REZERVAS | D21: 0
B22: D.4. | C22: REZERVAI | D22: 0
B23: D.5. | C23: NEPASKIRSTYTASIS PELNAS (NUOSTOLIAI) | D23: -278.69
B24: E. | C24: DOTACIJOS, SUBSIDIJOS | D24: 3671.581
B25: F. | C25: ATIDĖJINIAI | D25: 0
B26: G. | C26: MOKĖTINOS SUMOS IR KITI ĮSIPAREIGOJIMAI | D26: =D27+D28 -> 1219.967
B27: G.1. | C27: PO VIENŲ METŲ MOKĖTINOS SUMOS IR KITI ILGALAIKIAI ĮSIPAREIGOJIMAI | D27: 699.553
B28: G.2. | C28: PER VIENUS METUS MOKĖTINOS SUMOS IR KITI TRUMPALAIKIAI ĮSIPAREIGOJIMAI | D28: 520.414
B29: H. | C29: SUKAUPTOS SĄNAUDOS IR ATEINANČIŲ LAIKOTARPIŲ PAJAMOS | D29: 0
C30: NUOSAVO KAPITALO IR ĮSIPAREIGOJIMŲ IŠ VISO | D30: =SUM(D17,D24,D25,D26,D29) -> 10422.159

Sheet 3
E2: Geriamojo vandens tiekimo ir nuotekų tvarkymo bei paviršinių nuotekų tvarkymo paslaugų įmonių apskaitos atskyrimo ir susijusių reikalavimų aprašo 3 priedas
C3: Ūkio subjektas: UAB „Biržų vandenys“
C4: Ataskaitinis laikotarpis: 2021-01-01 - 2021-12-31
C6: Ataskaitinio laikotarpio reguliuojamosios veiklos pelno (nuostolių) ataskaita (tūkst. Eur)
B8: Eil. Nr. | C8: STRAIPSNIAI | D8: Ataskaitinis laikotarpis | E8: Paaiškinimai
B9: I. | C9: PAJAMOS
B10: A. | C10: GERIAMOJO VANDENS TIEKIMO IR NUOTEKŲ TVARKYMO (GVTNT) PAJAMOS: | D10: =D11+D14+D26 -> 883.09205 | F10: TRUE
B11: A.1. | C11: geriamojo vandens tiekimo (GVT) pajamos | D11: =SUM(D12:D13) -> 291.40312 | F11: TRUE
B12: A.1.1. | C12: geriamojo vandens tiekimo pajamos | D12: 286.16477 | F12: TRUE
B13: A.1.2. | C13: GVTNT ilgalaikio turto nuomos pajamos | D13: 5.2383544 | F13: TRUE
B14: A.2. | C14: nuotekų tvarkymo (NT) veiklos pajamos | D14: =D15+D18+D22 -> 591.68893 | F14: TRUE
B15: A.2.1. | C15: nuotekų surinkimas centralizuotais nuotekų surinkimo tinklais pajamos | D15: =IFERROR(SUM(D16:D17)+D27*(D42/D41), 0) -> 204.21614 | F15: TRUE
B16: A.2.1.1. | C16: pajamos už buitinių ir gamybinių nuotekų surinkimą | D16: 202.74317 | F16: TRUE
B17: A.2.1.2. | C17: GVTNT ilgalaikio turto nuomos pajamos | D17: 1.4729645 | F17: TRUE | L17: `
B18: A.2.2. | C18: nuotekų valymo pajamos | D18: =IFERROR(SUM(D19:D21)+D27*(D43/D41), 0) -> 358.71893 | F18: TRUE
B19: A.2.2.1. | C19: pajamos už buitinių ir gamybinių nuotekų valymą (be padidėjusios taršos) | D19: 358.70717 | F19: TRUE
B20: A.2.2.2. | C20: pajamos už padidėjusią ir savitąją taršą | D20: 0 | F20: TRUE
B21: A.2.2.3. | C21: GVTNT ilgalaikio turto nuomos pajamos | D21: 0.011756181 | F21: TRUE
B22: A.2.3. | C22: nuotekų dumblo tvarkymo pajamos | D22: =IFERROR(SUM(D23:D25)+D27*(D44/D41), 0) -> 28.753863 | F22: TRUE
B23: A.2.3.1. | C23: pajamos už dumblo tvarkymą (be kitų bendrovių atvežto nuotekų dumblo) | D23: 28.598415 | F23: TRUE
B24: A.2.3.2. | C24: pajamos už kitų bendrovių atvežtą tvarkyti nuotekų dumblą | D24: 0 | F24: TRUE
B25: A.2.3.3. | C25: GVTNT ilgalaikio turto nuomos pajamos | D25: 0.15544872 | F25: TRUE
B26: A.3. | C26: paviršinių nuotekų tvarkymo pajamos | D26: =SUM(D28+D29) -> 0 | F26: TRUE
B27: A.3.1. | C27: pajamos už paviršinių nuotekų tvarkymą, jei yra mišri nuotekų surinkimo sistema | D27: 0 | F27: TRUE
B28: A.3.2. | C28: pajamos už paviršinių nuotekų tvarkymą, jei yra atskira paviršinių nuotekų surinkimo sistema | D28: 0 | F28: TRUE
B29: A.3.3. | C29: GVTNT ilgalaikio turto nuomos pajamos | D29: 0 | F29: TRUE
B30: B. | C30: KITŲ VEIKLŲ PAJAMOS | D30: =D31+D35 -> 137.08382 | F30: TRUE
B31: B.1. | C31: kitos reguliuojamosios veiklos pajamos | D31: =SUM(D32:D34) -> 71.569636 | F31: TRUE
B32: B.1.1. | C32: apskaitos veiklos pajamos | D32: 71.56963 | F32: TRUE
B33: B.1.2. | C33: kitos reguliuojamos veiklos pajamos | D33: 0 | F33: TRUE
B34: B.1.3. | C34: GVTNT ilgalaikio turto nuomos pajamos | D34: 6.1131287e-06 | F34: TRUE
B35: B.2. | C35: nereguliuojamosios veiklos pajamos | D35: =SUM(D36:D37) -> 65.514185 | F35: TRUE
B36: B.2.1. | C36: nereguliuojamos veiklos pajamos (įskaitant finansinę veiklą) | D36: 58.635655 | F36: TRUE
B37: B.2.2. | C37: GVTNT ilgalaikio turto nuomos pajamos | D37: =+D34+D29+D25+D21+D17+D13 -> 6.87853 | F37: TRUE
B38: II. | C38: PASKIRSTOMOSIOS SĄNAUDOS | D38: =D39+D46 -> 1206.4114 | E38: 4 priedas | F38: TRUE
B39: C. | C39: GERIAMOJO VANDENS TIEKIMO IR NUOTEKŲ TVARKYMO (GVTNT) SĄNAUDOS | D39: =D40+D41+D45 -> 1151.4524 | E39: 4 priedas | F39: TRUE
B40: C.1. | C40: geriamojo vandens tiekimo (GVT) sąnaudos | D40: ='4'!E21 -> 350.91877 | E40: 4 priedas | F40: TRUE
B41: C.2. | C41: nuotekų tvarkymo (NT) veiklos sąnaudos | D41: ='4'!I21 -> 800.53367 | E41: 4 priedas | F41: TRUE
B42: C.2.1. | C42: nuotekų surinkimas centralizuotais nuotekų surinkimo tinklais sąnaudos | D42: ='4'!$J$21 -> 347.17447 | E42: 4 priedas | F42: TRUE
B43: C.2.2. | C43: nuotekų valymo sąnaudos | D43: ='4'!$K$21 -> 363.07383 | E43: 4 priedas | F43: TRUE
B44: C.2.3. | C44: nuotekų dumblo tvarkymo sąnaudos | D44: ='4'!$L$21 -> 90.285379 | E44: 4 priedas | F44: TRUE
B45: C.3. | C45: paviršinių nuotekų tvarkymo sąnaudos, jei yra atskira paviršinių nuotekų surinkimo sistema | D45: ='4'!$M$21 -> 0 | E45: 4 priedas | F45: TRUE
B46: D. | C46: KITŲ VEIKLŲ SĄNAUDOS | D46: =SUM(D47:D49) -> 54.958998 | E46: 4 priedas | F46: TRUE
B47: D.1. | C47: apskaitos veiklos sąnaudos | D47: ='4'!O21 -> 42.84958 | E47: 4 priedas | F47: TRUE
B48: D.2. | C48: kitos reguliuojamosios veiklos sąnaudos | D48: ='4'!$P$21 -> 0 | E48: 4 priedas | F48: TRUE
B49: D.3. | C49: nereguliuojamosios veiklos sąnaudos | D49: ='4'!$Q$21 -> 12.109418 | E49: 4 priedas | F49: TRUE
B50: III. | C50: NEPASKIRSTOMOSIOS SĄNAUDOS | D50: =SUM(D51:D70) -> -29.50017 | F50: TRUE
B51: E.1 | C51: Beviltiškos skolos, baudos, delspinigiai (GVTNT) | D51: 1.48432 | F51: TRUE
B52: E.2. | C52: Paramą, labdarą, vartotojų švietimo sąnaudas, išskyrus tas, kurios privalomos pagal teisės aktų reikalavimus, papildomo draudimo sąnaudas, išskyrus darbuotojų, dirbančių pavojingus darbus ir (ar) su potencialiai pavojingais įrenginiais, draudimo nuo nelaimingų atsitikimų darbe sąnaudas (GVTNT) | D52: 0 | F52: TRUE
B53: E.3. | C53: Tantjemų išmokos (GVTNT) | D53: 0 | F53: TRUE
B54: E.4. | C54: Narystės, stojamųjų įmokų sąnaudos, išskyrus sąnaudas dėl teisės aktuose numatyto privalomo dalyvavimo, tiesiogiai susijusio su reguliuojamu verslo vienetu (GVTNT) | D54: 1.15964 | F54: TRUE
B55: E.5. | C55: Patirtos palūkanų ir kitos finansinės-investicinės veiklos sąnaudos (GVTNT) | D55: 0 | F55: TRUE
B56: E.6. | C56: Komandiruočių, personalo mokymo sąnaudos (išskyrus tas, kurios yra būtinos reguliuojamai veiklai vykdyti) (GVTNT) | D56: 0 | F56: TRUE
B57: E.7. | C57: Reprezentacijos, reklamos, viešųjų ryšių, rinkodaros, konsultacijų, tyrimų sąnaudos (išskyrus tas, kurios yra būtinos reguliuojamai veiklai vykdyti) (GVTNT) | D57: 0 | F57: TRUE
B58: E.8. | C58: Nenaudojamo, likviduoto, nurašyto, esančio atsargose, išnuomoto (išskyrus Aprašo 14 punkte numatytu atveju, kai ne mažiau kaip pusė nuomos pajamų priskiriama reguliuojamai veiklai), panaudos teise perduoto kitam ūkio subjektui ilgalaikio turto sąnaudos (išskyrus užkonservuoto turto palaikymo sąnaudas, jei Ūkio subjektas pateikia ekonominį ar teisinį pagrindimą dėl turto užkonservavimo pagrįstumo), išsinuomoto, Ūkio subjektui neatlygintinai (nemokamai) perduoto, panaudos teisėmis disponuojamo turto nusidėvėjimo sąnaudos (GVTNT) | D58: 0 | F58: TRUE
B59: E.9. | C59: Nebaigtos statybos ilgalaikio turto sąnaudos (GVTNT) | D59: 0 | F59: TRUE
B60: E.10. | C60: Nusidėvėjimo (amortizacijos) sąnaudų dalis, priskaičiuojamą nuo ilgalaikio turto vienetų vertės, sukurtos už Europos Sąjungos struktūrinių fondų lėšas, dotacijų ir subsidijų, ir joms prilygintas lėšų (GVTNT) | D60: 0 | F60: TRUE
B61: E.11. | C61: Nusidėvėjimo (amortizacijos) sąnaudų dalis, priskaičiuojamą nuo ilgalaikio turto vienetų vertės pokyčio, susijusio su turto perkainojimu (GVTNT) | D61: 0 | F61: TRUE
B62: E.12. | C62: Nusidėvėjimo (amortizacijos) sąnaudos nuo plėtros darbų, iki ilgalaikio turto vienetų, kurių formavimui buvo atliekami plėtros darbai, eksploatacijos pradžios (GVTNT) | D62: 0 | F62: TRUE
... B70: E.20. | C70: Kitos reguliuojamos veiklos nepaskirstomosios sąnaudos, kitos nereguliuojamos veiklos sąnaudos | D70: -40.392551 | F70: TRUE
B71: IV. | C71: PELNAS (NUOSTOLIS) PRIEŠ PELNO MOKESTĮ | D71: =D10+D30-D39-D46-D50 -> -156.7354 | F71: TRUE
B72: F. | C72: GERIAMOJO VANDENS TIEKIMO IR NUOTEKŲ TVARKYMO (GVTNT) PELNAS (NUOSTOLIS) | D72: =D10-D39 -> -268.36039 | F72: TRUE
B73: F.1. | C73: geriamojo vandens tiekimo (GVT) pelnas (nuostolis) | D73: =D11-D40 -> -59.515643 | F73: TRUE
B74: F.2. | C74: nuotekų tvarkymo (NT) veiklos pelnas (nuostolis) | D74: =D14-D41 -> -208.84474 | F74: TRUE
B75: F.2.1. | C75: nuotekų surinkimas centralizuotais nuotekų surinkimo tinklais pelnas (nuostolis) | D75: =D15-D42 -> -142.95833 | F75: TRUE
B76: F.2.2. | C76: nuotekų valymo pelnas (nuostolis) | D76: =D18-D43 -> -4.3548971 | F76: TRUE
B77: F.2.3. | C77: nuotekų dumblo tvarkymo pelnas (nuostolis) | D77: =D22-D44 -> -61.531516 | F77: TRUE
B78: F.3. | C78: paviršinių nuotekų tvarkymo pelnas (nuostolis), jei yra atskira paviršinių nuotekų surinkimo sistema | D78: =D26-D45 -> 0 | F78: TRUE
B79: G. | C79: KITŲ VEIKLŲ PELNAS (NUOSTOLIS) | D79: =D30-D46 -> 82.124823 | F79: TRUE
B80: G.1. | C80: apskaitos veiklos pelnas (nuostolis) | D80: =D32-D47 -> 28.72005 | F80: TRUE
B81: G.2. | C81: kitos reguliuojamosios veiklos pelnas (nuostolis) | D81: =D33-D48+D34 -> 6.1131287e-06 | F81: TRUE
B82: G.3. | C82: nereguliuojamosios veiklos pelnas (nuostolis) | D82: =IFERROR(D35-D49,"-") -> 53.404766 | F82: TRUE
B83: H. | C83: PAGAUTĖ - NETEKIMAI | D83: 0 | F83: TRUE
B84: V. | C84: PELNO MOKESTIS | D84: 0 | F84: TRUE
B85: VI. | C85: GRYNASIS PELNAS | D85: =IFERROR(D71+D83-D84,"-") -> -156.7354 | F85: TRUE
B86: VII. | C86: GERIAMOJO VANDENS TIEKIMO IR NUOTEKŲ TVARKYMO (GVTNT) PELNINGUMAS** (NUOSTOLINGUMAS), % | D86: =IFERROR((D72/D10)*100,"-") -> -30.388722 | F86: TRUE
B87: VII.1. | C87: geriamojo vandens tiekimo (GVT) pelningumas (nuostolingumas), % | D87: =IFERROR((D73/D11)*100,"-") -> -20.423818 | F87: TRUE
B88: VII.2. | C88: nuotekų tvarkymo (NT) veiklos pelningumas (nuostolingumas), % | D88: =IFERROR((D74/D14)*100,"-") -> -35.296375 | F88: TRUE
B89: VII.2.1. | C89: nuotekų surinkimas centralizuotais nuotekų surinkimo tinklais pelningumas (nuostolingumas), % | D89: =IFERROR((D75/D15)*100,"-") -> -70.003446 | F89: TRUE
B90: VII.2.2. | C90: nuotekų valymo pelningumas (nuostolingumas), % | D90: =IFERROR((D76/D18)*100,"-") -> -1.2140138 | F90: TRUE
B91: VII.2.3. | C91: nuotekų dumblo tvarkymo pelningumas (nuostolingumas), % | D91: =IFERROR((D77/D22)*100,"-") -> -213.99391 | F91: TRUE
B92: VII.3. | C92: paviršinių nuotekų tvarkymo pelningumas (nuostolingumas, jei yra atskira paviršinių nuotekų surinkimo sistema, % | D92: =IFERROR((D78/D26)*100,"0") -> 0 | F92: TRUE
C94: *Iškyrus nurašyto į sąnaudas ilgalaikio turto vertė, susidariusi dėl Aprašo 1 priede pakeistų nusidėvėjimo (amortizacijos) laikotarpių
C95: ** Prieš pelno mokestį

Sheet 4
C2: Ūkio subjektas: UAB „Biržų vandenys“ | Q2: Geriamojo vandens tiekimo ir nuotekų tvarkymo bei paviršinių nuotekų tvarkymo paslaugų įmonių apskaitos atskyrimo ir susijusių reikalavimų aprašo 4 priedas
C3: Ataskaitinis laikotarpis: 2021-01-01 - 2021-12-31
C5: Ataskaitinio laikotarpio reguliuojamos veiklos sąnaudų paskirstymo verslo vienetams ir paslaugoms ataskaita (tūkst. Eur)
B7: Eil. Nr. | C7: SĄNAUDOS | D7: 1. IŠ VISO | E7: 2. Iš viso GVT | F7: 2.1. Geriamojo vandens gavyba | G7: 2.2. Geriamojo vandens ruošimas | H7: 2.3. Geriamojo vandens pristatymas | I7: 3. Iš viso NT | J7: 3.1. Nuotekų surinkimas | K7: 3.2. Nuotekų valymas | L7: 3.3. Nuotekų dumblo tvarkymas | M7: 4. Paviršinių nuotekų tvarkymas (tik esant atskirai paviršinių nuotekų tvarkymo sistemai) | N7: 5. Kitos reguliuojamosios veiklos verslo vienetas | O7: 5.1. Apskaitos veikla | P7: 5.2. Kita reguliuojama veikla | Q7: 6. Kitos veiklos (nereguliuojamosios veiklos) verslo vienetas
B8: A. | C8: PASKIRSTOMŲJŲ SĄNAUDŲ SUVESTINĖ
B9: A.1. | C9: Geriamojo vandens įsigijimo sąnaudos | D9: =D28 -> 0 | E9: =E28 -> 0 | F9: =F28 -> 0 | G9: =G28 -> 0 | H9: =H28 -> 0 | I9: =I28 -> 0 | J9: =J28 -> 0 | K9: =K28 -> 0 | ... M9: =M28 -> 0 | N9: =O9+P9 -> 0 | O9: =O28 -> 0 | P9: =P28 -> 0 | Q9: =Q28 -> 0 | S9: =D9ž -> #NAME? | T9: TRUE | U9: TRUE | V9: TRUE | W9: TRUE | X9: TRUE | Y9: TRUE | Z9: TRUE | AA9: TRUE | AB9: TRUE | AC9: TRUE | AD9: TRUE | AE9: TRUE | AF9: TRUE | AG9: TRUE
B10: A.2. | C10: Nuotekų tvarkymo paslaugų pirkimo sąnaudos | D10: =D29 -> 0 | E10: =E29 -> 0 | F10: =F29 -> 0 | G10: =G29 -> 0 | H10: =H29 -> 0 | I10: =I29 -> 0 | J10: =J29 -> 0 | K10: =K29 -> 0 | ... M10: =M29 -> 0 | N10: =O10+P10 -> 0 | O10: =O29 -> 0 | P10: =P29 -> 0 | Q10: =Q29 -> 0 | T10: TRUE | U10: TRUE | V10: TRUE | W10: TRUE | X10: TRUE | Y10: TRUE | Z10: TRUE | AA10: TRUE | AB10: TRUE | AC10: TRUE | AD10: TRUE | AE10: TRUE | AF10: TRUE | AG10: TRUE
B11: A.3. | C11: Elektros energijos sąnaudos, iš šio skaičiaus | D11: =D32+D89+D185 -> 131.10861 | E11: =E32+E89+E185 -> 34.045646 | F11: =F32+F89+F185 -> 18.775494 | G11: =G32+G89+G185 -> 3.1847864 | H11: =H32+H89+H185 -> 12.085366 | I11: =I32+I89+I185 -> 96.743706 | J11: =J32+J89+J185 -> 28.409228 | K11: =K32+K89+K185 -> 67.81001 | ... M11: =M32+M89+M185 -> 0 | N11: =O11+P11 -> 0.24891344 | O11: =O32+O89+O185 -> 0.24891344 | P11: =P32+P89+P185 -> 0 | Q11: =Q32+Q89+Q185 -> 0.070343676 | T11: 6.0312 | U11: 1.7336265 | V11: 0.32566431 | W11: 0.39197642 | X11: 1.0159858 | Y11: 3.9783164 | Z11: 1.8625284 | AA11: 1.5913197 | AB11: 0.52446825 | AC11: 0 | AD11: 0.24891344 | AE11: 0.24891344 | AF11: 0 | AG11: 0.070343676
B12: A.3.1. | C12: Elektros energija siurbliams, orapūtėms, maišyklėms ir kitiems technologiniams įrenginiams | D12: =D33+D90 -> 125.07741 | E12: =E33+E90 -> 32.31202 | F12: =F33+F90 -> 18.44983 | G12: =G33+G90 -> 2.79281 | H12: =H33+H90 -> 11.06938 | I12: =I33+I90 -> 92.76539 | J12: =J33+J90 -> 26.5467 | K12: =K33+K90 -> 66.21869 | ... M12: =M33+M90 -> 0 | N12: =O12+P12 -> 0 | O12: =O33+O90 -> 0 | P12: =P33+P90 -> 0 | Q12: =Q33+Q90 -> 0 | T12: TRUE | U12: TRUE | V12: TRUE | W12: TRUE | X12: TRUE | Y12: TRUE | Z12: TRUE | AA12: TRUE | AB12: TRUE | AC12: TRUE | AD12: TRUE | AE12: TRUE | AF12: TRUE | AG12: TRUE
B13: A.4. | C13: Technologinių medžiagų ir technologinio kuro sąnaudos | D13: =D35 -> 13.68 | E13: =E35 -> 0 | F13: =F35 -> 0 | G13: =G35 -> 0 | H13: =H35 -> 0 | I13: =I35 -> 13.68 | J13: =J35 -> 0 | K13: =K35 -> 13.68 | ... M13: =M35 -> 0 | N13: =O13+P13 -> 0 | O13: =O35 -> 0 | P13: =P35 -> 0 | Q13: =Q35 -> 0 | T13: TRUE | U13: TRUE | V13: TRUE | W13: TRUE | X13: TRUE | Y13: TRUE | Z13: TRUE | AA13: TRUE | AB13: TRUE | AC13: TRUE | AD13: TRUE | AE13: TRUE | AF13: TRUE | AG13: TRUE
B14: A.5. | C14: Einamojo remonto ir aptarnavimo sąnaudos, iš šio skaičius: | D14: =D43+D97+D192 -> 138.78355 | E14: =E43+E97+E192 -> 42.63532 | F14: =F43+F97+F192 -> 0.61707562 | G14: =G43+G97+G192 -> 19.529037 | H14: =H43+H97+H192 -> 22.489207 | I14: =I43+I97+I192 -> 95.454307 | J14: =J43+J97+J192 -> 49.874594 | K14: =K43+K97+K192 -> 23.88715 | ... M14: =M43+M97+M192 -> 0 | N14: =O14+P14 -> 0.67556582 | O14: =O43+O97+O192 -> 0.67556582 | P14: =P43+P97+P192 -> 0 | Q14: =Q43+Q97+Q192 -> 0.018356979 | T14: TRUE | U14: TRUE | V14: TRUE | W14: TRUE | X14: TRUE | Y14: TRUE | Z14: TRUE | AA14: TRUE | AB14: TRUE | AC14: TRUE | AD14: TRUE | AE14: TRUE | AF14: TRUE | AG14: TRUE
B15: A.5.1. | C15: Remonto medžiagų ir detalių sąnaudos | D15: =D44+D98+D193 -> 63.39887 | E15: =E44+E98+E193 -> 17.651558 | F15: =F44+F98+F193 -> 0.58354627 | G15: =G44+G98+G193 -> 1.2257633 | H15: =H44+H98+H193 -> 15.842249 | I15: =I44+I98+I193 -> 45.053673 | J15: =J44+J98+J193 -> 19.042507 | K15: =K44+K98+K193 -> 7.0956042 | ... M15: =M44+M98+M193 -> 0 | N15: =O15+P15 -> 0.6752822 | O15: =O44+O98+O193 -> 0.6752822 | P15: =P44+P98+P193 -> 0 | Q15: =Q44+Q98+Q193 -> 0.018356979 | T15: TRUE | U15: TRUE | V15: TRUE | W15: TRUE | X15: TRUE | Y15: TRUE | Z15: TRUE | AA15: TRUE | AB15: TRUE | AC15: TRUE | AD15: TRUE | AE15: TRUE | AF15: TRUE | AG15: TRUE
B16: A.5.2. | C16: Avarijų šalinimo sąnaudos | D16: =D47+D101+D196 -> 4.366 | E16: =E47+E101+E196 -> 4.366 | F16: =F47+F101+F196 -> 0 | G16: =G47+G101+G196 -> 0 | H16: =H47+H101+H196 -> 4.366 | I16: =I47+I101+I196 -> 0 | J16: =J47+J101+J196 -> 0 | K16: =K47+K101+K196 -> 0 | ... M16: =M47+M101+M196 -> 0 | N16: =O16+P16 -> 0 | O16: =O47+O101+O196 -> 0 | P16: =P47+P101+P196 -> 0 | Q16: =Q47+Q101+Q196 -> 0 | T16: TRUE | U16: TRUE | V16: TRUE | W16: TRUE | X16: TRUE | Y16: TRUE | Z16: TRUE | AA16: TRUE | AB16: TRUE | AC16: TRUE | AD16: TRUE | AE16: TRUE | AF16: TRUE | AG16: TRUE
B17: A.5.3. | C17: Remonto ir aptarnavimo paslaugų pirkimo sąnaudos | D17: =D45+D99+D194 -> 54.50156 | E17: =E45+E99+E194 -> 18.225886 | F17: =F45+F99+F194 -> 0.0029403036 | G17: =G45+G99+G194 -> 18.164545 | H17: =H45+H99+H194 -> 0.05840021 | I17: =I45+I99+I194 -> 36.27565 | J17: =J45+J99+J194 -> 18.72237 | K17: =K45+K99+K194 -> 15.60047 | ... M17: =M45+M99+M194 -> 0 | N17: =O17+P17 -> 2.4871409e-05 | O17: =O45+O99+O194 -> 2.4871409e-05 | P17: =P45+P99+P194 -> 0 | Q17: =Q45+Q99+Q194 -> 0 | T17: TRUE | U17: TRUE | V17: TRUE | W17: TRUE | X17: TRUE | Y17: TRUE | Z17: TRUE | AA17: TRUE | AB17: TRUE | AC17: TRUE | AD17: TRUE | AE17: TRUE | AF17: TRUE | AG17: TRUE
B18: A.6. | C18: Personalo sąnaudos, iš šio skaičius: | D18: =D50+D104+D199 -> 457.82039 | E18: =E50+E104+E199 -> 141.35864 | F18: =F50+F104+F199 -> 42.594556 | G18: =G50+G104+G199 -> 14.771422 | H18: =H50+H104+H199 -> 83.992665 | I18: =I50+I104+I199 -> 278.05275 | J18: =J50+J104+J199 -> 130.32196 | K18: =K50+K104+K199 -> 102.77228 | ... M18: =M50+M104+M199 -> 0 | N18: =O18+P18 -> 31.243819 | O18: =O50+O104+O199 -> 31.243819 | P18: =P50+P104+P199 -> 0 | Q18: =Q50+Q104+Q199 -> 7.1651805 | T18: TRUE | U18: TRUE | V18: TRUE | W18: TRUE | X18: TRUE | Y18: TRUE | Z18: TRUE | AA18: TRUE | AB18: TRUE | AC18: TRUE | AD18: TRUE | AE18: TRUE | AF18: TRUE | AG18: TRUE
B19: A.6.1. | C19: Darbo užmokesčio sąnaudos | D19: =D51+D105+D200 -> 447.13664 | E19: =E51+E105+E200 -> 138.12946 | F19: =F51+F105+F200 -> 41.722613 | G19: =G51+G105+G200 -> 14.344558 | H19: =H51+H105+H200 -> 82.062289 | I19: =I51+I105+I200 -> 271.39116 | J19: =J51+J105+J200 -> 127.15285 | K19: =K51+K105+K200 -> 100.30265 | ... M19: =M51+M105+M200 -> 0 | N19: =O19+P19 -> 30.602994 | O19: =O51+O105+O200 -> 30.602994 | P19: =P51+P105+P200 -> 0 | Q19: =Q51+Q105+Q200 -> 7.0130234 | T19: TRUE | U19: TRUE | V19: TRUE | W19: TRUE | X19: TRUE | Y19: TRUE | Z19: TRUE | AA19: TRUE | AB19: TRUE | AC19: TRUE | AD19: TRUE | AE19: TRUE | AF19: TRUE | AG19: TRUE
B20: A.7. | C20: Perkamų paslaugų (veiklos rangos) sąnaudos | D20: =D30+D31+D45+D65+D67+D71+D73+D74+D75+D77+D83+D84+D99+D117+D119+D123+D126+D127+D129+D135+D136+D194+D212+D214+D218+D220+D221+D222+D224+D231+D232+D125 -> 144.73309 | E20: =E30+E31+E45+E65+E67+E71+E73+E74+E75+E77+E83+E84+E99+E117+E119+E123+E126+E127+E129+E135+E136+E194+E212+E214+E218+E220+E221+E222+E224+E231+E232+E125 -> 45.13069 | F20: =F30+F31+F45+F65+F67+F71+F73+F74+F75+F77+F83+F84+F99+F117+F119+F123+F126+F127+F129+F135+F136+F194+F212+F214+F218+F220+F221+F222+F224+F231+F232+F125 -> 1.9502026 | G20: =G30+G31+G45+G65+G67+G71+G73+G74+G75+G77+G83+G84+G99+G117+G119+G123+G126+G127+G129+G135+G136+G194+G212+G214+G218+G220+G221+G222+G224+G231+G232+G125 -> 21.015709 | H20: =H30+H31+H45+H65+H67+H71+H73+H74+H75+H77+H83+H84+H99+H117+H119+H123+H126+H127+H129+H135+H136+H194+H212+H214+H218+H220+H221+H222+H224+H231+H232+H125 -> 22.164779 | I20: =I30+I31+I45+I65+I67+I71+I73+I74+I75+I77+I83+I84+I99+I117+I119+I123+I126+I127+I129+I135+I136+I194+I212+I214+I218+I220+I221+I222+I224+I231+I232+I125 -> 96.564682 | J20: =J30+J31+J45+J65+J67+J71+J73+J74+J75+J77+J83+J84+J99+J117+J119+J123+J126+J127+J129+J135+J136+J194+J212+J214+J218+J220+J221+J222+J224+J231+J232+J125 -> 45.115457 | K20: =K30+K31+K45+K65+K67+K71+K73+K74+K75+K77+K83+K84+K99+K117+K119+K123+K126+K127+K129+K135+K136+K194+K212+K214+K218+K220+K221+K222+K224+K231+K232+K125 -> 44.809234 | ... M20: =M30+M31+M45+M65+M67+M71+M73+M74+M75+M77+M83+M84+M99+M117+M119+M123+M126+M127+M129+M135+M136+M194+M212+M214+M218+M220+M221+M222+M224+M231+M232+M125 -> 0 | N20: =O20+P20 -> 1.3732499 | O20: =O30+O31+O45+O65+O67+O71+O73+O74+O75+O77+O83+O84+O99+O117+O119+O123+O126+O127+O129+O135+O136+O194+O212+O214+O218+O220+O221+O222+O224+O231+O232+O125 -> 1.3732499 | P20: =P30+P31+P45+P65+P67+P71+P73+P74+P75+P77+P83+P84+P99+P117+P119+P123+P126+P127+P129+P135+P136+P194+P212+P214+P218+P220+P221+P222+P224+P231+P232+P125 -> 0 | Q20: =Q30+Q31+Q45+Q65+Q67+Q71+Q73+Q74+Q75+Q77+Q83+Q84+Q99+Q117+Q119+Q123+Q126+Q127+Q129+Q135+Q136+Q194+Q212+Q214+Q218+Q220+Q221+Q222+Q224+Q231+Q232+Q125 -> 1.6644674 | T20: TRUE | U20: TRUE | V20: TRUE | W20: TRUE | X20: TRUE | Y20: TRUE | Z20: TRUE | AA20: TRUE | AB20: TRUE | AC20: TRUE | AD20: TRUE | AE20: TRUE | AF20: TRUE | AG20: TRUE
B21: A.B. | C21: VISOS PASKIRSTOMOSIOS SĄNAUDOS, IŠ ŠIO SKAIČIAUS: | D21: =D27+D88+D184 -> 1206.4114 | E21: =E27+E88+E184 -> 350.91877 | F21: =F27+F88+F184 -> 94.680804 | G21: =G27+G88+G184 -> 70.270182 | H21: =H27+H88+H184 -> 185.96778 | I21: =I27+I88+I184 -> 800.53367 | J21: =J27+J88+J184 -> 347.17447 | K21: =K27+K88+K184 -> 363.07383 | ... M21: =M27+M88+M184 -> 0 | N21: =O21+P21 -> 42.84958 | O21: =O27+O88+O184 -> 42.84958 | P21: =P27+P88+P184 -> 0 | Q21: =Q27+Q88+Q184 -> 12.109418 | T21: TRUE | U21: TRUE | V21: TRUE | W21: TRUE | X21: TRUE | Y21: TRUE | Z21: TRUE | AA21: TRUE | AB21: TRUE | AC21: TRUE | AD21: TRUE | AE21: TRUE | AF21: TRUE | AG21: TRUE
B22: A.B.1. | C22: Pastoviosios paskirstomosios sąnaudos, iš šio skaičius: | D22: =O22+E22+I22+M22+P22+Q22 -> 1038.25 | E22: =SUM(E23:E25) -> 298.43775 | F22: =SUM(F23:F25) -> 56.061974 | G22: =SUM(G23:G25) -> 67.477372 | H22: =SUM(H23:H25) -> 174.8984 | I22: =SUM(I23:I25) -> 684.85328 | J22: =SUM(J23:J25) -> 320.62777 | K22: =SUM(K23:K25) -> 273.94014 | L22: =SUM(L23:L25) -> 90.285379 | M22: =SUM(M23:M25) -> 0 | N22: =O22+P22 -> 42.84958 | O22: =SUM(O23:O25) -> 42.84958 | P22: =SUM(P23:P25) -> 0 | Q22: =SUM(Q23:Q25) -> 12.109418 | T22: TRUE | U22: TRUE | V22: TRUE | W22: TRUE | X22: TRUE | Y22: TRUE | Z22: TRUE | AA22: TRUE | AB22: TRUE | AC22: TRUE | AD22: TRUE | AE22: TRUE | AF22: TRUE | AG22: TRUE
B23: A.B.1.1. | C23: Tiesioginės pastoviosios sąnaudos | D23: =O23+E23+I23+M23+P23+Q23 -> 645.39816 | E23: =SUM(F23:H23) -> 190.8265 | F23: =F27-F28-F29-F33-F36-F37-F56-F57-F87 -> 42.184452 | G23: =G27-G28-G29-G33-G36-G37-G56-G57-G87 -> 45.174944 | H23: =H27-H28-H29-H33-H36-H37-H56-H57-H87 -> 103.46711 | I23: =SUM(J23:L23) -> 411.58382 | J23: =J27-J28-J29-J33-J36-J37-J56-J57-J87 -> 170.37644 | K23: =K27-K28-K29-K33-K36-K37-K56-K57-K87 -> 187.00271 | L23: =L27-L28-L29-L33-L36-L37-L56-L57-L87 -> 54.204675 | M23: =M27-M28-M29-M33-M36-M37-M56-M57-M87 -> 0 | N23: =O23+P23 -> 33.512955 | O23: =O27-O28-O29-O33-O36-O37-O56-O57-O87 -> 33.512955 | P23: =P27-P28-P29-P33-P36-P37-P56-P57-P87 -> 0 | Q23: =Q27-Q28-Q29-Q33-Q36-Q37-Q56-Q57-Q87 -> 9.474878 | T23: TRUE | U23: TRUE | V23: TRUE | W23: TRUE | X23: TRUE | Y23: TRUE | Z23: TRUE | AA23: TRUE | AB23: TRUE | AC23: TRUE | AD23: TRUE | AE23: TRUE | AF23: TRUE | AG23: TRUE
B24: A.B.1.2. | C24: Netiesioginės pastoviosios sąnaudos | D24: =O24+E24+I24+M24+P24+Q24 -> 166.96889 | E24: =SUM(F24:H24) -> 42.682754 | F24: =F88-F90-F138 -> 1.6806081 | G24: =G88-G90-G138 -> 7.6219661 | H24: =H88-H90-H138 -> 33.38018 | I24: =SUM(J24:L24) -> 124.27192 | J24: =J88-J90-J138 -> 80.495146 | K24: =K88-K90-K138 -> 27.33867 | L24: =L88-L90-L138 -> 16.438103 | M24: =M88-M90-M138 -> 0 | N24: =O24+P24 -> 0.01421591 | O24: =O88-O90-O138 -> 0.01421591 | P24: =P88-P90-P138 -> 0 | Q24: =Q88-Q90-Q138 -> 0 | T24: TRUE | U24: TRUE | V24: TRUE | W24: TRUE | X24: TRUE | Y24: TRUE | Z24: TRUE | AA24: TRUE | AB24: TRUE | AC24: TRUE | AD24: TRUE | AE24: TRUE | AF24: TRUE | AG24: TRUE
B25: A.B.1.3. | C25: Bendrosios pastoviosios sąnaudos | D25: =O25+E25+I25+M25+P25+Q25 -> 225.88298 | E25: =SUM(F25:H25) -> 64.928491 | F25: =F184 -> 12.196913 | G25: =G184 -> 14.680462 | H25: =H184 -> 38.051116 | I25: =SUM(J25:L25) -> 148.99754 | J25: =J184 -> 69.75618 | K25: =K184 -> 59.59876 | L25: =L184 -> 19.6426 | M25: =M184 -> 0 | N25: =O25+P25 -> 9.3224084 | O25: =O184 -> 9.3224084 | P25: =P184 -> 0 | Q25: =Q184 -> 2.6345402 | T25: TRUE | U25: TRUE | V25: TRUE | W25: TRUE | X25: TRUE | Y25: TRUE | Z25: TRUE | AA25: TRUE | AB25: TRUE | AC25: TRUE | AD25: TRUE | AE25: TRUE | AF25: TRUE | AG25: 0
B26: A.B.2. | C26: Kintamosios paskirstomosios sąnaudos | D26: =O26+E26+I26+M26+P26+Q26 -> 168.16141 | E26: =SUM(F26:H26) -> 52.48102 | F26: =F28+F29+F33+F36+F37+F56+F57+F87+F90+F138 -> 38.61883 | G26: =G28+G29+G33+G36+G37+G56+G57+G87+G90+G138 -> 2.79281 | H26: =H28+H29+H33+H36+H37+H56+H57+H87+H90+H138 -> 11.06938 | I26: =SUM(J26:L26) -> 115.68039 | J26: =J28+J29+J33+J36+J37+J56+J57+J87+J90+J138 -> 26.5467 | K26: =K28+K29+K33+K36+K37+K56+K57+K87+K90+K138 -> 89.13369 | L26: =L28+L29+L33+L36+L37+L56+L57+L87+L90+L138 -> 0 | M26: =M28+M29+M33+M36+M37+M56+M57+M87+M90+M138 -> 0 | N26: =O26+P26 -> 0 | O26: =O28+O29+O33+O36+O37+O56+O57+O87+O90+O138 -> 0 | P26: =P28+P29+P33+P36+P37+P56+P57+P87+P90+P138 -> 0 | Q26: =Q28+Q29+Q33+Q36+Q37+Q56+Q57+Q87+Q90+Q138 -> 0 | T26: TRUE | U26: TRUE | V26: TRUE | W26: TRUE | X26: TRUE | Y26: TRUE | Z26: TRUE | AA26: TRUE | AB26: TRUE | AC26: TRUE | AD26: TRUE | AE26: TRUE | AF26: TRUE | AG26: TRUE
B27: B. | C27: TIESIOGINĖS SĄNAUDOS | D27: =O27+E27+I27+M27+P27+Q27 -> 813.55957 | E27: =SUM(F27:H27) -> 243.30752 | F27: =F28+F29+F32+F35+F38+F41+F43+F49+F50+F55+F61+F64+F79+F80 -> 80.803282 | G27: =G28+G29+G32+G35+G38+G41+G43+G49+G50+G55+G61+G64+G79+G80 -> 47.967754 | H27: =H28+H29+H32+H35+H38+H41+H43+H49+H50+H55+H61+H64+H79+H80 -> 114.53649 | I27: =SUM(J27:L27) -> 527.26421 | J27: =J28+J29+J32+J35+J38+J41+J43+J49+J50+J55+J61+J64+J79+J80 -> 196.92314 | K27: =K28+K29+K32+K35+K38+K41+K43+K49+K50+K55+K61+K64+K79+K80 -> 276.1364 | L27: =L28+L29+L32+L35+L38+L41+L43+L49+L50+L55+L61+L64+L79+L80 -> 54.204675 | M27: =M28+M29+M32+M35+M38+M41+M43+M49+M50+M55+M61+M64+M79+M80 -> 0 | N27: =O27+P27 -> 33.512955 | O27: =O28+O29+O32+O35+O38+O41+O43+O49+O50+O55+O61+O64+O79+O80 -> 33.512955 | P27: =P28+P29+P32+P35+P38+P41+P43+P49+P50+P55+P61+P64+P79+P80 -> 0 | Q27: =Q28+Q29+Q32+Q35+Q38+Q41+Q43+Q49+Q50+Q55+Q61+Q64+Q79+Q80 -> 9.474878 | T27: TRUE | U27: TRUE | V27: TRUE | W27: TRUE | X27: TRUE | Y27: TRUE | Z27: TRUE | AA27: TRUE | AB27: TRUE | AC27: TRUE | AD27: TRUE | AE27: TRUE | AF27: TRUE | AG27: TRUE
B28: B.1. | C28: Geriamojo vandens įsigijimo sąnaudos | D28: =O28+E28+I28+M28+P28+Q28 -> 0 | E28: =SUM(F28:H28) -> 0 | F28: 0 | G28: 0 | H28: 0 | I28: =SUM(J28:L28) -> 0 | J28: 0 | K28: 0 | L28: 0 | M28: 0 | N28: =O28+P28 -> 0 | O28: 0 | P28: 0 | Q28: 0 | T28: TRUE | U28: TRUE | V28: TRUE | W28: TRUE | X28: TRUE | Y28: TRUE | Z28: TRUE | AA28: TRUE | AB28: TRUE | AC28: TRUE | AD28: TRUE | AE28: TRUE | AF28: TRUE | AG28: TRUE
B29: B.2. | C29: Nuotekų tvarkymo paslaugų pirkimo sąnaudos | D29: =O29+E29+I29+M29+P29+Q29 -> 0 | E29: =SUM(E30:E31) -> 0 | F29: =SUM(F30:F31) -> 0 | G29: =SUM(G30:G31) -> 0 | H29: =SUM(H30:H31) -> 0 | I29: =SUM(J29:L29) -> 0 | J29: =SUM(J30:J31) -> 0 | K29: =SUM(K30:K31) -> 0 | L29: =SUM(L30:L31) -> 0 | M29: =SUM(M30:M31) -> 0 | N29: =O29+P29 -> 0 | O29: =SUM(O30:O31) -> 0 | P29: =+SUM(P30:P31) -> 0 | Q29: =+SUM(Q30:Q31) -> 0 | T29: TRUE | U29: TRUE | V29: TRUE | W29: TRUE | X29: TRUE | Y29: TRUE | Z29: TRUE | AA29: TRUE | AB29: TRUE | AC29: TRUE | AD29: TRUE | AE29: TRUE | AF29: TRUE | AG29: TRUE
B30: B.2.1. | C30: Nuotekų tvarkymo paslaugų pirkimo sąnaudos | D30: =I30+M30+P30+Q30 -> 0 | E30: =+SUM(F30:H30) -> 0 | F30: 0 | G30: 0 | H30: 0 | I30: =SUM(J30:L30) -> 0 | J30: 0 | K30: 0 | L30: 0 | M30: 0 | N30: =O30+P30 -> 0 | O30: 0 | P30: 0 | Q30: 0 | T30: TRUE | U30: TRUE | V30: TRUE | W30: TRUE | X30: TRUE | Y30: TRUE | Z30: TRUE | AA30: TRUE | AB30: TRUE | AC30: TRUE | AD30: TRUE | AE30: TRUE | AF30: TRUE | AG30: TRUE
B31: B.2.2. | C31: Dumblo tvarkymo paslaugų pirkimo sąnaudos | D31: =I31+M31+P31+Q31 -> 0 | E31: =+SUM(F31:H31) -> 0 | F31: 0 | G31: 0 | H31: 0 | I31: =SUM(J31:L31) -> 0 | J31: 0 | K31: 0 | L31: 0 | M31: 0 | N31: =O31+P31 -> 0 | O31: 0 | P31: 0 | Q31: 0 | T31: TRUE | U31: TRUE | V31: TRUE | W31: TRUE | X31: TRUE | Y31: TRUE | Z31: TRUE | AA31: TRUE | AB31: TRUE | AC31: TRUE | AD31: TRUE | AE31: TRUE | AF31: TRUE | AG31: TRUE
B32: B.3. | C32: Elektros energijos sąnaudos | D32: =O32+E32+I32+M32+P32+Q32 -> 125.07741 | E32: =E33+E34 -> 32.31202 | F32: =F33+F34 -> 18.44983 | G32: =G33+G34 -> 2.79281 | H32: =H33+H34 -> 11.06938 | I32: =SUM(J32:L32) -> 92.76539 | J32: =SUM(J33:J34) -> 26.5467 | K32: =SUM(K33:K34) -> 66.21869 | L32: =SUM(L33:L34) -> 0 | M32: =SUM(M33:M34) -> 0 | N32: =O32+P32 -> 0 | O32: =O33+O34 -> 0 | P32: =SUM(P33:P34) -> 0 | Q32: =SUM(Q33:Q34) -> 0 | T32: TRUE | U32: TRUE | V32: TRUE | W32: TRUE | X32: TRUE | Y32: TRUE | Z32: TRUE | AA32: TRUE | AB32: TRUE | AC32: TRUE | AD32: TRUE | AE32: TRUE | AF32: TRUE | AG32: TRUE
B33: B.3.1. | C33: Elektros energija siurbliams, orapūtėms, maišyklėms ir kitiems technologiniams įrenginiams | D33: =O33+E33+I33+M33+P33+Q33 -> 125.07741 | E33: =SUM(F33:H33) -> 32.31202 | F33: 18.44983 | G33: 2.79281 | H33: 11.06938 | I33: =SUM(J33:L33) -> 92.76539 | J33: 26.5467 | K33: 66.21869 | L33: 0 | M33: 0 | N33: =O33+P33 -> 0 | O33: 0 | P33: 0 | Q33: 0 | T33: TRUE | U33: TRUE | V33: TRUE | W33: TRUE | X33: TRUE | Y33: TRUE | Z33: TRUE | AA33: TRUE | AB33: TRUE | AC33: TRUE | AD33: TRUE | AE33: TRUE | AF33: TRUE | AG33: TRUE
B34: B.3.2. | C34: Patalpų šildymo, apšvietimo, vėdinimo ir eksploatacijos elektros energijos sąnaudos | D34: =O34+E34+I34+M34+P34+Q34 -> 0 | E34: =SUM(F34:H34) -> 0 | F34: 0 | G34: 0 | H34: 0 | I34: =SUM(J34:L34) -> 0 | J34: 0 | K34: 0 | L34: 0 | M34: 0 | N34: =O34+P34 -> 0 | O34: 0 | P34: 0 | Q34: 0 | T34: TRUE | U34: TRUE | V34: TRUE | W34: TRUE | X34: TRUE | Y34: TRUE | Z34: TRUE | AA34: TRUE | AB34: TRUE | AC34: TRUE | AD34: TRUE | AE34: TRUE | AF34: TRUE | AG34: TRUE
B35: B.4. | C35: Technologinių medžiagų ir technologinio kuro sąnaudos | D35: =O35+E35+I35+M35+P35+Q35 -> 13.68 | E35: =SUM(F35:H35) -> 0 | F35: =F36 -> 0 | G35: =G36 -> 0 | H35: =H36 -> 0 | I35: =SUM(J35:L35) -> 13.68 | J35: =SUM(J36:J37) -> 0 | K35: =SUM(K36:K37) -> 13.68 | L35: =SUM(L36:L37) -> 0 | M35: =SUM(M36:M37) -> 0 | N35: =O35+P35 -> 0 | O35: =O36+O37 -> 0 | P35: =SUM(P36:P37) -> 0 | Q35: =SUM(Q36:Q37) -> 0 | T35: TRUE | U35: TRUE | V35: TRUE | W35: TRUE | X35: TRUE | Y35: TRUE | Z35: TRUE | AA35: TRUE | AB35: TRUE | AC35: TRUE | AD35: TRUE | AE35: TRUE | AF35: TRUE | AG35: TRUE
B36: B.4.1. | C36: Technologinių medžiagų sąnaudos | D36: =O36+E36+I36+M36+P36+Q36 -> 13.68 | E36: =SUM(F36:H36) -> 0 | F36: 0 | G36: 0 | H36: 0 | I36: =SUM(J36:L36) -> 13.68 | J36: 0 | K36: 13.68 | L36: 0 | M36: 0 | N36: =O36+P36 -> 0 | O36: 0 | P36: 0 | Q36: 0 | T36: TRUE | U36: TRUE | V36: TRUE | W36: TRUE | X36: TRUE | Y36: TRUE | Z36: TRUE | AA36: TRUE | AB36: TRUE | AC36: TRUE | AD36: TRUE | AE36: TRUE | AF36: TRUE | AG36: TRUE
B37: B.4.2. | C37: Technologinio kuro sąnaudos | D37: =O37+E37+I37+M37+P37+Q37 -> 0 | E37: =SUM(F37:H37) -> 0 | F37: 0 | G37: 0 | H37: 0 | I37: =SUM(J37:L37) -> 0 | J37: 0 | K37: 0 | L37: 0 | M37: 0 | N37: =O37+P37 -> 0 | O37: 0 | P37: 0 | Q37: 0 | T37: TRUE | U37: TRUE | V37: TRUE | W37: TRUE | X37: TRUE | Y37: TRUE | Z37: TRUE | AA37: TRUE | AB37: TRUE | AC37: TRUE | AD37: TRUE | AE37: TRUE | AF37: TRUE | AG37: TRUE
B38: B.5. | C38: Kuro transportui sąnaudos | D38: =O38+E38+I38+M38+P38+Q38 -> 44.64055 | E38: =SUM(F38:H38) -> 6.61333 | F38: =SUM(F39:F40) -> 0.22605 | G38: =SUM(G39:G40) -> 0 | H38: =SUM(H39:H40) -> 6.38728 | I38: =SUM(J38:L38) -> 34.466468 | J38: =SUM(J39:J40) -> 18.081178 | K38: =SUM(K39:K40) -> 3.24824 | L38: =SUM(L39:L40) -> 13.13705 | M38: =SUM(M39:M40) -> 0 | N38: =O38+P38 -> 0.77128 | O38: =SUM(O39:O40) -> 0.77128 | P38: =SUM(P39:P40) -> 0 | Q38: =SUM(Q39:Q40) -> 2.789472 | T38: TRUE | U38: TRUE | V38: TRUE | W38: TRUE | X38: TRUE | Y38: TRUE | Z38: TRUE | AA38: TRUE | AB38: TRUE | AC38: TRUE | AD38: TRUE | AE38: TRUE | AF38: TRUE | AG38: TRUE
B39: B.5.1. | C39: Kuras mašinoms ir gamybiniam transportui (asenizacijos transporto priemonėms, transportui dumblui, vandeniui vežti, autobusams žmonėms vežti) | D39: =O39+E39+I39+M39+P39+Q39 -> 43.86927 | E39: =SUM(F39:H39) -> 6.61333 | F39: 0.22605 | G39: 0 | H39: 6.38728 | I39: =SUM(J39:L39) -> 34.466468 | J39: 18.081178 | K39: 3.24824 | L39: 13.13705 | M39: 0 | N39: =O39+P39 -> 0 | O39: 0 | P39: 0 | Q39: 2.789472 | T39: TRUE | U39: TRUE | V39: TRUE | W39: TRUE | X39: TRUE | Y39: TRUE | Z39: TRUE | AA39: TRUE | AB39: TRUE | AC39: TRUE | AD39: TRUE | AE39: TRUE | AF39: TRUE | AG39: TRUE
B40: B.5.2. | C40: Kuras lengviesiems automobiliams | D40: =O40+E40+I40+M40+P40+Q40 -> 0.77128 | E40: =SUM(F40:H40) -> 0 | F40: 0 | G40: 0 | H40: 0 | I40: =SUM(J40:L40) -> 0 | J40: 0 | K40: 0 | L40: 0 | M40: 0 | N40: =O40+P40 -> 0.77128 | O40: 0.77128 | P40: 0 | Q40: 0 | T40: TRUE | U40: TRUE | V40: TRUE | W40: TRUE | X40: TRUE | Y40: TRUE | Z40: TRUE | AA40: TRUE | AB40: TRUE | AC40: TRUE | AD40: TRUE | AE40: TRUE | AF40: TRUE | AG40: TRUE
B41: B.6. | C41: Šilumos energijos sąnaudos | D41: =O41+E41+I41+M41+P41+Q41 -> 0 | E41: =SUM(F41:H41) -> 0 | F41: =F42 -> 0 | G41: =G42 -> 0 | H41: =H42 -> 0 | I41: =SUM(J41:L41) -> 0 | J41: =J42 -> 0 | K41: =K42 -> 0 | L41: =L42 -> 0 | M41: =M42 -> 0 | N41: =O41+P41 -> 0 | O41: =O42 -> 0 | P41: =P42 -> 0 | Q41: =Q42 -> 0 | T41: TRUE | U41: TRUE | V41: TRUE | W41: TRUE | X41: TRUE | Y41: TRUE | Z41: TRUE | AA41: TRUE | AB41: TRUE | AC41: TRUE | AD41: TRUE | AE41: TRUE | AF41: TRUE | AG41: TRUE
B42: B.6.1. | C42: Šilumos energijos patalpų šildymui sąnaudos | D42: =O42+E42+I42+M42+P42+Q42 -> 0 | E42: =SUM(F42:H42) -> 0 | F42: 0 | G42: 0 | H42: 0 | I42: =SUM(J42:L42) -> 0 | J42: 0 | K42: 0 | L42: 0 | M42: 0 | N42: =O42+P42 -> 0 | O42: 0 | P42: 0 | Q42: 0 | T42: TRUE | U42: TRUE | V42: TRUE | W42: TRUE | X42: TRUE | Y42: TRUE | Z42: TRUE | AA42: TRUE | AB42: TRUE | AC42: TRUE | AD42: TRUE | AE42: TRUE | AF42: TRUE | AG42: TRUE
B43: B.7. | C43: Einamojo remonto ir aptarnavimo sąnaudos | D43: =O43+E43+I43+M43+P43+Q43 -> 109.26739 | E43: =SUM(F43:H43) -> 35.03995 | F43: =SUM(F44:F48) -> 0.25084 | G43: =SUM(G44:G48) -> 18.15121 | H43: =SUM(H44:H48) -> 16.6379 | I43: =SUM(J43:L43) -> 73.61921 | J43: =SUM(J44:J48) -> 35.91768 | K43: =SUM(K44:K48) -> 18.89675 | L43: =SUM(L44:L48) -> 18.80478 | M43: =SUM(M44:M48) -> 0 | N43: =O43+P43 -> 0.60823 | O43: =SUM(O44:O48) -> 0.60823 | P43: =SUM(P44:P48) -> 0 | Q43: =SUM(Q44:Q48) -> 0 | T43: TRUE | U43: TRUE | V43: TRUE | W43: TRUE | X43: TRUE | Y43: TRUE | Z43: TRUE | AA43: TRUE | AB43: TRUE | AC43: TRUE | AD43: TRUE | AE43: TRUE | AF43: TRUE | AG43: TRUE
B44: B.7.1. | C44: Remonto medžiagų ir detalių sąnaudos | D44: =O44+E44+I44+M44+P44+Q44 -> 37.21386 | E44: =SUM(F44:H44) -> 10.90774 | F44: 0.25084 | G44: 0 | H44: 10.6569 | I44: =SUM(J44:L44) -> 25.69789 | J44: 6.69153 | K44: 2.65063 | L44: 16.35573 | M44: 0 | N44: =O44+P44 -> 0.60823 | O44: 0.60823 | P44: 0 | Q44: 0 | T44: TRUE | U44: TRUE | V44: TRUE | W44: TRUE | X44: TRUE | Y44: TRUE | Z44: TRUE | AA44: TRUE | AB44: TRUE | AC44: TRUE | AD44: TRUE | AE44: TRUE | AF44: TRUE | AG44: TRUE
B45: B.7.2. | C45: Remonto ir aptarnavimo paslaugų pirkimo sąnaudos | D45: =O45+E45+I45+M45+P45+Q45 -> 54.20944 | E45: =SUM(F45:H45) -> 18.15121 | F45: 0 | G45: 18.15121 | H45: 0 | I45: =SUM(J45:L45) -> 36.05823 | J45: 18.58154 | K45: 15.55264 | L45: 1.92405 | M45: 0 | N45: =O45+P45 -> 0 | O45: 0 | P45: 0 | Q45: 0 | T45: TRUE | U45: TRUE | V45: TRUE | W45: TRUE | X45: TRUE | Y45: TRUE | Z45: TRUE | AA45: TRUE | AB45: TRUE | AC45: TRUE | AD45: TRUE | AE45: TRUE | AF45: TRUE | AG45: TRUE
B46: B.7.3. | C46: Metrologinės patikros sąnaudos | D46: =O46+E46+I46+M46+P46+Q46 -> 1.805 | E46: =SUM(F46:H46) -> 1.615 | F46: 0 | G46: 0 | H46: 1.615 | I46: =SUM(J46:L46) -> 0.19 | J46: 0.19 | K46: 0 | L46: 0 | M46: 0 | N46: =O46+P46 -> 0 | O46: 0 | P46: 0 | Q46: 0 | T46: TRUE | U46: TRUE | V46: TRUE | W46: TRUE | X46: TRUE | Y46: TRUE | Z46: TRUE | AA46: TRUE | AB46: TRUE | AC46: TRUE | AD46: TRUE | AE46: TRUE | AF46: TRUE | AG46: TRUE
B47: B.7.4. | C47: Avarijų šalinimo sąnaudos | D47: =O47+E47+I47+M47+P47+Q47 -> 4.366 | E47: =SUM(F47:H47) -> 4.366 | F47: 0 | G47: 0 | H47: 4.366 | I47: =SUM(J47:L47) -> 0 | J47: 0 | K47: 0 | L47: 0 | M47: 0 | N47: =O47+P47 -> 0 | O47: 0 | P47: 0 | Q47: 0 | T47: TRUE | U47: TRUE | V47: TRUE | W47: TRUE | X47: TRUE | Y47: TRUE | Z47: TRUE | AA47: TRUE | AB47: TRUE | AC47: TRUE | AD47: TRUE | AE47: TRUE | AF47: TRUE | AG47: TRUE
B48: B.7.5. | C48: Kitos techninio aptarnavimo ir patikros (kėlimo mechanizmų, energetikos įrenginių) paslaugos | D48: =O48+E48+I48+M48+P48+Q48 -> 11.67309 | E48: =SUM(F48:H48) -> 0 | F48: 0 | G48: 0 | H48: 0 | I48: =SUM(J48:L48) -> 11.67309 | J48: 10.45461 | K48: 0.69348 | L48: 0.525 | M48: 0 | N48: =O48+P48 -> 0 | O48: 0 | P48: 0 | Q48: 0 | T48: TRUE | U48: TRUE | V48: TRUE | W48: TRUE | X48: TRUE | Y48: TRUE | Z48: TRUE | AA48: TRUE | AB48: TRUE | AC48: TRUE | AD48: TRUE | AE48: TRUE | AF48: TRUE | AG48: TRUE
B49: B.8. | C49: Nusidėvėjimo (amortizacijos) sąnaudos | D49: =O49+E49+I49+M49+P49+Q49 -> 241.86108 | E49: =SUM(F49:H49) -> 64.612917 | F49: 8.3439023 | G49: 27.023734 | H49: 29.245281 | I49: =SUM(J49:L49) -> 177.11381 | J49: 75.756386 | K49: 100.6055 | L49: 0.75191971 | M49: 0 | N49: =O49+P49 -> 0.13435526 | O49: 0.13435526 | P49: 0 | Q49: 0 | T49: TRUE | U49: TRUE | V49: TRUE | W49: TRUE | X49: TRUE | Y49: TRUE | Z49: TRUE | AA49: TRUE | AB49: TRUE | AC49: TRUE | AD49: TRUE | AE49: TRUE | AF49: TRUE | AG49: TRUE
B50: B.9. | C50: Personalo sąnaudos | D50: =O50+E50+I50+M50+P50+Q50 -> 198.04718 | E50: =SUM(F50:H50) -> 70.16135 | F50: =SUM(F51:F54) -> 33.36366 | G50: =SUM(G51:G54) -> 0 | H50: =SUM(H51:H54) -> 36.79769 | I50: =SUM(J50:L50) -> 97.458188 | J50: =SUM(J51:J54) -> 31.182828 | K50: =SUM(K51:K54) -> 45.16098 | L50: =SUM(L51:L54) -> 21.11438 | M50: =SUM(M51:M54) -> 0 | N50: =O50+P50 -> 25.01899 | O50: =SUM(O51:O54) -> 25.01899 | P50: =SUM(P51:P54) -> 0 | Q50: =SUM(Q51:Q54) -> 5.408652 | T50: TRUE | U50: TRUE | V50: TRUE | W50: TRUE | X50: TRUE | Y50: TRUE | Z50: TRUE | AA50: TRUE | AB50: TRUE | AC50: TRUE | AD50: TRUE | AE50: TRUE | AF50: TRUE | AG50: TRUE
B51: B.9.1. | C51: Darbo užmokesčio sąnaudos | D51: =O51+E51+I51+M51+P51+Q51 -> 194.60416 | E51: =SUM(F51:H51) -> 68.94156 | F51: 32.78339 | G51: 0 | H51: 36.15817 | I51: =SUM(J51:L51) -> 95.764118 | J51: 30.641458 | K51: 44.37551 | L51: 20.74715 | M51: 0 | N51: =O51+P51 -> 24.5839 | O51: 24.5839 | P51: 0 | Q51: 5.314582 | T51: TRUE | U51: TRUE | V51: TRUE | W51: TRUE | X51: TRUE | Y51: TRUE | Z51: TRUE | AA51: TRUE | AB51: TRUE | AC51: TRUE | AD51: TRUE | AE51: TRUE | AF51: TRUE | AG51: TRUE
B52: B.9.2. | C52: Darbdavio įmokų VSDFV ir kitų darbdavio įmokų VSDFV sąnaudos | D52: =O52+E52+I52+M52+P52+Q52 -> 3.44302 | E52: =SUM(F52:H52) -> 1.21979 | F52: 0.58027 | G52: 0 | H52: 0.63952 | I52: =SUM(J52:L52) -> 1.69407 | J52: 0.54137 | K52: 0.78547 | L52: 0.36723 | M52: 0 | N52: =O52+P52 -> 0.43509 | O52: 0.43509 | P52: 0 | Q52: 0.09407 | T52: TRUE | U52: TRUE | V52: TRUE | W52: TRUE | X52: TRUE | Y52: TRUE | Z52: TRUE | AA52: TRUE | AB52: TRUE | AC52: TRUE | AD52: TRUE | AE52: TRUE | AF52: TRUE | AG52: TRUE
B53: B.9.3. | C53: Darbo saugos sąnaudos | D53: =O53+E53+I53+M53+P53+Q53 -> 0 | E53: =SUM(F53:H53) -> 0 | F53: 0 | G53: 0 | H53: 0 | I53: =SUM(J53:L53) -> 0 | J53: 0 | K53: 0 | L53: 0 | M53: 0 | N53: =O53+P53 -> 0 | O53: 0 | P53: 0 | Q53: 0 | T53: TRUE | U53: TRUE | V53: TRUE | W53: TRUE | X53: TRUE | Y53: TRUE | Z53: TRUE | AA53: TRUE | AB53: TRUE | AC53: TRUE | AD53: TRUE | AE53: TRUE | AF53: TRUE | AG53: TRUE
B54: B.9.4. | C54: Kitos personalo sąnaudos | D54: =O54+E54+I54+M54+P54+Q54 -> 0 | E54: =SUM(F54:H54) -> 0 | F54: 0 | G54: 0 | H54: 0 | I54: =SUM(J54:L54) -> 0 | J54: 0 | K54: 0 | L54: 0 | M54: 0 | N54: =O54+P54 -> 0 | O54: 0 | P54: 0 | Q54: 0 | T54: TRUE | U54: TRUE | V54: TRUE | W54: TRUE | X54: TRUE | Y54: TRUE | Z54: TRUE | AA54: TRUE | AB54: TRUE | AC54: TRUE | AD54: TRUE | AE54: TRUE | AF54: TRUE | AG54: TRUE
B55: B.10. | C55: Mokesčių sąnaudos | D55: =O55+E55+I55+M55+P55+Q55 -> 32.03343 | E55: =SUM(F55:H55) -> 21.026795 | F55: =SUM(F56:F60) -> 20.169 | G55: =SUM(G56:G60) -> 0 | H55: =SUM(H56:H60) -> 0.85779487 | I55: =SUM(J55:L55) -> 11.006635 | J55: =SUM(J56:J60) -> 0.60549441 | K55: =SUM(K56:K60) -> 10.311435 | L55: =SUM(L56:L60) -> 0.08970552 | M55: =SUM(M56:M60) -> 0 | N55: =O55+P55 -> 0 | O55: =SUM(O56:O60) -> 0 | P55: =SUM(P56:P60) -> 0 | Q55: =SUM(Q56:Q60) -> 0 | T55: TRUE | U55: TRUE | V55: TRUE | W55: TRUE | X55: TRUE | Y55: TRUE | Z55: TRUE | AA55: TRUE | AB55: TRUE | AC55: TRUE | AD55: TRUE | AE55: TRUE | AF55: TRUE | AG55: TRUE
B56: B.10.1. | C56: Mokesčio už valstybinius gamtos išteklius sąnaudos | D56: =O56+E56+I56+M56+P56+Q56 -> 20.169 | E56: =SUM(F56:H56) -> 20.169 | F56: 20.169 | G56: 0 | H56: 0 | I56: =SUM(J56:L56) -> 0 | J56: 0 | K56: 0 | L56: 0 | M56: 0 | N56: =O56+P56 -> 0 | O56: 0 | P56: 0 | Q56: 0 | T56: TRUE | U56: TRUE | V56: TRUE | W56: TRUE | X56: TRUE | Y56: TRUE | Z56: TRUE | AA56: TRUE | AB56: TRUE | AC56: TRUE | AD56: TRUE | AE56: TRUE | AF56: TRUE | AG56: TRUE
B57: B.10.2. | C57: Mokesčio už taršą sąnaudos | D57: =O57+E57+I57+M57+P57+Q57 -> 9.235 | E57: =SUM(F57:H57) -> 0 | F57: 0 | G57: 0 | H57: 0 | I57: =SUM(J57:L57) -> 9.235 | J57: 0 | K57: 9.235 | L57: 0 | M57: 0 | N57: =O57+P57 -> 0 | O57: 0 | P57: 0 | Q57: 0 | T57: TRUE | U57: TRUE | V57: TRUE | W57: TRUE | X57: TRUE | Y57: TRUE | Z57: TRUE | AA57: TRUE | AB57: TRUE | AC57: TRUE | AD57: TRUE | AE57: TRUE | AF57: TRUE | AG57: TRUE
B58: B.10.3. | C58: Nekilnojamojo turto mokesčio sąnaudos | D58: =O58+E58+I58+M58+P58+Q58 -> 0 | E58: =SUM(F58:H58) -> 0 | F58: 0 | G58: 0 | H58: 0 | I58: =SUM(J58:L58) -> 0 | J58: 0 | K58: 0 | L58: 0 | M58: 0 | N58: =O58+P58 -> 0 | O58: 0 | P58: 0 | Q58: 0 | T58: TRUE | U58: TRUE | V58: TRUE | W58: TRUE | X58: TRUE | Y58: TRUE | Z58: TRUE | AA58: TRUE | AB58: TRUE | AC58: TRUE | AD58: TRUE | AE58: TRUE | AF58: TRUE | AG58: TRUE
B59: B.10.4. | C59: Žemės nuomos mokesčio sąnaudos | D59: =O59+E59+I59+M59+P59+Q59 -> 0 | E59: =SUM(F59:H59) -> 0 | F59: 0 | G59: 0 | H59: 0 | I59: =SUM(J59:L59) -> 0 | J59: 0 | K59: 0 | L59: 0 | M59: 0 | N59: =O59+P59 -> 0 | O59: 0 | P59: 0 | Q59: 0 | T59: TRUE | U59: TRUE | V59: TRUE | W59: TRUE | X59: TRUE | Y59: TRUE | Z59: TRUE | AA59: TRUE | AB59: TRUE | AC59: TRUE | AD59: TRUE | AE59: TRUE | AF59: TRUE | AG59: TRUE
B60: B.10.5. | C60: Kitų mokesčių sąnaudos | D60: =O60+E60+I60+M60+P60+Q60 -> 2.62943 | E60: =SUM(F60:H60) -> 0.85779487 | F60: 0 | G60: 0 | H60: 0.85779487 | I60: =SUM(J60:L60) -> 1.7716351 | J60: 0.60549441 | K60: 1.0764352 | L60: 0.08970552 | M60: 0 | N60: =O60+P60 -> 0 | O60: 0 | P60: 0 | Q60: 0 | T60: TRUE | U60: TRUE | V60: TRUE | W60: TRUE | X60: TRUE | Y60: TRUE | Z60: TRUE | AA60: TRUE | AB60: TRUE | AC60: TRUE | AD60: TRUE | AE60: TRUE | AF60: TRUE | AG60: TRUE
B61: B.11. | C61: Finansinės sąnaudos | D61: =O61+E61+I61+M61+P61+Q61 -> 0 | E61: =SUM(F61:H61) -> 0 | F61: =F62+F63 -> 0 | G61: =G62+G63 -> 0 | H61: =H62+H63 -> 0 | I61: =SUM(J61:L61) -> 0 | J61: =J62+J63 -> 0 | K61: =K62+K63 -> 0 | L61: =L62+L63 -> 0 | M61: =M62+M63 -> 0 | N61: =O61+P61 -> 0 | O61: =O62+O63 -> 0 | P61: =P62+P63 -> 0 | Q61: =Q62+Q63 -> 0 | T61: TRUE | U61: TRUE | V61: TRUE | W61: TRUE | X61: TRUE | Y61: TRUE | Z61: TRUE | AA61: TRUE | AB61: TRUE | AC61: TRUE | AD61: TRUE | AE61: TRUE | AF61: TRUE | AG61: TRUE
B62: B.11.1. | C62: Banko paslaugų (komisinių) sąnaudos | D62: =O62+E62+I62+M62+P62+Q62 -> 0 | E62: =SUM(F62:H62) -> 0 | F62: 0 | G62: 0 | H62: 0 | I62: =SUM(J62:L62) -> 0 | J62: 0 | K62: 0 | L62: 0 | M62: 0 | N62: =O62+P62 -> 0 | O62: 0 | P62: 0 | Q62: 0 | T62: TRUE | U62: TRUE | V62: TRUE | W62: TRUE | X62: TRUE | Y62: TRUE | Z62: TRUE | AA62: TRUE | AB62: TRUE | AC62: TRUE | AD62: TRUE | AE62: TRUE | AF62: TRUE | AG62: TRUE
B63: B.11.2. | C63: Kitos finansinės sąnaudos | D63: =O63+E63+I63+M63+P63+Q63 -> 0 | E63: =SUM(F63:H63) -> 0 | F63: 0 | G63: 0 | H63: 0 | I63: =SUM(J63:L63) -> 0 | J63: 0 | K63: 0 | L63: 0 | M63: 0 | N63: =O63+P63 -> 0 | O63: 0 | P63: 0 | Q63: 0 | T63: TRUE | U63: TRUE | V63: TRUE | W63: TRUE | X63: TRUE | Y63: TRUE | Z63: TRUE | AA63: TRUE | AB63: TRUE | AC63: TRUE | AD63: TRUE | AE63: TRUE | AF63: TRUE | AG63: TRUE
B64: B.12. | C64: Administracinės sąnaudos | D64: =O64+E64+I64+M64+P64+Q64 -> 0.68856 | E64: =SUM(F64:H64) -> 0.39254 | F64: =SUM(F65:F78) -> 0 | G64: =SUM(G65:G78) -> 0 | H64: =SUM(H65:H78) -> 0.39254 | I64: =SUM(J64:L64) -> 0.28602 | J64: =SUM(J65:J78) -> 0 | K64: =SUM(K65:K78) -> 0.28602 | L64: =SUM(L65:L78) -> 0 | M64: =SUM(M65:M78) -> 0 | N64: =O64+P64 -> 0.01 | O64: =SUM(O65:O78) -> 0.01 | P64: =SUM(P65:P78) -> 0 | Q64: =SUM(Q65:Q78) -> 0 | T64: TRUE | U64: TRUE | V64: TRUE | W64: TRUE | X64: TRUE | Y64: TRUE | Z64: TRUE | AA64: TRUE | AB64: TRUE | AC64: TRUE | AD64: TRUE | AE64: TRUE | AF64: TRUE | AG64: TRUE
B65: B.12.1. | C65: Teisinių paslaugų pirkimo sąnaudos | D65: =O65+E65+I65+M65+P65+Q65 -> 0 | E65: =SUM(F65:H65) -> 0 | F65: 0 | G65: 0 | H65: 0 | I65: =SUM(J65:L65) -> 0 | J65: 0 | K65: 0 | L65: 0 | M65: 0 | N65: =O65+P65 -> 0 | O65: 0 | P65: 0 | Q65: 0 | T65: TRUE | U65: TRUE | V65: TRUE | W65: TRUE | X65: TRUE | Y65: TRUE | Z65: TRUE | AA65: TRUE | AB65: TRUE | AC65: TRUE | AD65: TRUE | AE65: TRUE | AF65: TRUE | AG65: TRUE
B66: B.12.2. | C66: Žyminio mokesčio sąnaudos | D66: =O66+E66+I66+M66+P66+Q66 -> 0 | E66: =SUM(F66:H66) -> 0 | F66: 0 | G66: 0 | H66: 0 | I66: =SUM(J66:L66) -> 0 | J66: 0 | K66: 0 | L66: 0 | M66: 0 | N66: =O66+P66 -> 0 | O66: 0 | P66: 0 | Q66: 0 | T66: TRUE | U66: TRUE | V66: TRUE | W66: TRUE | X66: TRUE | Y66: TRUE | Z66: TRUE | AA66: TRUE | AB66: TRUE | AC66: TRUE | AD66: TRUE | AE66: TRUE | AF66: TRUE | AG66: TRUE
B67: B.12.3. | C67: Konsultacinių paslaugų pirkimo sąnaudos | D67: =O67+E67+I67+M67+P67+Q67 -> 0 | E67: =SUM(F67:H67) -> 0 | F67: 0 | G67: 0 | H67: 0 | I67: =SUM(J67:L67) -> 0 | J67: 0 | K67: 0 | L67: 0 | M67: 0 | N67: =O67+P67 -> 0 | O67: 0 | P67: 0 | Q67: 0 | T67: TRUE | U67: TRUE | V67: TRUE | W67: TRUE | X67: TRUE | Y67: TRUE | Z67: TRUE | AA67: TRUE | AB67: TRUE | AC67: TRUE | AD67: TRUE | AE67: TRUE | AF67: TRUE | AG67: TRUE
B68: B.12.4. | C68: Ryšių paslaugų sąnaudos | D68: =O68+E68+I68+M68+P68+Q68 -> 0.05436 | E68: =SUM(F68:H68) -> 0 | F68: 0 | G68: 0 | H68: 0 | I68: =SUM(J68:L68) -> 0.05436 | J68: 0 | K68: 0.05436 | L68: 0 | M68: 0 | N68: =O68+P68 -> 0 | O68: 0 | P68: 0 | Q68: 0 | T68: TRUE | U68: TRUE | V68: TRUE | W68: TRUE | X68: TRUE | Y68: TRUE | Z68: TRUE | AA68: TRUE | AB68: TRUE | AC68: TRUE | AD68: TRUE | AE68: TRUE | AF68: TRUE | AG68: TRUE
B69: B.12.5. | C69: Pašto, pasiuntinių paslaugų sąnaudos | D69: =O69+E69+I69+M69+P69+Q69 -> 0.01 | E69: =SUM(F69:H69) -> 0 | F69: 0 | G69: 0 | H69: 0 | I69: =SUM(J69:L69) -> 0 | J69: 0 | K69: 0 | L69: 0 | M69: 0 | N69: =O69+P69 -> 0.01 | O69: 0.01 | P69: 0 | Q69: 0 | T69: TRUE | U69: TRUE | V69: TRUE | W69: TRUE | X69: TRUE | Y69: TRUE | Z69: TRUE | AA69: TRUE | AB69: TRUE | AC69: TRUE | AD69: TRUE | AE69: TRUE | AF69: TRUE | AG69: TRUE
B70: B.12.6. | C70: Kanceliarinės sąnaudos | D70: =O70+E70+I70+M70+P70+Q70 -> 0 | E70: =SUM(F70:H70) -> 0 | F70: 0 | G70: 0 | H70: 0 | I70: =SUM(J70:L70) -> 0 | J70: 0 | K70: 0 | L70: 0 | M70: 0 | N70: =O70+P70 -> 0 | O70: 0 | P70: 0 | Q70: 0 | T70: TRUE | U70: TRUE | V70: TRUE | W70: TRUE | X70: TRUE | Y70: TRUE | Z70: TRUE | AA70: TRUE | AB70: TRUE | AC70: TRUE | AD70: TRUE | AE70: TRUE | AF70: TRUE | AG70: TRUE
B71: B.12.7. | C71: Org. inventoriaus aptarnavimo, remonto paslaugų pirkimo sąnaudos | D71: =O71+E71+I71+M71+P71+Q71 -> 0 | E71: =SUM(F71:H71) -> 0 | F71: 0 | G71: 0 | H71: 0 | I71: =SUM(J71:L71) -> 0 | J71: 0 | K71: 0 | L71: 0 | M71: 0 | N71: =O71+P71 -> 0 | O71: 0 | P71: 0 | Q71: 0 | T71: TRUE | U71: TRUE | V71: TRUE | W71: TRUE | X71: TRUE | Y71: TRUE | Z71: TRUE | AA71: TRUE | AB71: TRUE | AC71: TRUE | AD71: TRUE | AE71: TRUE | AF71: TRUE | AG71: TRUE
B72: B.12.8. | C72: Profesinės literatūros, spaudos sąnaudos | D72: =O72+E72+I72+M72+P72+Q72 -> 0 | E72: =SUM(F72:H72) -> 0 | F72: 0 | G72: 0 | H72: 0 | I72: =SUM(J72:L72) -> 0 | J72: 0 | K72: 0 | L72: 0 | M72: 0 | N72: =O72+P72 -> 0 | O72: 0 | P72: 0 | Q72: 0 | T72: TRUE | U72: TRUE | V72: TRUE | W72: TRUE | X72: TRUE | Y72: TRUE | Z72: TRUE | AA72: TRUE | AB72: TRUE | AC72: TRUE | AD72: TRUE | AE72: TRUE | AF72: TRUE | AG72: TRUE
B73: B.12.9. | C73: Patalpų priežiūros paslaugų pirkimo sąnaudos | D73: =O73+E73+I73+M73+P73+Q73 -> 0 | E73: =SUM(F73:H73) -> 0 | F73: 0 | G73: 0 | H73: 0 | I73: =SUM(J73:L73) -> 0 | J73: 0 | K73: 0 | L73: 0 | M73: 0 | N73: =O73+P73 -> 0 | O73: 0 | P73: 0 | Q73: 0 | T73: TRUE | U73: TRUE | V73: TRUE | W73: TRUE | X73: TRUE | Y73: TRUE | Z73: TRUE | AA73: TRUE | AB73: TRUE | AC73: TRUE | AD73: TRUE | AE73: TRUE | AF73: TRUE | AG73: TRUE
B74: B.12.10. | C74: Apskaitos ir audito paslaugų pirkimo sąnaudos | D74: =O74+E74+I74+M74+P74+Q74 -> 0 | E74: =SUM(F74:H74) -> 0 | F74: 0 | G74: 0 | H74: 0 | I74: =SUM(J74:L74) -> 0 | J74: 0 | K74: 0 | L74: 0 | M74: 0 | N74: =O74+P74 -> 0 | O74: 0 | P74: 0 | Q74: 0 | T74: TRUE | U74: TRUE | V74: TRUE | W74: TRUE | X74: TRUE | Y74: TRUE | Z74: TRUE | AA74: TRUE | AB74: TRUE | AC74: TRUE | AD74: TRUE | AE74: TRUE | AF74: TRUE | AG74: TRUE
B75: B.12.11. | C75: Transporto paslaugų pirkimo sąnaudos | D75: =O75+E75+I75+M75+P75+Q75 -> 0.6242 | E75: =SUM(F75:H75) -> 0.39254 | F75: 0 | G75: 0 | H75: 0.39254 | I75: =SUM(J75:L75) -> 0.23166 | J75: 0 | K75: 0.23166 | L75: 0 | M75: 0 | N75: =O75+P75 -> 0 | O75: 0 | P75: 0 | Q75: 0 | T75: TRUE | U75: TRUE | V75: TRUE | W75: TRUE | X75: TRUE | Y75: TRUE | Z75: TRUE | AA75: TRUE | AB75: TRUE | AC75: TRUE | AD75: TRUE | AE75: TRUE | AF75: TRUE | AG75: TRUE
B76: B.12.12. | C76: Įmokų administravimo paslaugų sąnaudos | D76: =O76+E76+I76+M76+P76+Q76 -> 0 | E76: =SUM(F76:H76) -> 0 | F76: 0 | G76: 0 | H76: 0 | I76: =SUM(J76:L76) -> 0 | J76: 0 | K76: 0 | L76: 0 | M76: 0 | N76: =O76+P76 -> 0 | O76: 0 | P76: 0 | Q76: 0 | T76: TRUE | U76: TRUE | V76: TRUE | W76: TRUE | X76: TRUE | Y76: TRUE | Z76: TRUE | AA76: TRUE | AB76: TRUE | AC76: TRUE | AD76: TRUE | AE76: TRUE | AF76: TRUE | AG76: TRUE
... B79: B.13. | C79: Rinkodaros ir pardavimų sąnaudos | D79: =O79+E79+I79+M79+P79+Q79 -> 0 | E79: =SUM(F79:H79) -> 0 | F79: 0 | G79: 0 | H79: 0 | I79: =SUM(J79:L79) -> 0 | J79: 0 | K79: 0 | L79: 0 | M79: 0 | N79: =O79+P79 -> 0 | O79: 0 | P79: 0 | Q79: 0 | T79: TRUE | U79: TRUE | V79: TRUE | W79: TRUE | X79: TRUE | Y79: TRUE | Z79: TRUE | AA79: TRUE | AB79: TRUE | AC79: TRUE | AD79: TRUE | AE79: TRUE | AF79: TRUE | AG79: TRUE
B80: B.14. | C80: Kitos sąnaudos | D80: =O80+E80+I80+M80+P80+Q80 -> 48.26397 | E80: =SUM(F80:H80) -> 13.14862 | F80: =SUM(F81:F87) -> 0 | G80: =SUM(G81:G87) -> 0 | H80: =SUM(H81:H87) -> 13.14862 | I80: =SUM(J80:L80) -> 26.868496 | J80: =SUM(J81:J87) -> 8.832876 | K80: =SUM(K81:K87) -> 17.72878 | L80: =SUM(L81:L87) -> 0.30684 | M80: =SUM(M81:M87) -> 0 | N80: =O80+P80 -> 6.9701 | O80: =SUM(O81:O87) -> 6.9701 | P80: =SUM(P81:P87) -> 0 | Q80: =SUM(Q81:Q87) -> 1.276754 | T80: TRUE | U80: TRUE | V80: TRUE | W80: TRUE | X80: TRUE | Y80: TRUE | Z80: TRUE | AA80: TRUE | AB80: TRUE | AC80: TRUE | AD80: TRUE | AE80: TRUE | AF80: TRUE | AG80: TRUE
B81: B.14.1. | C81: Turto nuomos sąnaudos | D81: =O81+E81+I81+M81+P81+Q81 -> 0.05952 | E81: =SUM(F81:H81) -> 0.05952 | F81: 0 | G81: 0 | H81: 0.05952 | I81: =SUM(J81:L81) -> 0 | J81: 0 | K81: 0 | L81: 0 | M81: 0 | N81: =O81+P81 -> 0 | O81: 0 | P81: 0 | Q81: 0 | T81: TRUE | U81: TRUE | V81: TRUE | W81: TRUE | X81: TRUE | Y81: TRUE | Z81: TRUE | AA81: TRUE | AB81: TRUE | AC81: TRUE | AD81: TRUE | AE81: TRUE | AF81: TRUE | AG81: TRUE
B82: B.14.2. | C82: Draudimo sąnaudos | D82: =O82+E82+I82+M82+P82+Q82 -> 0 | E82: =SUM(F82:H82) -> 0 | F82: 0 | G82: 0 | H82: 0 | I82: =SUM(J82:L82) -> 0 | J82: 0 | K82: 0 | L82: 0 | M82: 0 | N82: =O82+P82 -> 0 | O82: 0 | P82: 0 | Q82: 0 | T82: TRUE | U82: TRUE | V82: TRUE | W82: TRUE | X82: TRUE | Y82: TRUE | Z82: TRUE | AA82: TRUE | AB82: TRUE | AC82: TRUE | AD82: TRUE | AE82: TRUE | AF82: TRUE | AG82: TRUE
B83: B.14.3. | C83: Laboratorinių tyrimų pirkimo sąnaudos | D83: =O83+E83+I83+M83+P83+Q83 -> 25.80075 | E83: =SUM(F83:H83) -> 11.31637 | F83: 0 | G83: 0 | H83: 11.31637 | I83: =SUM(J83:L83) -> 14.48438 | J83: 0 | K83: 14.17754 | L83: 0.30684 | M83: 0 | N83: =O83+P83 -> 0 | O83: 0 | P83: 0 | Q83: 0 | T83: TRUE | U83: TRUE | V83: TRUE | W83: TRUE | X83: TRUE | Y83: TRUE | Z83: TRUE | AA83: TRUE | AB83: TRUE | AC83: TRUE | AD83: TRUE | AE83: TRUE | AF83: TRUE | AG83: TRUE
B84: B.14.4. | C84: Kitų paslaugų pirkimo sąnaudos | D84: =O84+E84+I84+M84+P84+Q84 -> 15.4336 | E84: =SUM(F84:H84) -> 1.77273 | F84: 0 | G84: 0 | H84: 1.77273 | I84: =SUM(J84:L84) -> 12.384116 | J84: 8.832876 | K84: 3.55124 | L84: 0 | M84: 0 | N84: =O84+P84 -> 0 | O84: 0 | P84: 0 | Q84: 1.276754 | T84: TRUE | U84: TRUE | V84: TRUE | W84: TRUE | X84: TRUE | Y84: TRUE | Z84: TRUE | AA84: TRUE | AB84: TRUE | AC84: TRUE | AD84: TRUE | AE84: TRUE | AF84: TRUE | AG84: TRUE
B85: B.14.5. | C85: Kitos pastoviosios sąnaudos | D85: =O85+E85+I85+M85+P85+Q85 -> 0 | E85: =SUM(F85:H85) -> 0 | F85: 0 | G85: 0 | H85: 0 | I85: =SUM(J85:L85) -> 0 | J85: 0 | K85: 0 | L85: 0 | M85: 0 | N85: =O85+P85 -> 0 | O85: 0 | P85: 0 | Q85: 0 | T85: TRUE | U85: TRUE | V85: TRUE | W85: TRUE | X85: TRUE | Y85: TRUE | Z85: TRUE | AA85: TRUE | AB85: TRUE | AC85: TRUE | AD85: TRUE | AE85: TRUE | AF85: TRUE | AG85: TRUE
B86: B.14.6. | C86: Trumpalaikio turto (vandens ir nuotekų apskaitos prietaisai) nurašymo sąnaudos | D86: =O86+E86+I86+M86+P86+Q86 -> 6.9701 | E86: =SUM(F86:H86) -> 0 | F86: 0 | G86: 0 | H86: 0 | I86: =SUM(J86:L86) -> 0 | J86: 0 | K86: 0 | L86: 0 | M86: 0 | N86: =O86+P86 -> 6.9701 | O86: 6.9701 | P86: 0 | Q86: 0 | T86: TRUE | U86: TRUE | V86: TRUE | W86: TRUE | X86: TRUE | Y86: TRUE | Z86: TRUE | AA86: TRUE | AB86: TRUE | AC86: TRUE | AD86: TRUE | AE86: TRUE | AF86: TRUE | AG86: TRUE
B87: B.14.7. | C87: Kitos kintamosios sąnaudos | D87: =O87+E87+I87+M87+P87+Q87 -> 0 | E87: =SUM(F87:H87) -> 0 | F87: 0 | G87: 0 | H87: 0 | I87: =SUM(J87:L87) -> 0 | J87: 0 | K87: 0 | L87: 0 | M87: 0 | N87: =O87+P87 -> 0 | O87: 0 | P87: 0 | Q87: 0 | T87: TRUE | U87: TRUE | V87: TRUE | W87: TRUE | X87: TRUE | Y87: TRUE | Z87: TRUE | AA87: TRUE | AB87: TRUE | AC87: TRUE | AD87: TRUE | AE87: TRUE | AF87: TRUE | AG87: TRUE
B88: C. | C88: NETIESIOGINĖS SĄNAUDOS | D88: =D89+D92+D95+D97+D103+D104+D109+D113+D116+D131+D132 -> 166.96889 | E88: =SUM(F88:H88) -> 42.682754 | F88: =F89+F92+F95+F97+F103+F104+F109+F113+F116+F131+F132 -> 1.6806081 | G88: =G89+G92+G95+G97+G103+G104+G109+G113+G116+G131+G132 -> 7.6219661 | H88: =H89+H92+H95+H97+H103+H104+H109+H113+H116+H131+H132 -> 33.38018 | I88: =SUM(J88:L88) -> 124.27192 | J88: =J89+J92+J95+J97+J103+J104+J109+J113+J116+J131+J132 -> 80.495146 | K88: =K89+K92+K95+K97+K103+K104+K109+K113+K116+K131+K132 -> 27.33867 | L88: =L89+L92+L95+L97+L103+L104+L109+L113+L116+L131+L132 -> 16.438103 | M88: =M89+M92+M95+M97+M103+M104+M109+M113+M116+M131+M132 -> 0 | N88: =O88+P88 -> 0.01421591 | O88: =O89+O92+O95+O97+O103+O104+O109+O113+O116+O131+O132 -> 0.01421591 | P88: =P89+P92+P95+P97+P103+P104+P109+P113+P116+P131+P132 -> 0 | Q88: =Q89+Q92+Q95+Q97+Q103+Q104+Q109+Q113+Q116+Q131+Q132 -> 0 | T88: TRUE | U88: TRUE | V88: TRUE | W88: TRUE | X88: TRUE | Y88: TRUE | Z88: TRUE | AA88: TRUE | AB88: TRUE | AC88: TRUE | AD88: TRUE | AE88: TRUE | AF88: TRUE | AG88: TRUE
B89: C.1. | C89: Elektros energijos sąnaudos | D89: =D90+D91 -> 0 | E89: =SUM(F89:H89) -> 0 | F89: =F90+F91 -> 0 | G89: =G90+G91 -> 0 | H89: =H90+H91 -> 0 | I89: =SUM(J89:L89) -> 0 | J89: =J90+J91 -> 0 | K89: =K90+K91 -> 0 | L89: =L90+L91 -> 0 | M89: =M90+M91 -> 0 | N89: =O89+P89 -> 0 | O89: =O90+O91 -> 0 | P89: =P90+P91 -> 0 | Q89: =Q90+Q91 -> 0 | T89: TRUE | U89: TRUE | V89: TRUE | W89: TRUE | X89: TRUE | Y89: TRUE | Z89: TRUE | AA89: TRUE | AB89: TRUE | AC89: TRUE | AD89: TRUE | AE89: TRUE | AF89: TRUE | AG89: TRUE
B90: C.1.1. | C90: Elektros energija siurbliams, orapūtėms, maišyklėms ir kitiems technologiniams įrenginiams | D90: 0 | E90: =SUM(F90:H90) -> 0 | F90: =IFERROR($D$90*F141/100, 0) -> 0 | G90: =IFERROR($D$90*G141/100, 0) -> 0 | H90: =IFERROR($D$90*H141/100, 0) -> 0 | I90: =SUM(J90:L90) -> 0 | J90: =IFERROR($D$90*J141/100, 0) -> 0 | K90: =IFERROR($D$90*K141/100, 0) -> 0 | L90: =IFERROR($D$90*L141/100, 0) -> 0 | M90: =IFERROR($D$90*M141/100, 0) -> 0 | N90: =O90+P90 -> 0 | O90: =IFERROR($D$90*O141/100, 0) -> 0 | P90: =IFERROR($D$90*P141/100, 0) -> 0 | Q90: =IFERROR($D$90*Q141/100, 0) -> 0 | T90: TRUE | U90: TRUE | V90: TRUE | W90: TRUE | X90: TRUE | Y90: TRUE | Z90: TRUE | AA90: TRUE | AB90: TRUE | AC90: TRUE | AD90: TRUE | AE90: TRUE | AF90: TRUE | AG90: TRUE
B91: C.1.2. | C91: Patalpų šildymo, apšvietimo, vėdinimo ir eksploatacijos elektros energijos sąnaudos | D91: 0 | E91: =SUM(F91:H91) -> 0 | F91: =IFERROR($D$91*F142/100, 0) -> 0 | G91: =IFERROR($D$91*G142/100, 0) -> 0 | H91: =IFERROR($D$91*H142/100, 0) -> 0 | I91: =SUM(J91:L91) -> 0 | J91: =IFERROR($D$91*J142/100, 0) -> 0 | K91: =IFERROR($D$91*K142/100, 0) -> 0 | L91: =IFERROR($D$91*L142/100, 0) -> 0 | M91: =IFERROR($D$91*M142/100, 0) -> 0 | N91: =O91+P91 -> 0 | O91: =IFERROR($D$91*O142/100, 0) -> 0 | P91: =IFERROR($D$91*P142/100, 0) -> 0 | Q91: =IFERROR($D$91*Q142/100, 0) -> 0 | T91: TRUE | U91: TRUE | V91: TRUE | W91: TRUE | X91: TRUE | Y91: TRUE | Z91: TRUE | AA91: TRUE | AB91: TRUE | AC91: TRUE | AD91: TRUE | AE91: TRUE | AF91: TRUE | AG91: TRUE
B92: C.2. | C92: Kuro transportui sąnaudos | D92: =D93+D94 -> 3.03398 | E92: =SUM(F92:H92) -> 0.77558533 | F92: =F93+F94 -> 0.030538212 | G92: =G93+G94 -> 0.13849821 | H92: =H93+H94 -> 0.60654891 | I92: =SUM(J92:L92) -> 2.2581363 | J92: =J93+J94 -> 1.4626717 | K92: =K93+K94 -> 0.49676906 | L92: =L93+L94 -> 0.29869562 | M92: =M93+M94 -> 0 | N92: =O92+P92 -> 0.0002583163 | O92: =O93+O94 -> 0.0002583163 | P92: =P93+P94 -> 0 | Q92: =Q93+Q94 -> 0 | T92: TRUE | U92: TRUE | V92: TRUE | W92: TRUE | X92: TRUE | Y92: TRUE | Z92: TRUE | AA92: TRUE | AB92: TRUE | AC92: TRUE | AD92: TRUE | AE92: TRUE | AF92: TRUE | AG92: TRUE
B93: C.2.1. | C93: Kuras mašinoms ir gamybiniam transportui (asenizacijos transporto priemonėms, transportui dumblui, vandeniui vežti, autobusams žmonėms vežti) | D93: 3.03398 | E93: =SUM(F93:H93) -> 0.77558533 | F93: =IFERROR($D$93*F144/100, 0) -> 0.030538212 | G93: =IFERROR($D$93*G144/100, 0) -> 0.13849821 | H93: =IFERROR($D$93*H144/100, 0) -> 0.60654891 | I93: =SUM(J93:L93) -> 2.2581363 | J93: =IFERROR($D$93*J144/100, 0) -> 1.4626717 | K93: =IFERROR($D$93*K144/100, 0) -> 0.49676906 | L93: =IFERROR($D$93*L144/100, 0) -> 0.29869562 | M93: =IFERROR($D$93*M144/100, 0) -> 0 | N93: =O93+P93 -> 0.0002583163 | O93: =IFERROR($D$93*O144/100, 0) -> 0.0002583163 | P93: =IFERROR($D$93*P144/100, 0) -> 0 | Q93: =IFERROR($D$93*Q144/100, 0) -> 0 | T93: TRUE | U93: TRUE | V93: TRUE | W93: TRUE | X93: TRUE | Y93: TRUE | Z93: TRUE | AA93: TRUE | AB93: TRUE | AC93: TRUE | AD93: TRUE | AE93: TRUE | AF93: TRUE | AG93: TRUE
B94: C.2.2. | C94: Kuras lengviesiems automobiliams | D94: 0 | E94: =SUM(F94:H94) -> 0 | F94: =IFERROR($D$94*F145/100, 0) -> 0 | G94: =IFERROR($D$94*G145/100, 0) -> 0 | H94: =IFERROR($D$94*H145/100, 0) -> 0 | I94: =SUM(J94:L94) -> 0 | J94: =IFERROR($D$94*J145/100, 0) -> 0 | K94: =IFERROR($D$94*K145/100, 0) -> 0 | L94: =IFERROR($D$94*L145/100, 0) -> 0 | M94: =IFERROR($D$94*M145/100, 0) -> 0 | N94: =O94+P94 -> 0 | O94: =IFERROR($D$94*O145/100, 0) -> 0 | P94: =IFERROR($D$94*P145/100, 0) -> 0 | Q94: =IFERROR($D$94*Q145/100, 0) -> 0 | T94: TRUE | U94: TRUE | V94: TRUE | W94: TRUE | X94: TRUE | Y94: TRUE | Z94: TRUE | AA94: TRUE | AB94: TRUE | AC94: TRUE | AD94: TRUE | AE94: TRUE | AF94: TRUE | AG94: TRUE
B95: C.3. | C95: Šilumos energijos sąnaudos | D95: =D96 -> 0 | E95: =SUM(F95:H95) -> 0 | F95: =F96 -> 0 | G95: =G96 -> 0 | H95: =H96 -> 0 | I95: =SUM(J95:L95) -> 0 | J95: =J96 -> 0 | K95: =K96 -> 0 | L95: =L96 -> 0 | M95: =M96 -> 0 | N95: =O95+P95 -> 0 | O95: =O96 -> 0 | P95: =P96 -> 0 | Q95: =Q96 -> 0 | T95: TRUE | U95: TRUE | V95: TRUE | W95: TRUE | X95: TRUE | Y95: TRUE | Z95: TRUE | AA95: TRUE | AB95: TRUE | AC95: TRUE | AD95: TRUE | AE95: TRUE | AF95: TRUE | AG95: TRUE
B96: C.3.1. | C96: Šilumos energijos patalpų šildymui sąnaudos | D96: 0 | E96: =IFERROR($D$96*E147/100, 0) -> 0 | F96: =IFERROR($D$96*F147/100, 0) -> 0 | G96: =IFERROR($D$96*G147/100, 0) -> 0 | H96: =IFERROR($D$96*H147/100, 0) -> 0 | I96: =SUM(J96:L96) -> 0 | J96: =IFERROR($D$96*J147/100, 0) -> 0 | K96: =IFERROR($D$96*K147/100, 0) -> 0 | L96: =IFERROR($D$96*L147/100, 0) -> 0 | M96: =IFERROR($D$96*M147/100, 0) -> 0 | N96: =O96+P96 -> 0 | O96: =IFERROR($D$96*O147/100, 0) -> 0 | P96: =IFERROR($D$96*P147/100, 0) -> 0 | Q96: =IFERROR($D$96*Q147/100, 0) -> 0 | T96: TRUE | U96: TRUE | V96: TRUE | W96: TRUE | X96: TRUE | Y96: TRUE | Z96: TRUE | AA96: TRUE | AB96: TRUE | AC96: TRUE | AD96: TRUE | AE96: TRUE | AF96: TRUE | AG96: TRUE
B97: C.4. | C97: Einamojo remonto ir aptarnavimo sąnaudos | D97: =SUM(D98:D102) -> 27.94225 | E97: =SUM(F97:H97) -> 7.1429605 | F97: =SUM(F98:F102) -> 0.28124983 | G97: =SUM(G98:G102) -> 1.2755363 | H97: =SUM(H98:H102) -> 5.5861744 | I97: =SUM(J97:L97) -> 20.79691 | J97: =SUM(J98:J102) -> 13.470866 | K97: =SUM(K98:K102) -> 4.5751275 | L97: =SUM(L98:L102) -> 2.7509172 | M97: =SUM(M98:M102) -> 0 | N97: =O97+P97 -> 0.002379033 | O97: =SUM(O98:O102) -> 0.002379033 | P97: =SUM(P98:P102) -> 0 | Q97: =SUM(Q98:Q102) -> 0 | T97: TRUE | U97: TRUE | V97: TRUE | W97: TRUE | X97: TRUE | Y97: TRUE | Z97: TRUE | AA97: TRUE | AB97: TRUE | AC97: TRUE | AD97: TRUE | AE97: TRUE | AF97: TRUE | AG97: TRUE
B98: C.4.1. | C98: Remonto medžiagų ir detalių sąnaudos | D98: 24.6111 | E98: =IFERROR($D$98*E149/100, 0) -> 6.2914087 | F98: =IFERROR($D$98*F149/100, 0) -> 0.24772048 | G98: =IFERROR($D$98*G149/100, 0) -> 1.1234726 | H98: =IFERROR($D$98*H149/100, 0) -> 4.9202157 | I98: =SUM(J98:L98) -> 18.317596 | J98: =IFERROR($D$98*J149/100, 0) -> 11.864929 | K98: =IFERROR($D$98*K149/100, 0) -> 4.0297012 | L98: =IFERROR($D$98*L149/100, 0) -> 2.4229652 | M98: =IFERROR($D$98*M149/100, 0) -> 0 | N98: =O98+P98 -> 0.0020954154 | O98: =IFERROR($D$98*O149/100, 0) -> 0.0020954154 | P98: =IFERROR($D$98*P149/100, 0) -> 0 | Q98: =IFERROR($D$98*Q149/100, 0) -> 0 | T98: TRUE | U98: TRUE | V98: TRUE | W98: TRUE | X98: TRUE | Y98: TRUE | Z98: TRUE | AA98: TRUE | AB98: TRUE | AC98: TRUE | AD98: TRUE | AE98: TRUE | AF98: TRUE | AG98: TRUE
B99: C.4.2. | C99: Remonto ir aptarnavimo paslaugų pirkimo sąnaudos | D99: 0.29212 | E99: =IFERROR($D$99*E150/100, 0) -> 0.074675505 | F99: =IFERROR($D$99*F150/100, 0) -> 0.0029403036 | G99: =IFERROR($D$99*G150/100, 0) -> 0.013334992 | H99: =IFERROR($D$99*H150/100, 0) -> 0.05840021 | I99: =SUM(J99:L99) -> 0.21741962 | J99: =IFERROR($D$99*J150/100, 0) -> 0.14083008 | K99: =IFERROR($D$99*K150/100, 0) -> 0.047830301 | L99: =IFERROR($D$99*L150/100, 0) -> 0.028759242 | M99: =IFERROR($D$99*M150/100, 0) -> 0 | N99: =O99+P99 -> 2.4871409e-05 | O99: =IFERROR($D$99*O150/100, 0) -> 2.4871409e-05 | P99: =IFERROR($D$99*P150/100, 0) -> 0 | Q99: =IFERROR($D$99*Q150/100, 0) -> 0 | T99: TRUE | U99: TRUE | V99: TRUE | W99: TRUE | X99: TRUE | Y99: TRUE | Z99: TRUE | AA99: TRUE | AB99: TRUE | AC99: TRUE | AD99: TRUE | AE99: TRUE | AF99: TRUE | AG99: TRUE
B100: C.4.3. | C100: Metrologinės patikros sąnaudos | D100: 0 | E100: =IFERROR($D$100*E151/100, 0) -> 0 | F100: =IFERROR($D$100*F151/100, 0) -> 0 | G100: =IFERROR($D$100*G151/100, 0) -> 0 | H100: =IFERROR($D$100*H151/100, 0) -> 0 | I100: =SUM(J100:L100) -> 0 | J100: =IFERROR($D$100*J151/100, 0) -> 0 | K100: =IFERROR($D$100*K151/100, 0) -> 0 | L100: =IFERROR($D$100*L151/100, 0) -> 0 | M100: =IFERROR($D$100*M151/100, 0) -> 0 | N100: =O100+P100 -> 0 | O100: =IFERROR($D$100*O151/100, 0) -> 0 | P100: =IFERROR($D$100*P151/100, 0) -> 0 | Q100: =IFERROR($D$100*Q151/100, 0) -> 0 | T100: TRUE | U100: TRUE | V100: TRUE | W100: TRUE | X100: TRUE | Y100: TRUE | Z100: TRUE | AA100: TRUE | AB100: TRUE | AC100: TRUE | AD100: TRUE | AE100: TRUE | AF100: TRUE | AG100: TRUE
B101: C.4.4. | C101: Avarijų šalinimo sąnaudos | D101: 0 | E101: =IFERROR($D$101*E152/100, 0) -> 0 | F101: =IFERROR($D$101*F152/100, 0) -> 0 | G101: =IFERROR($D$101*G152/100, 0) -> 0 | H101: =IFERROR($D$101*H152/100, 0) -> 0 | I101: =SUM(J101:L101) -> 0 | J101: =IFERROR($D$101*J152/100, 0) -> 0 | K101: =IFERROR($D$101*K152/100, 0) -> 0 | L101: =IFERROR($D$101*L152/100, 0) -> 0 | M101: =IFERROR($D$101*M152/100, 0) -> 0 | N101: =O101+P101 -> 0 | O101: =IFERROR($D$101*O152/100, 0) -> 0 | P101: =IFERROR($D$101*P152/100, 0) -> 0 | Q101: =IFERROR($D$101*Q152/100, 0) -> 0 | T101: TRUE | U101: TRUE | V101: TRUE | W101: TRUE | X101: TRUE | Y101: TRUE | Z101: TRUE | AA101: TRUE | AB101: TRUE | AC101: TRUE | AD101: TRUE | AE101: TRUE | AF101: TRUE | AG101: TRUE
B102: C.4.5. | C102: Kitos techninio aptarnavimo ir patikros (kėlimo mechanizmų, energetikos įrenginių) paslaugos | D102: 3.03903 | E102: =IFERROR($D$102*E153/100, 0) -> 0.77687628 | F102: =IFERROR($D$102*F153/100, 0) -> 0.030589042 | G102: =IFERROR($D$102*G153/100, 0) -> 0.13872874 | H102: =IFERROR($D$102*H153/100, 0) -> 0.6075585 | I102: =SUM(J102:L102) -> 2.261895 | J102: =IFERROR($D$102*J153/100, 0) -> 1.4651063 | K102: =IFERROR($D$102*K153/100, 0) -> 0.49759592 | L102: =IFERROR($D$102*L153/100, 0) -> 0.2991928 | M102: =IFERROR($D$102*M153/100, 0) -> 0 | N102: =O102+P102 -> 0.00025874626 | O102: =IFERROR($D$102*O153/100, 0) -> 0.00025874626 | P102: =IFERROR($D$102*P153/100, 0) -> 0 | Q102: =IFERROR($D$102*Q153/100, 0) -> 0 | T102: TRUE | U102: TRUE | V102: TRUE | W102: TRUE | X102: TRUE | Y102: TRUE | Z102: TRUE | AA102: TRUE | AB102: TRUE | AC102: TRUE | AD102: TRUE | AE102: TRUE | AF102: TRUE | AG102: TRUE
B103: C.5. | C103: Nusidėvėjimo (amortizacijos) sąnaudos | D103: 3.9625487 | E103: =IFERROR($D$103*E154/100, 0) -> 1.0129581 | F103: =IFERROR($D$103*F154/100, 0) -> 0.039884624 | G103: =IFERROR($D$103*G154/100, 0) -> 0.18088646 | H103: =IFERROR($D$103*H154/100, 0) -> 0.79218703 | I103: =SUM(J103:L103) -> 2.9492532 | J103: =IFERROR($D$103*J154/100, 0) -> 1.9103316 | K103: =IFERROR($D$103*K154/100, 0) -> 0.64880837 | L103: =IFERROR($D$103*L154/100, 0) -> 0.39011331 | M103: =IFERROR($D$103*M154/100, 0) -> 0 | N103: =O103+P103 -> 0.00033737563 | O103: =IFERROR($D$103*O154/100, 0) -> 0.00033737563 | P103: =IFERROR($D$103*P154/100, 0) -> 0 | Q103: =IFERROR($D$103*Q154/100, 0) -> 0 | T103: TRUE | U103: TRUE | V103: TRUE | W103: TRUE | X103: TRUE | Y103: TRUE | Z103: TRUE | AA103: TRUE | AB103: TRUE | AC103: TRUE | AD103: TRUE | AE103: TRUE | AF103: TRUE | AG103: TRUE
B104: C.6. | C104: Personalo sąnaudos | D104: =SUM(D105:D108) -> 109.17012 | E104: =SUM(F104:H104) -> 27.907483 | F104: =SUM(F105:F108) -> 1.0988405 | G104: =SUM(G105:G108) -> 4.9835089 | H104: =SUM(H105:H108) -> 21.825133 | I104: =SUM(J104:L104) -> 81.253343 | J104: =SUM(J105:J108) -> 52.630552 | K104: =SUM(K105:K108) -> 17.874982 | L104: =SUM(L105:L108) -> 10.747809 | M104: =SUM(M105:M108) -> 0 | N104: =O104+P104 -> 0.0092948607 | O104: =SUM(O105:O108) -> 0.0092948607 | P104: =SUM(P105:P108) -> 0 | Q104: =SUM(Q105:Q108) -> 0 | T104: TRUE | U104: TRUE | V104: TRUE | W104: TRUE | X104: TRUE | Y104: TRUE | Z104: TRUE | AA104: TRUE | AB104: TRUE | AC104: TRUE | AD104: TRUE | AE104: TRUE | AF104: TRUE | AG104: TRUE
B105: C.6.1. | C105: Darbo užmokesčio sąnaudos | D105: 106.90973 | E105: =SUM(F105:H105) -> 27.329652 | F105: =IFERROR($D$105*F156/100, 0) -> 1.0760888 | G105: =IFERROR($D$105*G156/100, 0) -> 4.8803243 | H105: =IFERROR($D$105*H156/100, 0) -> 21.373239 | I105: =SUM(J105:L105) -> 79.570975 | J105: =IFERROR($D$105*J156/100, 0) -> 51.540825 | K105: =IFERROR($D$105*K156/100, 0) -> 17.504877 | L105: =IFERROR($D$105*L156/100, 0) -> 10.525273 | M105: =IFERROR($D$105*M156/100, 0) -> 0 | N105: =O105+P105 -> 0.0091024087 | O105: =IFERROR($D$105*O156/100, 0) -> 0.0091024087 | P105: =IFERROR($D$105*P156/100, 0) -> 0 | Q105: =IFERROR($D$105*Q156/100, 0) -> 0 | T105: TRUE | U105: TRUE | V105: TRUE | W105: TRUE | X105: TRUE | Y105: TRUE | Z105: TRUE | AA105: TRUE | AB105: TRUE | AC105: TRUE | AD105: TRUE | AE105: TRUE | AF105: TRUE | AG105: TRUE
...

Sheet 5
E2: Geriamojo vandens tiekimo ir nuotekų tvarkymo bei paviršinių nuotekų tvarkymo paslaugų įmonių apskaitos atskyrimo ir susijusių reikalavimų aprašo 5 priedas
C3: Ūkio subjektas: UAB „Biržų vandenys“
C4: Ataskaitinis laikotarpis: 2021-01-01 - 2021-12-31
C6: Ataskaitinio laikotarpio reguliuojamos veiklos ilgalaikio turto įsigijimo ir likutinės vertės suvestinė ataskaita (tūkst. Eur)
B8: Eil. Nr. | C8: STRAIPSNIAI | D8: Ataskaitinis laikotarpis | E8: Paaiškinimai
B9: I. | C9: ILGALAIKIO TURTO LIKUTINĖ VERTĖ PAGAL FINANSINĖS APSKAITOS STANDARTUS (FAS) | D9: =+'2'!D10 -> 8999.707 | E9: 2 priedas | F9: TRUE
B10: A. | C10: GERIAMOJO VANDENS TIEKIMO IR NUOTEKŲ TVARKYMO (GVTNT) REGULIUOJAMO ILGALAIKIO TURTO LIKUTINĖ VERTĖ PAGAL REGULIAVIMO APSKAITOS SISTEMĄ (RAS) | D10: =SUM(D11:D12)+D16 -> 4511.3799 | E10: 7 priedas | F10: TRUE
B11: A.1. | C11: geriamojo vandens tiekimo (GVT) reguliuojamo ilgalaikio turto likutinė vertė (pagal RAS) | D11: ='7'!E8 -> 1267.6717 | E11: 7 priedas | F11: TRUE
B12: A.2. | C12: nuotekų tvarkymo (NT) veiklos reguliuojamo ilgalaikio turto likutinė vertė (pagal RAS) | D12: ='7'!I8 -> 3243.7083 | E12: 7 priedas | F12: TRUE
B13: A.2.1. | C13: nuotekų surinkimas centralizuotais nuotekų surinkimo tinklais reguliuojamo ilgalaikio turto likutinė vertė (pagal RAS) | D13: ='7'!J8 -> 1623.0694 | E13: 7 priedas | F13: TRUE
B14: A.2.2. | C14: nuotekų valymo reguliuojamo ilgalaikio turto likutinė vertė (pagal RAS) | D14: ='7'!K8 -> 1598.8444 | E14: 7 priedas | F14: TRUE
B15: A.2.3. | C15: nuotekų dumblo tvarkymo reguliuojamo ilgalaikio turto likutinė vertė (pagal RAS) | D15: ='7'!L8 -> 21.794495 | E15: 7 priedas | F15: TRUE
B16: A.3. | C16: paviršinių nuotekų tvarkymo reguliuojamo ilgalaikio turto likutinė vertė (pagal RAS),jei yra atskira paviršinių nuotekų surinkimo sistema | D16: ='7'!M8 -> 0 | E16: 7 priedas | F16: TRUE
B17: B. | C17: GVTNT VEIKLOS REGULIUOJAMAM ILGALAIKIUI TURTUI (PAGAL RAS) NEPRISKIRTINO TURTO LIKUTINĖS VERTĖS | D17: =SUM(D18:D27) -> 4484.7102 | F17: TRUE
B18: B.1. | C18: už Dotacijas įsigyto ir neatlygintai gauto turto vertė (GVTNT) | D18: 2264.9844 | F18: TRUE
B19: B.2. | C19: Plėtros darbų vertė, iki ilgalaikio turto vienetų, kurių formavimui buvo atliekami plėtros darbai, eksploatacijos pradžios (GVTNT) | D19: 0 | F19: TRUE
B20: B.3. | C20: Prestižo vertė (GVTNT) | D20: 0 | F20: TRUE
B21: B.4. | C21: Investicinio turto vertė (GVTNT) | D21: 0 | F21: TRUE
B22: B.5. | C22: Finansinio turto vertė (GVTNT) | D22: 227.238 | F22: TRUE
B23: B.6. | C23: Atidėtojo mokesčio turto vertė (GVTNT) | D23: 0 | F23: TRUE
B24: B.7. | C24: Ilgalaikio turto vertės pokytis, susijęs su ilgalaikio turto perkainojimo veikla (GVTNT) | D24: 0 | F24: TRUE
B25: B.8. | C25: Nebaigtos statybos, nenaudojamo, nusidėvėjusio turto vertė (GVTNT) | D25: 1490.308 | F25: TRUE
B26: B.9. | C26: Kito reguliuojamos veiklos nepaskirstomojo ilgalaikio turto vertė, kito nereguliuojamos veiklos ilgalaikio turto vertė | D26: 80.00148 | F26: TRUE
B27: B.10. | C27: GVTNT Ilgalaikio turto balansinių verčių pagal RAS ir FAS skirtumas | D27: =D9-D10-D28-D18-D19-D20-D21-D22-D23-D24-D25-D26 -> 422.17833 | F27: TRUE
B28: C. | C28: KITŲ VEIKLŲ ILGALAIKIO TURTO LIKUTINĖ VERTĖ | D28: =SUM(D29:D31) -> 3.6168419 | E28: 7 priedas | F28: TRUE
B29: C.1. | C29: Apskaitos veiklos reguliuojamo ilgalaikio turto likutinė vertė | D29: ='7'!O8 -> 2.8204015 | E29: 7 priedas | F29: TRUE
B30: C.2. | C30: kitos reguliuojamosios veiklos ilgalaikio turto likutinė vertė | D30: ='7'!P8 -> 0 | E30: 7 priedas | F30: TRUE
B31: C.3. | C31: nereguliuojamosios veiklos ilgalaikio turto likutinė vertė | D31: ='7'!Q8 -> 0.79644043 | E31: 7 priedas | F31: TRUE
B32: II. | C32: ILGALAIKIO TURTO ĮSIGIJIMO VERTĖ PAGAL FINANSINĖS APSKAITOS STANDARTUS (FAS) | D32: 23477.463 | F32: TRUE
B33: D. | C33: GERIAMOJO VANDENS TIEKIMO IR NUOTEKŲ TVARKYMO (GVTNT) REGULIUOJAMO ILGALAIKIO TURTO ĮSIGIJIMO VERTĖ PAGAL REGULIAVIMO APSKAITOS SISTEMĄ (RAS) | D33: =SUM(D34:D35)+D39 -> 9234.8104 | E33: 6 priedas | F33: TRUE
B34: D.1. | C34: geriamojo vandens tiekimo (GVT) reguliuojamo ilgalaikio turto įsigijimo vertė (pagal RAS) | D34: ='6'!E8 -> 2572.046 | E34: 6 priedas | F34: TRUE
B35: D.2. | C35: nuotekų tvarkymo (NT) veiklos reguliuojamo ilgalaikio turto įsigijimo vertė (pagal RAS) | D35: ='6'!I8 -> 6662.7645 | E35: 6 priedas | F35: TRUE
B36: D.2.1. | C36: nuotekų surinkimas centralizuotais nuotekų surinkimo tinklais reguliuojamo ilgalaikio turto įsigijimo vertė (pagal RAS) | D36: ='6'!J8 -> 3083.3874 | E36: 6 priedas | F36: TRUE
B37: D.2.2. | C37: nuotekų valymo reguliuojamo ilgalaikio turto įsigijimo vertė (pagal RAS) | D37: ='6'!K8 -> 3538.0099 | E37: 6 priedas | F37: TRUE
B38: D.2.3. | C38: nuotekų dumblo tvarkymo reguliuojamo ilgalaikio turto įsigijimo vertė (pagal RAS) | D38: ='6'!L8 -> 41.367188 | E38: 6 priedas | F38: TRUE
B39: D.3. | C39: paviršinių nuotekų tvarkymo reguliuojamo ilgalaikio turto įsigijimo vertė (pagal RAS), jei yra atskira paviršinių nuotekų surinkimo sistema | D39: ='6'!M8 -> 0 | E39: 6 priedas | F39: TRUE
B40: E. | C40: GVTNT VEIKLOS REGULIUOJAMAM ILGALAIKIUI TURTUI (PAGAL RAS) NEPRISKIRTINO TURTO ĮSIGIJIMO VERTĖS | D40: =SUM(D41:D50) -> 14236.237 | F40: TRUE
B41: E.1. | C41: už Dotacijas įsigyto ir neatlygintai gauto turto vertė (GVTNT) | D41: 12188.451 | F41: TRUE
B42: E.2. | C42: Plėtros darbų vertė, iki ilgalaikio turto vienetų, kurių formavimui buvo atliekami plėtros darbai, eksploatacijos pradžios (GVTNT) | D42: 0 | F42: TRUE
B43: E.3. | C43: Prestižo vertė (GVTNT) | D43: 0 | F43: TRUE
B44: E.4. | C44: Investicinio turto vertė (GVTNT) | D44: 0 | F44: TRUE
B45: E.5. | C45: Finansinio turto vertė (GVTNT) | D45: 227.238 | F45: TRUE
B46: E.6. | C46: Atidėtojo mokesčio turto vertė (GVTNT) | D46: 0 | F46: TRUE
B47: E.7. | C47: Ilgalaikio turto vertės pokytis, susijęs su ilgalaikio turto perkainojimo veikla (GVTNT) | D47: 0 | F47: TRUE
B48: E.8. | C48: Nebaigtos statybos, nenaudojamo, nusidėvėjusio turto vertė (GVTNT) | D48: 1740.5457 | F48: TRUE
B49: E.9. | C49: Kito reguliuojamos veiklos nepaskirstomojo ilgalaikio turto vertė, kito nereguliuojamos veiklos ilgalaikio turto vertė | D49: 81.70148 | F49: TRUE
B50: E.10. | C50: GVTNT Ilgalaikio turto įsigijimo verčių pagal RAS ir FAS skirtumas | D50: =D32-D33-D51-D41-D42-D43-D44-D45-D46-D47-D48-D49 -> -1.6998803 | F50: TRUE
B51: F. | C51: KITŲ VEIKLŲ ILGALAIKIO TURTO ĮSIGIJIMO VERTĖ | D51: =D53+D54+D52 -> 6.4159335 | E51: 6 priedas | F51: TRUE
B52: F.1. | C52: Apskaitos veiklos reguliuojamo ilgalaikio turto įsigijimo vertė | D52: ='6'!O8 -> 5.0031362 | E52: 6 priedas | F52: TRUE
B53: F.2. | C53: kitos reguliuojamosios veiklos ilgalaikio turto įsigijimo vertė | D53: ='6'!P8 -> 0 | E53: 6 priedas | F53: TRUE
B54: F.3. | C54: nereguliuojamosios veiklos ilgalaikio turto įsigijimo vertė | D54: ='6'!Q8 -> 1.4127973 | E54: 6 priedas | F54: TRUE

Sheet 6
C2: Ūkio subjektas: UAB „Biržų vandenys“ | Q2: Geriamojo vandens tiekimo ir nuotekų tvarkymo bei paviršinių nuotekų tvarkymo paslaugų įmonių apskaitos atskyrimo ir susijusių reikalavimų aprašo 6 priedas
C3: Ataskaitinis laikotarpis: 2021-01-01 - 2021-12-31
C5: Ataskaitinio laikotarpio reguliuojamo ilgalaikio turto įsigijimo vertės (suskaičiuotos pagal Aprašo nuostatas) paskirstymo verslo vienetams ir paslaugoms ataskaita (tūkst. Eur)
F6: II.Gavyba | G6: II.Ruošimas | H6: II.Pristatymas | J6: III.Surinkimas | K6: III.Valymas | L6: III.Dumblas | M6: III.Pav.nuotekos | O6: I.Apskaitos veikla | P6: IV.Kita_reguliuojama | Q6: V.Nereguliuojama
B7: Eil. Nr. | C7: ILGALAIKIS TURTAS | D7: 1. IŠ VISO | E7: 2. Iš viso GVT | F7: 2.1. Geriamojo vandens gavyba | G7: 2.2. Geriamojo vandens ruošimas | H7: 2.3. Geriamojo vandens pristatymas | I7: 3. Iš viso NT | J7: 3.1. Nuotekų surinkimas | K7: 3.2. Nuotekų valymas | L7: 3.3. Nuotekų dumblo tvarkymas | M7: 4. Paviršinių nuotekų tvarkymas (tik esant atskirai paviršinių nuotekų tvarkymo sistemai) | N7: 5. Kitos reguliuojamosios veiklos verslo vienetas | O7: 5.1 Apskaitos veikla | P7: 5.2. Kita reguliuojama veikla | Q7: 6. Kitos veiklos (nereguliuojamosios veiklos) verslo vienetas
B8: A. | C8: PASKIRSTOMAS ILGALAIKIS TURTAS | D8: =D9+D13+D18+D21+D24+D27 -> 9241.2264 | E8: =E9+E13+E18+E21+E24+E27 -> 2572.046 | F8: =F9+F13+F18+F21+F24+F27 -> 222.70699 | G8: =G9+G13+G18+G21+G24+G27 -> 955.79741 | H8: =H9+H13+H18+H21+H24+H27 -> 1393.5416 | I8: =I9+I13+I18+I21+I24+I27 -> 6662.7645 | J8: =J9+J13+J18+J21+J24+J27 -> 3083.3874 | K8: =K9+K13+K18+K21+K24+K27 -> 3538.0099 | ... M8: =M9+M13+M18+M21+M24+M27 -> 0 | N8: =+O8+P8 -> 5.0031362 | O8: =O9+O13+O18+O21+O24+O27 -> 5.0031362 | P8: =P9+P13+P18+P21+P24+P27 -> 0 | Q8: =Q9+Q13+Q18+Q21+Q24+Q27 -> 1.4127973
B9: A.1. | C9: NEMATERIALUSIS TURTAS | D9: =O9+E9+I9+M9+P9+Q9 -> 0 | E9: =SUM(F9:H9) -> 0 | F9: =SUM(F10:F12) -> 0 | G9: =SUM(G10:G12) -> 0 | H9: =SUM(H10:H12) -> 0 | I9: =SUM(J9:L9) -> 0 | J9: =SUM(J10:J12) -> 0 | K9: =SUM(K10:K12) -> 0 | L9: =SUM(L10:L12) -> 0 | M9: =SUM(M10:M12) -> 0 | N9: =+O9+P9 -> 0 | O9: =SUM(O10:O12) -> 0 | P9: =SUM(P10:P12) -> 0 | Q9: =SUM(Q10:Q12) -> 0
B10: A.1.1. | C10: standartinė programinė įranga | D10: =O10+E10+I10+M10+P10+Q10 -> 0 | E10: =SUM(F10:H10) -> 0 | F10: =SUM(F33,F56,F96) -> 0 | G10: =SUM(G33,G56,G96) -> 0 | H10: =SUM(H33,H56,H96) -> 0 | I10: =SUM(J10:L10) -> 0 | J10: =SUM(J33,J56,J96) -> 0 | K10: =SUM(K33,K56,K96) -> 0 | L10: =SUM(L33,L56,L96) -> 0 | M10: =SUM(M33,M56,M96) -> 0 | N10: =+O10+P10 -> 0 | O10: =SUM(O33,O56,O96) -> 0 | P10: =SUM(P33,P56,P96) -> 0 | Q10: =SUM(Q33,Q56,Q96) -> 0
B11: A.1.2. | C11: spec. programinė įranga | D11: =O11+E11+I11+M11+P11+Q11 -> 0 | E11: =SUM(F11:H11) -> 0 | F11: =SUM(F34,F57,F97) -> 0 | G11: =SUM(G34,G57,G97) -> 0 | H11: =SUM(H34,H57,H97) -> 0 | I11: =SUM(J11:L11) -> 0 | J11: =SUM(J34,J57,J97) -> 0 | K11: =SUM(K34,K57,K97) -> 0 | L11: =SUM(L34,L57,L97) -> 0 | M11: =SUM(M34,M57,M97) -> 0 | N11: =+O11+P11 -> 0 | O11: =SUM(O34,O57,O97) -> 0 | P11: =SUM(P34,P57,P97) -> 0 | Q11: =SUM(Q34,Q57,Q97) -> 0
B12: A.1.3. | C12: kitas nematerialus turtas | D12: =O12+E12+I12+M12+P12+Q12 -> 0 | E12: =SUM(F12:H12) -> 0 | F12: =SUM(F35,F58,F98) -> 0 | G12: =SUM(G35,G58,G98) -> 0 | H12: =SUM(H35,H58,H98) -> 0 | I12: =SUM(J12:L12) -> 0 | J12: =SUM(J35,J58,J98) -> 0 | K12: =SUM(K35,K58,K98) -> 0 | L12: =SUM(L35,L58,L98) -> 0 | M12: =SUM(M35,M58,M98) -> 0 | N12: =+O12+P12 -> 0 | O12: =SUM(O35,O58,O98) -> 0 | P12: =SUM(P35,P58,P98) -> 0 | Q12: =SUM(Q35,Q58,Q98) -> 0
B13: A.2. | C13: PASTATAI IR STATINIAI | D13: =O13+E13+I13+M13+P13+Q13 -> 9132.3859 | E13: =SUM(F13:H13) -> 2564.1453 | F13: =SUM(F14:F17) -> 220.89497 | G13: =SUM(G14:G17) -> 954.88834 | H13: =SUM(H14:H17) -> 1388.362 | I13: =SUM(J13:L13) -> 6561.8263 | J13: =SUM(J14:J17) -> 3002.739 | K13: =SUM(K14:K17) -> 3519.6807 | L13: =SUM(L14:L17) -> 39.406615 | M13: =SUM(M14:M17) -> 0 | N13: =+O13+P13 -> 5.0014406 | O13: =SUM(O14:O17) -> 5.0014406 | P13: =SUM(P14:P17) -> 0 | Q13: =SUM(Q14:Q17) -> 1.4127973
B14: A.2.1. | C14: Pastatai (administraciniai, gamybiniai-ūkiniai ir pan.) | D14: =O14+E14+I14+M14+P14+Q14 -> 169.40665 | E14: =SUM(F14:H14) -> 56.753221 | F14: =SUM(F37,F60,F100) -> 24.904185 | G14: =SUM(G37,G60,G100) -> 8.3971248 | H14: =SUM(H37,H60,H100) -> 23.451911 | I14: =SUM(J14:L14) -> 106.58102 | J14: =SUM(J37,J60,J100) -> 45.38248 | K14: =SUM(K37,K60,K100) -> 49.190512 | L14: =SUM(L37,L60,L100) -> 12.008033 | M14: =SUM(M37,M60,M100) -> 0 | N14: =+O14+P14 -> 4.7348262 | O14: =SUM(O37,O60,O100) -> 4.7348262 | P14: =SUM(P37,P60,P100) -> 0 | Q14: =SUM(Q37,Q60,Q100) -> 1.3375785
B15: A.2.2. | C15: keliai, aikštelės, šaligatviai ir tvoros | D15: =O15+E15+I15+M15+P15+Q15 -> 21.19714 | E15: =SUM(F15:H15) -> 18.858056 | F15: =SUM(F38,F61,F101) -> 18.086389 | G15: =SUM(G38,G61,G101) -> 0.14344657 | H15: =SUM(H38,H61,H101) -> 0.62822008 | I15: =SUM(J15:L15) -> 2.3388165 | J15: =SUM(J38,J61,J101) -> 1.5149309 | K15: =SUM(K38,K61,K101) -> 0.51451794 | L15: =SUM(L38,L61,L101) -> 0.30936762 | M15: =SUM(M38,M61,M101) -> 0 | N15: =+O15+P15 -> 0.00026754559 | O15: =SUM(O38,O61,O101) -> 0.00026754559 | P15: =SUM(P38,P61,P101) -> 0 | Q15: =SUM(Q38,Q61,Q101) -> 0
B16: A.2.3. | C16: vamzdynai | D16: =O16+E16+I16+M16+P16+Q16 -> 3036.873 | E16: =SUM(F16:H16) -> 1267.6335 | F16: =SUM(F39,F62,F102) -> 0 | G16: =SUM(G39,G62,G102) -> 0 | H16: =SUM(H39,H62,H102) -> 1267.6335 | I16: =SUM(J16:L16) -> 1769.2395 | J16: =SUM(J39,J62,J102) -> 1769.2395 | K16: =SUM(K39,K62,K102) -> 0 | L16: =SUM(L39,L62,L102) -> 0 | M16: =SUM(M39,M62,M102) -> 0 | N16: =+O16+P16 -> 0 | O16: =SUM(O39,O62,O102) -> 0 | P16: =SUM(P39,P62,P102) -> 0 | Q16: =SUM(Q39,Q62,Q102) -> 0
B17: A.2.4. | C17: Kiti įrenginiai (vandentiekio įrenginiai, nusodintuvai, diukeriai, vandens rezervuarai, gelžbetoniniai metantankai, smėlio gaudytuvai, aerotankai, nusodintuvai, nuotekų valymo flotatoriai, dumblo aikštelės ir kt.) | D17: =O17+E17+I17+M17+P17+Q17 -> 5904.9091 | E17: =SUM(F17:H17) -> 1220.9005 | F17: =SUM(F40,F63,F103) -> 177.9044 | G17: =SUM(G40,G63,G103) -> 946.34776 | H17: =SUM(H40,H63,H103) -> 96.64837 | I17: =SUM(J17:L17) -> 4683.667 | J17: =SUM(J40,J63,J103) -> 1186.6021 | K17: =SUM(K40,K63,K103) -> 3469.9757 | L17: =SUM(L40,L63,L103) -> 27.089214 | M17: =SUM(M40,M63,M103) -> 0 | N17: =+O17+P17 -> 0.26634694 | O17: =SUM(O40,O63,O103) -> 0.26634694 | P17: =SUM(P40,P63,P103) -> 0 | Q17: =SUM(Q40,Q63,Q103) -> 0.075218817
B18: A.3. | C18: MAŠINOS IR ĮRANGA | D18: =O18+E18+I18+M18+P18+Q18 -> 58.70457 | E18: =SUM(F18:H18) -> 1.5281165 | F18: =SUM(F19:F20) -> 0.012984362 | G18: =SUM(G19:G20) -> 0.058887235 | H18: =SUM(H19:H20) -> 1.4562449 | I18: =SUM(J18:L18) -> 57.176344 | J18: =SUM(J19:J20) -> 41.769605 | K18: =SUM(K19:K20) -> 15.279738 | L18: =SUM(L19:L20) -> 0.12700062 | M18: =SUM(M19:M20) -> 0 | N18: =+O18+P18 -> 0.00010983198 | O18: =SUM(O19:O20) -> 0.00010983198 | P18: =SUM(P19:P20) -> 0 | Q18: =SUM(Q19:Q20) -> 0
B19: A.3.1. | C19: vandens siurbliai, nuotekų ir dumblo siurbliai virš 5 kW, kita įranga ( siurblių valdymo įranga, elektrotechninė įranga, stacionarios ir mobilios darbo bei hidrodinaminės mašinos, staklės, sklendės, grotelės, grėbliai, grandikliai, filtrai, centrifugos) | D19: =O19+E19+I19+M19+P19+Q19 -> 51.38705 | E19: =SUM(F19:H19) -> 1.5281165 | F19: =SUM(F42,F65,F105) -> 0.012984362 | G19: =SUM(G42,G65,G105) -> 0.058887235 | H19: =SUM(H42,H65,H105) -> 1.4562449 | I19: =SUM(J19:L19) -> 49.858824 | J19: =SUM(J42,J65,J105) -> 39.069605 | K19: =SUM(K42,K65,K105) -> 10.662218 | L19: =SUM(L42,L65,L105) -> 0.12700062 | M19: =SUM(M42,M65,M105) -> 0 | N19: =+O19+P19 -> 0.00010983198 | O19: =SUM(O42,O65,O105) -> 0.00010983198 | P19: =SUM(P42,P65,P105) -> 0 | Q19: =SUM(Q42,Q65,Q105) -> 0
B20: A.3.2. | C20: nuotekų ir dumblo siurbliai iki 5 kW | D20: =O20+E20+I20+M20+P20+Q20 -> 7.31752 | E20: =SUM(F20:H20) -> 0 | F20: =SUM(F43,F66) -> 0 | G20: =SUM(G43,G66) -> 0 | H20: =SUM(H43,H66) -> 0 | I20: =SUM(J20:L20) -> 7.31752 | J20: =SUM(J43,J66) -> 2.7 | K20: =SUM(K43,K66) -> 4.61752 | L20: =SUM(L43,L66) -> 0 | M20: =SUM(M43,M66) -> 0 | N20: =+O20+P20 -> 0 | O20: =SUM(O43,O66) -> 0 | P20: =SUM(P43,P66) -> 0 | Q20: =SUM(Q43,Q66) -> 0
B21: A.4. | C21: KITI ĮRENGINIAI, PRIETAISAI IR ĮRANKIAI | D21: =O21+E21+I21+M21+P21+Q21 -> 0 | E21: =SUM(F21:H21) -> 0 | F21: =SUM(F22:F23) -> 0 | G21: =SUM(G22:G23) -> 0 | H21: =SUM(H22:H23) -> 0 | I21: =SUM(J21:L21) -> 0 | J21: =SUM(J22:J23) -> 0 | K21: =SUM(K22:K23) -> 0 | L21: =SUM(L22:L23) -> 0 | M21: =SUM(M22:M23) -> 0 | N21: =+O21+P21 -> 0 | O21: =SUM(O22:O23) -> 0 | P21: =SUM(P22:P23) -> 0 | Q21: =SUM(Q22:Q23) -> 0
B22: A.4.1. | C22: apskaitos prietaisai | D22: =O22+E22+I22+M22+P22+Q22 -> 0 | E22: =SUM(F22:H22) -> 0 | F22: =SUM(F45,F68,F107) -> 0 | G22: =SUM(G45,G68,G107) -> 0 | H22: =SUM(H45,H68,H107) -> 0 | I22: =SUM(J22:L22) -> 0 | J22: =SUM(J45,J68,J107) -> 0 | K22: =SUM(K45,K68,K107) -> 0 | L22: =SUM(L45,L68,L107) -> 0 | M22: =SUM(M45,M68,M107) -> 0 | N22: =+O22+P22 -> 0 | O22: =SUM(O45,O68,O107) -> 0 | P22: =SUM(P45,P68,P107) -> 0 | Q22: =SUM(Q45,Q68,Q107) -> 0
B23: A.4.2. | C23: įrankiai (matavimo priemonės, elektriniai įrankiai ir prietaisai, gamybinis inventorius ir kt.) | D23: =O23+E23+I23+M23+P23+Q23 -> 0 | E23: =SUM(F23:H23) -> 0 | F23: =SUM(F46,F69,F108) -> 0 | G23: =SUM(G46,G69,G108) -> 0 | H23: =SUM(H46,H69,H108) -> 0 | I23: =SUM(J23:L23) -> 0 | J23: =SUM(J46,J69,J108) -> 0 | K23: =SUM(K46,K69,K108) -> 0 | L23: =SUM(L46,L69,L108) -> 0 | M23: =SUM(M46,M69,M108) -> 0 | N23: =+O23+P23 -> 0 | O23: =SUM(O46,O69,O108) -> 0 | P23: =SUM(P46,P69,P108) -> 0 | Q23: =SUM(Q46,Q69,Q108) -> 0
B24: A.5. | C24: TRANSPORTO PRIEMONĖS | D24: =O24+E24+I24+M24+P24+Q24 -> 50.13595 | E24: =SUM(F24:H24) -> 6.3725757 | F24: =SUM(F25:F26) -> 1.7990318 | G24: =SUM(G25:G26) -> 0.85018469 | H24: =SUM(H25:H26) -> 3.7233592 | I24: =SUM(J24:L24) -> 43.761789 | J24: =SUM(J25:J26) -> 38.878752 | K24: =SUM(K25:K26) -> 3.049465 | L24: =SUM(L25:L26) -> 1.833572 | M24: =SUM(M25:M26) -> 0 | N24: =+O24+P24 -> 0.0015856996 | O24: =SUM(O25:O26) -> 0.0015856996 | P24: =SUM(P25:P26) -> 0 | Q24: =SUM(Q25:Q26) -> 0
B25: A.5.1. | C25: lengvieji automobiliai | D25: =O25+E25+I25+M25+P25+Q25 -> 17.55 | E25: =SUM(F25:H25) -> 4.4863587 | F25: =SUM(F48,F71,F110) -> 0.17664771 | G25: =SUM(G48,G71,G110) -> 0.80114029 | H25: =SUM(H48,H71,H110) -> 3.5085707 | I25: =SUM(J25:L25) -> 13.062147 | J25: =SUM(J48,J71,J110) -> 8.4607966 | K25: =SUM(K48,K71,K110) -> 2.8735512 | L25: =SUM(L48,L71,L110) -> 1.7277992 | M25: =SUM(M48,M71,M110) -> 0 | N25: =+O25+P25 -> 0.0014942258 | O25: =SUM(O48,O71,O110) -> 0.0014942258 | P25: =SUM(P48,P71,P110) -> 0 | Q25: =SUM(Q48,Q71,Q110) -> 0
B26: A.5.2. | C26: kitos transporto priemonės (transportas dumblui, vandeniui vežti, autobusai žmonėms vežti) | D26: =O26+E26+I26+M26+P26+Q26 -> 32.58595 | E26: =SUM(F26:H26) -> 1.886217 | F26: =SUM(F49,F72,F111) -> 1.6223841 | G26: =SUM(G49,G72,G111) -> 0.049044394 | H26: =SUM(H49,H72,H111) -> 0.2147885 | I26: =SUM(J26:L26) -> 30.699642 | J26: =SUM(J49,J72,J111) -> 30.417955 | K26: =SUM(K49,K72,K111) -> 0.17591373 | L26: =SUM(L49,L72,L111) -> 0.10577282 | M26: =SUM(M49,M72,M111) -> 0 | N26: =+O26+P26 -> 9.1473861e-05 | O26: =SUM(O49,O72,O111) -> 9.1473861e-05 | P26: =SUM(P49,P72,P111) -> 0 | Q26: =SUM(Q49,Q72,Q111) -> 0
B27: A.6. | C27: KITAS ILGALAIKIS TURTAS | D27: =O27+E27+I27+M27+P27+Q27 -> 0 | E27: =SUM(F27:H27) -> 0 | F27: =SUM(F28:F30) -> 0 | G27: =SUM(G28:G30) -> 0 | H27: =SUM(H28:H30) -> 0 | I27: =SUM(J27:L27) -> 0 | J27: =SUM(J28:J30) -> 0 | K27: =SUM(K28:K30) -> 0 | L27: =SUM(L28:L30) -> 0 | M27: =SUM(M28:M30) -> 0 | N27: =+O27+P27 -> 0 | O27: =SUM(O28:O30) -> 0 | P27: =SUM(P28:P30) -> 0 | Q27: =SUM(Q28:Q30) -> 0
B28: A.6.1. | D28: =O28+E28+I28+M28+P28+Q28 -> 0 | E28: =SUM(F28:H28) -> 0 | F28: =SUM(F51,F74,F113) -> 0 | G28: =SUM(G51,G74,G113) -> 0 | H28: =SUM(H51,H74,H113) -> 0 | I28: =SUM(J28:L28) -> 0 | J28: =SUM(J51,J74,J113) -> 0 | K28: =SUM(K51,K74,K113) -> 0 | L28: =SUM(L51,L74,L113) -> 0 | M28: =SUM(M51,M74,M113) -> 0 | N28: =+O28+P28 -> 0 | O28: =SUM(O51,O74,O113) -> 0 | P28: =SUM(P51,P74,P113) -> 0 | Q28: =SUM(Q51,Q74,Q113) -> 0
B29: A.6.2. | D29: =O29+E29+I29+M29+P29+Q29 -> 0 | E29: =SUM(F29:H29) -> 0 | F29: =SUM(F52,F75,F114) -> 0 | G29: =SUM(G52,G75,G114) -> 0 | H29: =SUM(H52,H75,H114) -> 0 | I29: =SUM(J29:L29) -> 0 | J29: =SUM(J52,J75,J114) -> 0 | K29: =SUM(K52,K75,K114) -> 0 | L29: =SUM(L52,L75,L114) -> 0 | M29: =SUM(M52,M75,M114) -> 0 | N29: =+O29+P29 -> 0 | O29: =SUM(O52,O75,O114) -> 0 | P29: =SUM(P52,P75,P114) -> 0 | Q29: =SUM(Q52,Q75,Q114) -> 0
B30: A.6.3. | D30: =O30+E30+I30+M30+P30+Q30 -> 0 | E30: =SUM(F30:H30) -> 0 | F30: =SUM(F53,F76,F115) -> 0 | G30: =SUM(G53,G76,G115) -> 0 | H30: =SUM(H53,H76,H115) -> 0 | I30: =SUM(J30:L30) -> 0 | J30: =SUM(J53,J76,J115) -> 0 | K30: =SUM(K53,K76,K115) -> 0 | L30: =SUM(L53,L76,L115) -> 0 | M30: =SUM(M53,M76,M115) -> 0 | N30: =+O30+P30 -> 0 | O30: =SUM(O53,O76,O115) -> 0 | P30: =SUM(P53,P76,P115) -> 0 | Q30: =SUM(Q53,Q76,Q115) -> 0
B31: B. | C31: TIESIOGIAI PASKIRSTOMAS ILGALAIKIS TURTAS | D31: =O31+E31+I31+M31+P31+Q31 -> 9074.2188 | E31: =E32+E36+E41+E44+E47+E50 -> 2525.5001 | F31: =F32+F36+F41+F44+F47+F50 -> 215.70452 | G31: =G32+G36+G41+G44+G47+G50 -> 945.83069 | H31: =H32+H36+H41+H44+H47+H50 -> 1363.9649 | I31: =I32+I36+I41+I44+I47+I50 -> 6548.7187 | J31: =J32+J36+J41+J44+J47+J50 -> 3023.8634 | K31: =K32+K36+K41+K44+K47+K50 -> 3498.538 | L31: =L32+L36+L41+L44+L47+L50 -> 26.31719 | M31: =M32+M36+M41+M44+M47+M50 -> 0 | N31: =+O31+P31 -> 0 | O31: =O32+O36+O41+O44+O47+O50 -> 0 | P31: =P32+P36+P41+P44+P47+P50 -> 0 | Q31: =Q32+Q36+Q41+Q44+Q47+Q50 -> 0
B32: B.1. | C32: NEMATERIALUSIS TURTAS | D32: =O32+E32+I32+M32+P32+Q32 -> 0 | E32: =SUM(F32:H32) -> 0 | F32: =SUM(F33:F35) -> 0 | G32: =SUM(G33:G35) -> 0 | H32: =SUM(H33:H35) -> 0 | I32: =SUM(J32:L32) -> 0 | J32: =SUM(J33:J35) -> 0 | K32: =SUM(K33:K35) -> 0 | L32: =SUM(L33:L35) -> 0 | M32: =SUM(M33:M35) -> 0 | N32: =+O32+P32 -> 0 | O32: =SUM(O33:O35) -> 0 | P32: =SUM(P33:P35) -> 0 | Q32: =SUM(Q33:Q35) -> 0
B33: B.1.1. | C33: standartinė programinė įranga | D33: =O33+E33+I33+M33+P33+Q33 -> 0 | E33: =SUM(F33:H33) -> 0 | F33: 0 | G33: 0 | H33: 0 | I33: =SUM(J33:L33) -> 0 | J33: 0 | K33: 0 | L33: 0 | M33: 0 | N33: =+O33+P33 -> 0 | O33: 0 | P33: 0 | Q33: 0 | R33: I.1.standartinė programinė įranga
B34: B.1.2. | C34: spec. programinė įranga | D34: =O34+E34+I34+M34+P34+Q34 -> 0 | E34: =SUM(F34:H34) -> 0 | F34: 0 | G34: 0 | H34: 0 | I34: =SUM(J34:L34) -> 0 | J34: 0 | K34: 0 | L34: 0 | M34: 0 | N34: =+O34+P34 -> 0 | O34: 0 | P34: 0 | Q34: 0 | R34: I.1.spec. programinė įranga
B35: B.1.3. | C35: kitas nematerialus turtas | D35: =O35+E35+I35+M35+P35+Q35 -> 0 | E35: =SUM(F35:H35) -> 0 | F35: 0 | G35: 0 | H35: 0 | I35: =SUM(J35:L35) -> 0 | J35: 0 | K35: 0 | L35: 0 | M35: 0 | N35: =+O35+P35 -> 0 | O35: 0 | P35: 0 | Q35: 0 | R35: I.1.kitas nematerialus turtas
B36: B.2. | C36: PASTATAI IR STATINIAI | D36: =O36+E36+I36+M36+P36+Q36 -> 8985.2926 | E36: =SUM(F36:H36) -> 2522.6902 | F36: =SUM(F37:F40) -> 214.09295 | G36: =SUM(G37:G40) -> 945.83069 | H36: =SUM(H37:H40) -> 1362.7666 | I36: =SUM(J36:L36) -> 6462.6024 | J36: =SUM(J37:J40) -> 2952.8157 | K36: =SUM(K37:K40) -> 3483.4695 | L36: =SUM(L37:L40) -> 26.31719 | M36: =SUM(M37:M40) -> 0 | N36: =+O36+P36 -> 0 | O36: =SUM(O37:O40) -> 0 | P36: =SUM(P37:P40) -> 0 | Q36: =SUM(Q37:Q40) -> 0
B37: B.2.1. | C37: Pastatai (administraciniai, gamybiniai-ūkiniai ir pan.) | D37: =O37+E37+I37+M37+P37+Q37 -> 34.05034 | E37: =SUM(F37:H37) -> 18.50362 | F37: 18.50362 | G37: 0 | H37: 0 | I37: =SUM(J37:L37) -> 15.54672 | J37: 0 | K37: 15.54672 | L37: 0 | M37: 0 | N37: =+O37+P37 -> 0 | O37: 0 | P37: 0 | Q37: 0 | R37: II.2.1.Pastatai
B38: B.2.2. | C38: keliai, aikštelės, šaligatviai ir tvoros | D38: =O38+E38+I38+M38+P38+Q38 -> 18.05476 | E38: =SUM(F38:H38) -> 18.05476 | F38: 18.05476 | G38: 0 | H38: 0 | I38: =SUM(J38:L38) -> 0 | J38: 0 | K38: 0 | L38: 0 | M38: 0 | N38: =+O38+P38 -> 0 | O38: 0 | P38: 0 | Q38: 0 | R38: II.2.2.1.keliai | S38: II.2.2.2.aikštelės | T38: II.2.2.3.šaligatviai | U38: II.2.2.4.tvoros
B39: B.2.3. | C39: vamzdynai | D39: =O39+E39+I39+M39+P39+Q39 -> 3036.873 | E39: =SUM(F39:H39) -> 1267.6335 | F39: 0 | G39: 0 | H39: 1267.6335 | I39: =SUM(J39:L39) -> 1769.2395 | J39: 1769.2395 | K39: 0 | L39: 0 | M39: 0 | N39: =+O39+P39 -> 0 | O39: 0 | P39: 0 | Q39: 0 | R39: II.2.3.vamzdynai
B40: B.2.4. | C40: Kiti įrenginiai (vandentiekio įrenginiai, nusodintuvai, diukeriai, vandens rezervuarai, gelžbetoniniai metantankai, smėlio gaudytuvai, aerotankai, nusodintuvai, nuotekų valymo flotatoriai, dumblo aikštelės ir kt.) | D40: =O40+E40+I40+M40+P40+Q40 -> 5896.3146 | E40: =SUM(F40:H40) -> 1218.4983 | F40: 177.53457 | G40: 945.83069 | H40: 95.13308 | I40: =SUM(J40:L40) -> 4677.8162 | J40: 1183.5763 | K40: 3467.9228 | L40: 26.31719 | M40: 0 | N40: =+O40+P40 -> 0 | O40: 0 | P40: 0 | Q40: 0 | R40: II.2.4.Kiti įrenginiai
B41: B.3. | C41: MAŠINOS IR ĮRANGA | D41: =O41+E41+I41+M41+P41+Q41 -> 57.41457 | E41: =SUM(F41:H41) -> 1.19835 | F41: =SUM(F42:F43) -> 0 | G41: =SUM(G42:G43) -> 0 | H41: =SUM(H42:H43) -> 1.19835 | I41: =SUM(J41:L41) -> 56.21622 | J41: =SUM(J42:J43) -> 41.1477 | K41: =SUM(K42:K43) -> 15.06852 | L41: =SUM(L42:L43) -> 0 | M41: =SUM(M42:M43) -> 0 | N41: =+O41+P41 -> 0 | O41: =SUM(O42:O43) -> 0 | P41: =SUM(P42:P43) -> 0 | Q41: =SUM(Q42:Q43) -> 0
B42: B.3.1. | C42: vandens siurbliai, nuotekų ir dumblo siurbliai virš 5 kW, kita įranga ( siurblių valdymo įranga, elektrotechninė įranga, stacionarios ir mobilios darbo bei hidrodinaminės mašinos, staklės, sklendės, grotelės, grėbliai, grandikliai, filtrai, centrifugos) | D42: =O42+E42+I42+M42+P42+Q42 -> 50.09705 | E42: =SUM(F42:H42) -> 1.19835 | F42: 0 | G42: 0 | H42: 1.19835 | I42: =SUM(J42:L42) -> 48.8987 | J42: 38.4477 | K42: 10.451 | L42: 0 | M42: 0 | N42: =+O42+P42 -> 0 | O42: 0 | P42: 0 | Q42: 0 | R42: II.3.1.vandens siurbliai, nuotekų ir dumblo siurbliai virš 5 kW, kita įranga
B43: B.3.2. | C43: nuotekų ir dumblo siurbliai iki 5 kW | D43: =O43+E43+I43+M43+P43+Q43 -> 7.31752 | E43: =SUM(F43:H43) -> 0 | F43: 0 | G43: 0 | H43: 0 | I43: =SUM(J43:L43) -> 7.31752 | J43: 2.7 | K43: 4.61752 | L43: 0 | M43: 0 | N43: =+O43+P43 -> 0 | O43: 0 | P43: 0 | Q43: 0 | R43: II.3.2.nuotekų ir dumblo siurbliai iki 5 kW
B44: B.4. | C44: KITI ĮRENGINIAI, PRIETAISAI IR ĮRANKIAI | D44: =O44+E44+I44+M44+P44+Q44 -> 0 | E44: =SUM(F44:H44) -> 0 | F44: =SUM(F45:F46) -> 0 | G44: =SUM(G45:G46) -> 0 | H44: =SUM(H45:H46) -> 0 | I44: =SUM(J44:L44) -> 0 | J44: =SUM(J45:J46) -> 0 | K44: =SUM(K45:K46) -> 0 | L44: =SUM(L45:L46) -> 0 | M44: =SUM(M45:M46) -> 0 | N44: =+O44+P44 -> 0 | O44: =SUM(O45:O46) -> 0 | P44: =SUM(P45:P46) -> 0 | Q44: =SUM(Q45:Q46) -> 0
B45: B.4.1. | C45: apskaitos prietaisai | D45: =O45+E45+I45+M45+P45+Q45 -> 0 | E45: =SUM(F45:H45) -> 0 | F45: 0 | G45: 0 | H45: 0 | I45: =SUM(J45:L45) -> 0 | J45: 0 | K45: 0 | L45: 0 | M45: 0 | N45: =+O45+P45 -> 0 | O45: 0 | P45: 0 | Q45: 0 | R45: II.4.1. apskaitos prietaisai
B46: B.4.1. | C46: įrankiai (matavimo priemonės, elektriniai įrankiai ir prietaisai, gamybinis inventorius ir kt.) | D46: =O46+E46+I46+M46+P46+Q46 -> 0 | E46: =SUM(F46:H46) -> 0 | F46: 0 | G46: 0 | H46: 0 | I46: =SUM(J46:L46) -> 0 | J46: 0 | K46: 0 | L46: 0 | M46: 0 | N46: =+O46+P46 -> 0 | O46: 0 | P46: 0 | Q46: 0 | R46: II.4.2. įrankiai
B47: B.5. | C47: TRANSPORTO PRIEMONĖS | D47: =O47+E47+I47+M47+P47+Q47 -> 31.51157 | E47: =SUM(F47:H47) -> 1.61157 | F47: =SUM(F48:F49) -> 1.61157 | G47: =SUM(G48:G49) -> 0 | H47: =SUM(H48:H49) -> 0 | I47: =SUM(J47:L47) -> 29.9 | J47: =SUM(J48:J49) -> 29.9 | K47: =SUM(K48:K49) -> 0 | L47: =SUM(L48:L49) -> 0 | M47: =SUM(M48:M49) -> 0 | N47: =+O47+P47 -> 0 | O47: =SUM(O48:O49) -> 0 | P47: =SUM(P48:P49) -> 0 | Q47: =SUM(Q48:Q49) -> 0
B48: B.5.1. | C48: lengvieji automobiliai | D48: =O48+E48+I48+M48+P48+Q48 -> 0 | E48: =SUM(F48:H48) -> 0 | F48: 0 | G48: 0 | H48: 0 | I48: =SUM(J48:L48) -> 0 | J48: 0 | K48: 0 | L48: 0 | M48: 0 | N48: =+O48+P48 -> 0 | O48: 0 | P48: 0 | Q48: 0 | R48: II.5.1.lengvieji automobiliai
B49: B.5.2. | C49: kitos transporto priemonės (transportas dumblui, vandeniui vežti, autobusai žmonėms vežti) | D49: =O49+E49+I49+M49+P49+Q49 -> 31.51157 | E49: =SUM(F49:H49) -> 1.61157 | F49: 1.61157 | G49: 0 | H49: 0 | I49: =SUM(J49:L49) -> 29.9 | J49: 29.9 | K49: 0 | L49: 0 | M49: 0 | N49: =+O49+P49 -> 0 | O49: 0 | P49: 0 | Q49: 0 | R49: II.5.2.kitos transporto priemonės
B50: B.6. | C50: KITAS ILGALAIKIS TURTAS | D50: =O50+E50+I50+M50+P50+Q50 -> 0 | E50: =SUM(F50:H50) -> 0 | F50: =SUM(F51:F53) -> 0 | G50: =SUM(G51:G53) -> 0 | H50: =SUM(H51:H53) -> 0 | I50: =SUM(J50:L50) -> 0 | J50: =SUM(J51:J53) -> 0 | K50: =SUM(K51:K53) -> 0 | L50: =SUM(L51:L53) -> 0 | M50: =SUM(M51:M53) -> 0 | N50: =+O50+P50 -> 0 | O50: =SUM(O51:O53) -> 0 | P50: =SUM(P51:P53) -> 0 | Q50: =SUM(Q51:Q53) -> 0
B51: B.6.1. | D51: =O51+E51+I51+M51+P51+Q51 -> 0 | E51: =SUM(F51:H51) -> 0 | F51: 0 | G51: 0 | H51: 0 | I51: =SUM(J51:L51) -> 0 | J51: 0 | K51: 0 | L51: 0 | M51: 0 | N51: =+O51+P51 -> 0 | O51: 0 | P51: 0 | Q51: 0 | R51: II.6.1.
B52: B.6.2. | D52: =O52+E52+I52+M52+P52+Q52 -> 0 | E52: =SUM(F52:H52) -> 0 | F52: 0 | G52: 0 | H52: 0 | I52: =SUM(J52:L52) -> 0 | J52: 0 | K52: 0 | L52: 0 | M52: 0 | N52: =+O52+P52 -> 0 | O52: 0 | P52: 0 | Q52: 0 | R52: II.6.2.
B53: B.6.3. | D53: =O53+E53+I53+M53+P53+Q53 -> 0 | E53: =SUM(F53:H53) -> 0 | F53: 0 | G53: 0 | H53: 0 | I53: =SUM(J53:L53) -> 0 | J53: 0 | K53: 0 | L53: 0 | M53: 0 | N53: =+O53+P53 -> 0 | O53: 0 | P53: 0 | Q53: 0 | R53: II.6.3.
A54: Netiesioginės sąnaudos | B54: C. | C54: NETIESIOGIAI PASKIRSTOMAS ILGALAIKIS TURTAS | D54: =D55+D59+D64+D67+D70+D73 -> 45.87569 | E54: =E55+E59+E64+E67+E70+E73 -> 11.727339 | F54: =F55+F59+F64+F67+F70+F73 -> 0.46175701 | G54: =G55+G59+G64+G67+G70+G73 -> 2.0941803 | H54: =H55+H59+H64+H67+H70+H73 -> 9.1714018 | I54: =I55+I59+I64+I67+I70+I73 -> 34.144445 | J54: =J55+J59+J64+J67+J70+J73 -> 22.116518 | K54: =K55+K59+K64+K67+K70+K73 -> 7.5114613 | ... M54: =M55+M59+M64+M67+M70+M73 -> 0 | N54: =+O54+P54 -> 0.0039059053 | O54: =O55+O59+O64+O67+O70+O73 -> 0.0039059053 | P54: =P55+P59+P64+P67+P70+P73 -> 0 | Q54: =Q55+Q59+Q64+Q67+Q70+Q73 -> 0
B55: C.1. | C55: NEMATERIALUSIS TURTAS | D55: =SUM(D56:D58) -> 0 | E55: =SUM(F55:H55) -> 0 | F55: =SUM(F56:F58) -> 0 | G55: =SUM(G56:G58) -> 0 | H55: =SUM(H56:H58) -> 0 | I55: =SUM(J55:L55) -> 0 | J55: =SUM(J56:J58) -> 0 | K55: =SUM(K56:K58) -> 0 | L55: =SUM(L56:L58) -> 0 | M55: =SUM(M56:M58) -> 0 | N55: =+O55+P55 -> 0 | O55: =SUM(O56:O58) -> 0 | P55: =SUM(P56:P58) -> 0 | Q55: =SUM(Q56:Q58) -> 0
B56: C.1.1. | C56: standartinė programinė įranga | D56: 0 | E56: =SUM(F56:H56) -> 0 | F56: =IFERROR($D56*F78/100, 0) -> 0 | G56: =IFERROR($D56*G78/100, 0) -> 0 | H56: =IFERROR($D56*H78/100, 0) -> 0 | I56: =SUM(J56:L56) -> 0 | J56: =IFERROR($D56*J78/100, 0) -> 0 | K56: =IFERROR($D56*K78/100, 0) -> 0 | L56: =IFERROR($D56*L78/100, 0) -> 0 | M56: =IFERROR($D56*M78/100, 0) -> 0 | N56: =+O56+P56 -> 0 | O56: =IFERROR($D56*O78/100, 0) -> 0 | P56: =IFERROR($D56*P78/100, 0) -> 0 | Q56: =IFERROR($D56*Q78/100, 0) -> 0 | R56: I.1.standartinė programinė įranga
B57: C.1.2. | C57: spec. programinė įranga | D57: 0 | E57: =SUM(F57:H57) -> 0 | F57: =IFERROR($D57*F79/100, 0) -> 0 | G57: =IFERROR($D57*G79/100, 0) -> 0 | H57: =IFERROR($D57*H79/100, 0) -> 0 | I57: =SUM(J57:L57) -> 0 | J57: =IFERROR($D57*J79/100, 0) -> 0 | K57: =IFERROR($D57*K79/100, 0) -> 0 | L57: =IFERROR($D57*L79/100, 0) -> 0 | M57: =IFERROR($D57*M79/100, 0) -> 0 | N57: =+O57+P57 -> 0 | O57: =IFERROR($D57*O79/100, 0) -> 0 | P57: =IFERROR($D57*P79/100, 0) -> 0 | Q57: =IFERROR($D57*Q79/100, 0) -> 0 | R57: I.1.spec. programinė įranga
B58: C.1.3. | C58: kitas nematerialus turtas | D58: 0 | E58: =SUM(F58:H58) -> 0 | F58: =IFERROR($D58*F80/100, 0) -> 0 | G58: =IFERROR($D58*G80/100, 0) -> 0 | H58: =IFERROR($D58*H80/100, 0) -> 0 | I58: =SUM(J58:L58) -> 0 | J58: =IFERROR($D58*J80/100, 0) -> 0 | K58: =IFERROR($D58*K80/100, 0) -> 0 | L58: =IFERROR($D58*L80/100, 0) -> 0 | M58: =IFERROR($D58*M80/100, 0) -> 0 | N58: =+O58+P58 -> 0 | O58: =IFERROR($D58*O80/100, 0) -> 0 | P58: =IFERROR($D58*P80/100, 0) -> 0 | Q58: =IFERROR($D58*Q80/100, 0) -> 0 | R58: I.1.kitas nematerialus turtas
B59: C.2. | C59: PASTATAI IR STATINIAI | D59: =SUM(D60:D63) -> 25.96131 | E59: =SUM(F59:H59) -> 6.6365669 | F59: =SUM(F60:F63) -> 0.26131088 | G59: =SUM(G60:G63) -> 1.1851083 | H59: =SUM(H60:H63) -> 5.1901477 | I59: =SUM(J59:L59) -> 19.322533 | J59: =SUM(J60:J63) -> 12.515861 | K59: =SUM(K60:K63) -> 4.250778 | L59: =SUM(L60:L63) -> 2.5558935 | M59: =SUM(M60:M63) -> 0 | N59: =+O59+P59 -> 0.0022103737 | O59: =SUM(O60:O63) -> 0.0022103737 | P59: =SUM(P60:P63) -> 0 | Q59: =SUM(Q60:Q63) -> 0
B60: C.2.1. | C60: Pastatai (administraciniai, gamybiniai-ūkiniai ir pan.) | D60: 20.6736 | E60: =SUM(F60:H60) -> 5.2848539 | F60: =IFERROR($D60*F81/100, 0) -> 0.20808798 | G60: =IFERROR($D60*G81/100, 0) -> 0.94372957 | H60: =IFERROR($D60*H81/100, 0) -> 4.1330363 | I60: =SUM(J60:L60) -> 15.386986 | J60: =IFERROR($D60*J81/100, 0) -> 9.9666738 | K60: =IFERROR($D60*K81/100, 0) -> 3.3849942 | L60: =IFERROR($D60*L81/100, 0) -> 2.0353179 | M60: =IFERROR($D60*M81/100, 0) -> 0 | N60: =+O60+P60 -> 0.0017601724 | O60: =IFERROR($D60*O81/100, 0) -> 0.0017601724 | P60: =IFERROR($D60*P81/100, 0) -> 0 | Q60: =IFERROR($D60*Q81/100, 0) -> 0 | R60: II.2.1.Pastatai
B61: C.2.2. | C61: keliai, aikštelės, šaligatviai ir tvoros | D61: 3.14238 | E61: =SUM(F61:H61) -> 0.80329595 | F61: =IFERROR($D61*F82/100, 0) -> 0.031629301 | G61: =IFERROR($D61*G82/100, 0) -> 0.14344657 | H61: =IFERROR($D61*H82/100, 0) -> 0.62822008 | I61: =SUM(J61:L61) -> 2.3388165 | J61: =IFERROR($D61*J82/100, 0) -> 1.5149309 | K61: =IFERROR($D61*K82/100, 0) -> 0.51451794 | L61: =IFERROR($D61*L82/100, 0) -> 0.30936762 | M61: =IFERROR($D61*M82/100, 0) -> 0 | N61: =+O61+P61 -> 0.00026754559 | O61: =IFERROR($D61*O82/100, 0) -> 0.00026754559 | P61: =IFERROR($D61*P82/100, 0) -> 0 | Q61: =IFERROR($D61*Q82/100, 0) -> 0 | R61: II.2.2.1.keliai | S61: II.2.2.2.aikštelės | T61: II.2.2.3.šaligatviai | U61: II.2.2.4.tvoros
B62: C.2.3. | C62: vamzdynai | D62: 0 | E62: =SUM(F62:H62) -> 0 | F62: =IFERROR($D62*F83/100, 0) -> 0 | G62: =IFERROR($D62*G83/100, 0) -> 0 | H62: =IFERROR($D62*H83/100, 0) -> 0 | I62: =SUM(J62:L62) -> 0 | J62: =IFERROR($D62*J83/100, 0) -> 0 | K62: =IFERROR($D62*K83/100, 0) -> 0 | L62: =IFERROR($D62*L83/100, 0) -> 0 | M62: =IFERROR($D62*M83/100, 0) -> 0 | N62: =+O62+P62 -> 0 | O62: =IFERROR($D62*O83/100, 0) -> 0 | P62: =IFERROR($D62*P83/100, 0) -> 0 | Q62: =IFERROR($D62*Q83/100, 0) -> 0 | R62: II.2.3.vamzdynai
B63: C.2.4. | C63: Kiti įrenginiai (vandentiekio įrenginiai, nusodintuvai, diukeriai, vandens rezervuarai, gelžbetoniniai metantankai, smėlio gaudytuvai, aerotankai, nusodintuvai, nuotekų valymo flotatoriai, dumblo aikštelės ir kt.) | D63: 2.14533 | E63: =SUM(F63:H63) -> 0.54841709 | F63: =IFERROR($D63*F84/100, 0) -> 0.021593597 | G63: =IFERROR($D63*G84/100, 0) -> 0.097932211 | H63: =IFERROR($D63*H84/100, 0) -> 0.42889128 | I63: =SUM(J63:L63) -> 1.5967303 | J63: =IFERROR($D63*J84/100, 0) -> 1.0342565 | K63: =IFERROR($D63*K84/100, 0) -> 0.35126585 | L63: =IFERROR($D63*L84/100, 0) -> 0.21120795 | M63: =IFERROR($D63*M84/100, 0) -> 0 | N63: =+O63+P63 -> 0.00018265569 | O63: =IFERROR($D63*O84/100, 0) -> 0.00018265569 | P63: =IFERROR($D63*P84/100, 0) -> 0 | Q63: =IFERROR($D63*Q84/100, 0) -> 0 | R63: II.2.4.Kiti įrenginiai
B64: C.3. | C64: MAŠINOS IR ĮRANGA | D64: =D65+D66 -> 1.29 | E64: =SUM(F64:H64) -> 0.32976654 | F64: =F65+F66 -> 0.012984362 | G64: =G65+G66 -> 0.058887235 | H64: =H65+H66 -> 0.25789494 | I64: =SUM(J64:L64) -> 0.96012363 | J64: =J65+J66 -> 0.62190471 | K64: =K65+K66 -> 0.2112183 | L64: =L65+L66 -> 0.12700062 | M64: =M65+M66 -> 0 | N64: =+O64+P64 -> 0.00010983198 | O64: =O65+O66 -> 0.00010983198 | P64: =P65+P66 -> 0 | Q64: =Q65+Q66 -> 0
B65: C.3.1. | C65: vandens siurbliai, nuotekų ir dumblo siurbliai virš 5 kW, kita įranga ( siurblių valdymo įranga, elektrotechninė įranga, stacionarios ir mobilios darbo bei hidrodinaminės mašinos, staklės, sklendės, grotelės, grėbliai, grandikliai, filtrai, centrifugos) | D65: 1.29 | E65: =SUM(F65:H65) -> 0.32976654 | F65: =IFERROR($D65*F85/100, 0) -> 0.012984362 | G65: =IFERROR($D65*G85/100, 0) -> 0.058887235 | H65: =IFERROR($D65*H85/100, 0) -> 0.25789494 | I65: =SUM(J65:L65) -> 0.96012363 | J65: =IFERROR($D65*J85/100, 0) -> 0.62190471 | K65: =IFERROR($D65*K85/100, 0) -> 0.2112183 | L65: =IFERROR($D65*L85/100, 0) -> 0.12700062 | M65: =IFERROR($D65*M85/100, 0) -> 0 | N65: =+O65+P65 -> 0.00010983198 | O65: =IFERROR($D65*O85/100, 0) -> 0.00010983198 | P65: =IFERROR($D65*P85/100, 0) -> 0 | Q65: =IFERROR($D65*Q85/100, 0) -> 0 | R65: II.3.1.vandens siurbliai, nuotekų ir dumblo siurbliai virš 5 kW, kita įranga
B66: C.3.2. | C66: nuotekų ir dumblo siurbliai iki 5 kW | D66: 0 | E66: =SUM(F66:H66) -> 0 | F66: =IFERROR($D66*F86/100, 0) -> 0 | G66: =IFERROR($D66*G86/100, 0) -> 0 | H66: =IFERROR($D66*H86/100, 0) -> 0 | I66: =SUM(J66:L66) -> 0 | J66: =IFERROR($D66*J86/100, 0) -> 0 | K66: =IFERROR($D66*K86/100, 0) -> 0 | L66: =IFERROR($D66*L86/100, 0) -> 0 | M66: =IFERROR($D66*M86/100, 0) -> 0 | N66: =+O66+P66 -> 0 | O66: =IFERROR($D66*O86/100, 0) -> 0 | P66: =IFERROR($D66*P86/100, 0) -> 0 | Q66: =IFERROR($D66*Q86/100, 0) -> 0 | R66: II.3.2.nuotekų ir dumblo siurbliai iki 5 kW
B67: C.4. | C67: KITI ĮRENGINIAI, PRIETAISAI IR ĮRANKIAI | D67: =D68+D69 -> 0 | E67: =SUM(F67:H67) -> 0 | F67: =F68+F69 -> 0 | G67: =G68+G69 -> 0 | H67: =H68+H69 -> 0 | I67: =SUM(J67:L67) -> 0 | J67: =J68+J69 -> 0 | K67: =K68+K69 -> 0 | L67: =L68+L69 -> 0 | M67: =M68+M69 -> 0 | N67: =+O67+P67 -> 0 | O67: =O68+O69 -> 0 | P67: =P68+P69 -> 0 | Q67: =Q68+Q69 -> 0
B68: C.4.1. | C68: apskaitos prietaisai | D68: 0 | E68: =SUM(F68:H68) -> 0 | F68: =IFERROR($D68*F87/100, 0) -> 0 | G68: =IFERROR($D68*G87/100, 0) -> 0 | H68: =IFERROR($D68*H87/100, 0) -> 0 | I68: =SUM(J68:L68) -> 0 | J68: =IFERROR($D68*J87/100, 0) -> 0 | K68: =IFERROR($D68*K87/100, 0) -> 0 | L68: =IFERROR($D68*L87/100, 0) -> 0 | M68: =IFERROR($D68*M87/100, 0) -> 0 | N68: =+O68+P68 -> 0 | O68: =IFERROR($D68*O87/100, 0) -> 0 | P68: =IFERROR($D68*P87/100, 0) -> 0 | Q68: =IFERROR($D68*Q87/100, 0) -> 0 | R68: II.4.1. apskaitos prietaisai
B69: C.4.2. | C69: įrankiai (matavimo priemonės, elektriniai įrankiai ir prietaisai, gamybinis inventorius ir kt.) | D69: 0 | E69: =SUM(F69:H69) -> 0 | F69: =IFERROR($D69*F88/100, 0) -> 0 | G69: =IFERROR($D69*G88/100, 0) -> 0 | H69: =IFERROR($D69*H88/100, 0) -> 0 | I69: =SUM(J69:L69) -> 0 | J69: =IFERROR($D69*J88/100, 0) -> 0 | K69: =IFERROR($D69*K88/100, 0) -> 0 | L69: =IFERROR($D69*L88/100, 0) -> 0 | M69: =IFERROR($D69*M88/100, 0) -> 0 | N69: =+O69+P69 -> 0 | O69: =IFERROR($D69*O88/100, 0) -> 0 | P69: =IFERROR($D69*P88/100, 0) -> 0 | Q69: =IFERROR($D69*Q88/100, 0) -> 0 | R69: II.4.2. įrankiai
B70: C.5. | C70: TRANSPORTO PRIEMONĖS | D70: =D71+D72 -> 18.62438 | E70: =SUM(F70:H70) -> 4.7610057 | F70: =F71+F72 -> 0.18746177 | G70: =G71+G72 -> 0.85018469 | H70: =H71+H72 -> 3.7233592 | I70: =SUM(J70:L70) -> 13.861789 | J70: =J71+J72 -> 8.9787516 | K70: =K71+K72 -> 3.049465 | L70: =L71+L72 -> 1.833572 | M70: =M71+M72 -> 0 | N70: =+O70+P70 -> 0.0015856996 | O70: =O71+O72 -> 0.0015856996 | P70: =P71+P72 -> 0 | Q70: =Q71+Q72 -> 0
B71: C.5.1. | C71: lengvieji automobiliai | D71: 17.55 | E71: =SUM(F71:H71) -> 4.4863587 | F71: =IFERROR($D71*F89/100, 0) -> 0.17664771 | G71: =IFERROR($D71*G89/100, 0) -> 0.80114029 | H71: =IFERROR($D71*H89/100, 0) -> 3.5085707 | I71: =SUM(J71:L71) -> 13.062147 | J71: =IFERROR($D71*J89/100, 0) -> 8.4607966 | K71: =IFERROR($D71*K89/100, 0) -> 2.8735512 | L71: =IFERROR($D71*L89/100, 0) -> 1.7277992 | M71: =IFERROR($D71*M89/100, 0) -> 0 | N71: =+O71+P71 -> 0.0014942258 | O71: =IFERROR($D71*O89/100, 0) -> 0.0014942258 | P71: =IFERROR($D71*P89/100, 0) -> 0 | Q71: =IFERROR($D71*Q89/100, 0) -> 0 | R71: II.5.1.lengvieji automobiliai
B72: C.5.2. | C72: kitos transporto priemonės (transportas dumblui, vandeniui vežti, autobusai žmonėms vežti) | D72: 1.07438 | E72: =SUM(F72:H72) -> 0.27464696 | F72: =IFERROR($D72*F90/100, 0) -> 0.010814061 | G72: =IFERROR($D72*G90/100, 0) -> 0.049044394 | H72: =IFERROR($D72*H90/100, 0) -> 0.2147885 | I72: =SUM(J72:L72) -> 0.79964157 | J72: =IFERROR($D72*J90/100, 0) -> 0.51795502 | K72: =IFERROR($D72*K90/100, 0) -> 0.17591373 | L72: =IFERROR($D72*L90/100, 0) -> 0.10577282 | M72: =IFERROR($D72*M90/100, 0) -> 0 | N72: =+O72+P72 -> 9.1473861e-05 | O72: =IFERROR($D72*O90/100, 0) -> 9.1473861e-05 | P72: =IFERROR($D72*P90/100, 0) -> 0 | Q72: =IFERROR($D72*Q90/100, 0) -> 0 | R72: II.5.2.kitos transporto priemonės
B73: C.6. | C73: KITAS ILGALAIKIS TURTAS | D73: =D74+D75+D76 -> 0 | E73: =E74+E75+E76 -> 0 | F73: =F74+F75+F76 -> 0 | G73: =G74+G75+G76 -> 0 | H73: =H74+H75+H76 -> 0 | I73: =I74+I75+I76 -> 0 | J73: =J74+J75+J76 -> 0 | K73: =K74+K75+K76 -> 0 | ... M73: =M74+M75+M76 -> 0 | N73: =+O73+P73 -> 0 | O73: =O74+O75+O76 -> 0 | P73: =P74+P75+P76 -> 0 | Q73: =Q74+Q75+Q76 -> 0
B74: C.6.1. | D74: 0 | E74: =SUM(F74:H74) -> 0 | F74: =IFERROR($D74*F91/100, 0) -> 0 | G74: =IFERROR($D74*G91/100, 0) -> 0 | H74: =IFERROR($D74*H91/100, 0) -> 0 | I74: =SUM(J74:L74) -> 0 | J74: =IFERROR($D74*J91/100, 0) -> 0 | K74: =IFERROR($D74*K91/100, 0) -> 0 | L74: =IFERROR($D74*L91/100, 0) -> 0 | M74: =IFERROR($D74*M91/100, 0) -> 0 | N74: =+O74+P74 -> 0 | O74: =IFERROR($D74*O91/100, 0) -> 0 | P74: =IFERROR($D74*P91/100, 0) -> 0 | Q74: =IFERROR($D74*Q91/100, 0) -> 0 | R74: II.6.1.
B75: C.6.2. | D75: 0 | E75: =SUM(F75:H75) -> 0 | F75: =IFERROR($D75*F92/100, 0) -> 0 | G75: =IFERROR($D75*G92/100, 0) -> 0 | H75: =IFERROR($D75*H92/100, 0) -> 0 | I75: =SUM(J75:L75) -> 0 | J75: =IFERROR($D75*J92/100, 0) -> 0 | K75: =IFERROR($D75*K92/100, 0) -> 0 | L75: =IFERROR($D75*L92/100, 0) -> 0 | M75: =IFERROR($D75*M92/100, 0) -> 0 | N75: =+O75+P75 -> 0 | O75: =IFERROR($D75*O92/100, 0) -> 0 | P75: =IFERROR($D75*P92/100, 0) -> 0 | Q75: =IFERROR($D75*Q92/100, 0) -> 0 | R75: II.6.2.
B76: C.6.3. | D76: 0 | E76: =SUM(F76:H76) -> 0 | F76: =IFERROR($D76*F93/100, 0) -> 0 | G76: =IFERROR($D76*G93/100, 0) -> 0 | H76: =IFERROR($D76*H93/100, 0) -> 0 | I76: =SUM(J76:L76) -> 0 | J76: =IFERROR($D76*J93/100, 0) -> 0 | K76: =IFERROR($D76*K93/100, 0) -> 0 | L76: =IFERROR($D76*L93/100, 0) -> 0 | M76: =IFERROR($D76*M93/100, 0) -> 0 | N76: =+O76+P76 -> 0 | O76: =IFERROR($D76*O93/100, 0) -> 0 | P76: =IFERROR($D76*P93/100, 0) -> 0 | Q76: =IFERROR($D76*Q93/100, 0) -> 0 | R76: II.6.3.
B77: D. | C77: Netiesiogiai paskirstomo ilgalaikio turto paskirstymo kriterijus | D77: 1. IŠ VISO | E77: 2. Iš viso GVT | F77: 2.1. Geriamojo vandens gavyba | G77: 2.2. Geriamojo vandens ruošimas | H77: 2.3. Geriamojo vandens pristatymas | I77: 3. Iš viso NT | J77: 3.1. Nuotekų surinkimas | K77: 3.2. Nuotekų valymas | L77: 3.3. Nuotekų dumblo tvarkymas | M77: 4. Paviršinių nuotekų tvarkymas (tik esant atskirai paviršinių nuotekų tvarkymo sistemai) | N77: 5. Kitos reguliuojamosios veiklos verslo vienetas | O77: 5.1 Apskaitos veikla | P77: 5.2. Kita reguliuojama veikla | Q77: 6. Kitos veiklos (nereguliuojamosios veiklos) verslo vienetas
A78: I.1.standartinė programinė įranga | B78: D.1. | C78: C.1.1 Punktui Tiesiogiai paslaugoms priskirto naudojamo turto buhalterinė įsigijimo vertė | D78: =O78+E78+I78+M78+P78+Q78 -> 100 | E78: =SUM(F78:H78) -> 25.563298 | F78: 1.0065397 | G78: 4.5649019 | H78: 19.991856 | I78: =SUM(J78:L78) -> 74.428188 | J78: 48.209667 | K78: 16.373511 | L78: 9.8450097 | M78: 0 | N78: =+O78+P78 -> 0.0085141069 | O78: 0.0085141069 | P78: 0 | Q78: 0 | R78: C.1.1 Punktui
A79: I.1.spec. programinė įranga | B79: D.2. | C79: C.1.2. Punktui Tiesiogiai paslaugoms priskirto naudojamo turto buhalterinė įsigijimo vertė | D79: =O79+E79+I79+M79+P79+Q79 -> 100 | E79: =SUM(F79:H79) -> 25.563298 | F79: 1.0065397 | G79: 4.5649019 | H79: 19.991856 | I79: =SUM(J79:L79) -> 74.428188 | J79: 48.209667 | K79: 16.373511 | L79: 9.8450097 | M79: 0 | N79: =+O79+P79 -> 0.0085141069 | O79: 0.0085141069 | P79: 0 | Q79: 0 | R79: C.1.2. Punktui
A80: I.1.kitas nematerialus turtas | B80: D.3. | C80: C.1.3. Punktui Tiesiogiai paslaugoms priskirto naudojamo turto buhalterinė įsigijimo vertė | D80: =O80+E80+I80+M80+P80+Q80 -> 100 | E80: =SUM(F80:H80) -> 25.563298 | F80: 1.0065397 | G80: 4.5649019 | H80: 19.991856 | I80: =SUM(J80:L80) -> 74.428188 | J80: 48.209667 | K80: 16.373511 | L80: 9.8450097 | M80: 0 | N80: =+O80+P80 -> 0.0085141069 | O80: 0.0085141069 | P80: 0 | Q80: 0 | R80: C.1.3. Punktui
A81: II.2.1.Pastatai | B81: D.4. | C81: C.2.1 Punktui Tiesiogiai paslaugoms priskirto naudojamo turto buhalterinė įsigijimo vertė | D81: =O81+E81+I81+M81+P81+Q81 -> 100 | E81: =SUM(F81:H81) -> 25.563298 | F81: 1.0065397 | G81: 4.5649019 | H81: 19.991856 | I81: =SUM(J81:L81) -> 74.428188 | J81: 48.209667 | K81: 16.373511 | L81: 9.8450097 | M81: 0 | N81: =+O81+P81 -> 0.0085141069 | O81: 0.0085141069 | P81: 0 | Q81: 0 | R81: C.2.1 Punktui
A82: II.2.2.keliai, šaligatviai ir tvoros | B82: D.5. | C82: C.2.2. Punktui Tiesiogiai paslaugoms priskirto naudojamo turto buhalterinė įsigijimo vertė | D82: =O82+E82+I82+M82+P82+Q82 -> 100 | E82: =SUM(F82:H82) -> 25.563298 | F82: 1.0065397 | G82: 4.5649019 | H82: 19.991856 | I82: =SUM(J82:L82) -> 74.428188 | J82: 48.209667 | K82: 16.373511 | L82: 9.8450097 | M82: 0 | N82: =+O82+P82 -> 0.0085141069 | O82: 0.0085141069 | P82: 0 | Q82: 0 | R82: C.2.2. Punktui
A83: II.2.3.vamzdynai | B83: D.6. | C83: C.2.3 Punktui Tiesiogiai paslaugoms priskirto naudojamo turto buhalterinė įsigijimo vertė | D83: =O83+E83+I83+M83+P83+Q83 -> 100 | E83: =SUM(F83:H83) -> 25.563298 | F83: 1.0065397 | G83: 4.5649019 | H83: 19.991856 | I83: =SUM(J83:L83) -> 74.428188 | J83: 48.209667 | K83: 16.373511 | L83: 9.8450097 | M83: 0 | N83: =+O83+P83 -> 0.0085141069 | O83: 0.0085141069 | P83: 0 | Q83: 0 | R83: C.2.3 Punktui
A84: II.2.4.Kiti įrenginiai | B84: D.7. | C84: C.2.4 Punktui Tiesiogiai paslaugoms priskirto naudojamo turto buhalterinė įsigijimo vertė | D84: =O84+E84+I84+M84+P84+Q84 -> 100 | E84: =SUM(F84:H84) -> 25.563298 | F84: 1.0065397 | G84: 4.5649019 | H84: 19.991856 | I84: =SUM(J84:L84) -> 74.428188 | J84: 48.209667 | K84: 16.373511 | L84: 9.8450097 | M84: 0 | N84: =+O84+P84 -> 0.0085141069 | O84: 0.0085141069 | P84: 0 | Q84: 0 | R84: C.2.4 Punktui
A85: II.3.1.vandens siurbliai, nuotekų ir dumblo siurbliai virš 5 kW, kita įranga | B85: D.8. | C85: C.3.1. Punktui Tiesiogiai paslaugoms priskirto naudojamo turto buhalterinė įsigijimo vertė | D85: =O85+E85+I85+M85+P85+Q85 -> 100 | E85: =SUM(F85:H85) -> 25.563298 | F85: 1.0065397 | G85: 4.5649019 | H85: 19.991856 | I85: =SUM(J85:L85) -> 74.428188 | J85: 48.209667 | K85: 16.373511 | L85: 9.8450097 | M85: 0 | N85: =+O85+P85 -> 0.0085141069 | O85: 0.0085141069 | P85: 0 | Q85: 0 | R85: C.3.1. Punktui
A86: II.3.2.nuotekų ir dumblo siurbliai iki 5 kW | B86: D.9. | C86: C.3.2. Punktui Tiesiogiai paslaugoms priskirto naudojamo turto buhalterinė įsigijimo vertė | D86: =O86+E86+I86+M86+P86+Q86 -> 100 | E86: =SUM(F86:H86) -> 25.563298 | F86: 1.0065397 | G86: 4.5649019 | H86: 19.991856 | I86: =SUM(J86:L86) -> 74.428188 | J86: 48.209667 | K86: 16.373511 | L86: 9.8450097 | M86: 0 | N86: =+O86+P86 -> 0.0085141069 | O86: 0.0085141069 | P86: 0 | Q86: 0 | R86: C.3.2. Punktui
A87: II.4.1. apskaitos prietaisai | B87: D.10. | C87: C.4.1 Punktui Tiesiogiai paslaugoms priskirto naudojamo turto buhalterinė įsigijimo vertė | D87: =O87+E87+I87+M87+P87+Q87 -> 100 | E87: =SUM(F87:H87) -> 25.563298 | F87: 1.0065397 | G87: 4.5649019 | H87: 19.991856 | I87: =SUM(J87:L87) -> 74.428188 | J87: 48.209667 | K87: 16.373511 | L87: 9.8450097 | M87: 0 | N87: =+O87+P87 -> 0.0085141069 | O87: 0.0085141069 | P87: 0 | Q87: 0 | R87: C.4.1 Punktui
A88: II.4.2. įrankiai | B88: D.11. | C88: C.4.2 Punktui Tiesiogiai paslaugoms priskirto naudojamo turto buhalterinė įsigijimo vertė | D88: =O88+E88+I88+M88+P88+Q88 -> 100 | E88: =SUM(F88:H88) -> 25.563298 | F88: 1.0065397 | G88: 4.5649019 | H88: 19.991856 | I88: =SUM(J88:L88) -> 74.428188 | J88: 48.209667 | K88: 16.373511 | L88: 9.8450097 | M88: 0 | N88: =+O88+P88 -> 0.0085141069 | O88: 0.0085141069 | P88: 0 | Q88: 0 | R88: C.4.2 Punktui
A89: II.5.1.lengvieji automobiliai | B89: D.12. | C89: C.5.1 Punktui Tiesiogiai paslaugoms priskirto naudojamo turto buhalterinė įsigijimo vertė | D89: =O89+E89+I89+M89+P89+Q89 -> 100 | E89: =SUM(F89:H89) -> 25.563298 | F89: 1.0065397 | G89: 4.5649019 | H89: 19.991856 | I89: =SUM(J89:L89) -> 74.428188 | J89: 48.209667 | K89: 16.373511 | L89: 9.8450097 | M89: 0 | N89: =+O89+P89 -> 0.0085141069 | O89: 0.0085141069 | P89: 0 | Q89: 0 | R89: C.5.1 Punktui
... A93: II.6.3. | B93: D.16. | C93: C.6.3. Punktui Tiesiogiai paslaugoms priskirto naudojamo turto buhalterinė įsigijimo vertė | D93: =O93+E93+I93+M93+P93+Q93 -> 100 | E93: =SUM(F93:H93) -> 25.563298 | F93: 1.0065397 | G93: 4.5649019 | H93: 19.991856 | I93: =SUM(J93:L93) -> 74.428188 | J93: 48.209667 | K93: 16.373511 | L93: 9.8450097 | M93: 0 | N93: =+O93+P93 -> 0.0085141069 | O93: 0.0085141069 | P93: 0 | Q93: 0 | R93: C.6.3. Punktui
A94: Bendrosios sąnaudos | B94: E. | C94: BENDRAI PASKIRSTOMAS ILGALAIKIS TURTAS | D94: =D95+D99+D104+D106+D109+D112 -> 121.1319 | E94: =E95+E99+E104+E106+E109+E112 -> 34.818522 | F94: =F95+F99+F104+F106+F109+F112 -> 6.540711 | G94: =G95+G99+G104+G106+G109+G112 -> 7.8725375 | H94: =H95+H99+H104+H106+H109+H112 -> 20.405273 | I94: =I95+I99+I104+I106+I109+I112 -> 79.901351 | J94: =J95+J99+J104+J106+J109+J112 -> 37.407416 | K94: =K95+K99+K104+K106+K109+K112 -> 31.960403 | ... M94: =M95+M99+M104+M106+M109+M112 -> 0 | N94: =+O94+P94 -> 4.9992303 | O94: =O95+O99+O104+O106+O109+O112 -> 4.9992303 | P94: =P95+P99+P104+P106+P109+P112 -> 0 | Q94: =Q95+Q99+Q104+Q106+Q109+Q112 -> 1.4127973
B95: E.1. | C95: NEMATERIALUSIS TURTAS | D95: =SUM(D96:D98) -> 0 | E95: =SUM(F95:H95) -> 0 | F95: =SUM(F96:F98) -> 0 | G95: =SUM(G96:G98) -> 0 | H95: =SUM(H96:H98) -> 0 | I95: =SUM(J95:L95) -> 0 | J95: =SUM(J96:J98) -> 0 | K95: =SUM(K96:K98) -> 0 | L95: =SUM(L96:L98) -> 0 | M95: =SUM(M96:M98) -> 0 | N95: =+O95+P95 -> 0 | O95: =SUM(O96:O98) -> 0 | P95: =SUM(P96:P98) -> 0 | Q95: =SUM(Q96:Q98) -> 0
B96: E.1.1. | C96: standartinė programinė įranga | D96: 0 | E96: =SUM(F96:H96) -> 0 | F96: =IFERROR($D96*F117/100, 0) -> 0 | G96: =IFERROR($D96*G117/100, 0) -> 0 | H96: =IFERROR($D96*H117/100, 0) -> 0 | I96: =SUM(J96:L96) -> 0 | J96: =IFERROR($D96*J117/100, 0) -> 0 | K96: =IFERROR($D96*K117/100, 0) -> 0 | L96: =IFERROR($D96*L117/100, 0) -> 0 | M96: =IFERROR($D96*M117/100, 0) -> 0 | N96: =+O96+P96 -> 0 | O96: =IFERROR($D96*O117/100, 0) -> 0 | P96: =IFERROR($D96*P117/100, 0) -> 0 | Q96: =IFERROR($D96*Q117/100, 0) -> 0 | R96: I.1.standartinė programinė įranga
B97: E.1.2. | C97: spec. programinė įranga | D97: 0 | E97: =SUM(F97:H97) -> 0 | F97: =IFERROR($D97*F118/100, 0) -> 0 | G97: =IFERROR($D97*G118/100, 0) -> 0 | H97: =IFERROR($D97*H118/100, 0) -> 0 | I97: =SUM(J97:L97) -> 0 | J97: =IFERROR($D97*J118/100, 0) -> 0 | K97: =IFERROR($D97*K118/100, 0) -> 0 | L97: =IFERROR($D97*L118/100, 0) -> 0 | M97: =IFERROR($D97*M118/100, 0) -> 0 | N97: =+O97+P97 -> 0 | O97: =IFERROR($D97*O118/100, 0) -> 0 | P97: =IFERROR($D97*P118/100, 0) -> 0 | Q97: =IFERROR($D97*Q118/100, 0) -> 0 | R97: I.1.spec. programinė įranga
B98: E.1.3. | C98: kitas nematerialus turtas | D98: 0 | E98: =SUM(F98:H98) -> 0 | F98: =IFERROR($D98*F119/100, 0) -> 0 | G98: =IFERROR($D98*G119/100, 0) -> 0 | H98: =IFERROR($D98*H119/100, 0) -> 0 | I98: =SUM(J98:L98) -> 0 | J98: =IFERROR($D98*J119/100, 0) -> 0 | K98: =IFERROR($D98*K119/100, 0) -> 0 | L98: =IFERROR($D98*L119/100, 0) -> 0 | M98: =IFERROR($D98*M119/100, 0) -> 0 | N98: =+O98+P98 -> 0 | O98: =IFERROR($D98*O119/100, 0) -> 0 | P98: =IFERROR($D98*P119/100, 0) -> 0 | Q98: =IFERROR($D98*Q119/100, 0) -> 0 | R98: I.1.kitas nematerialus turtas
B99: E.2. | C99: PASTATAI IR STATINIAI | D99: =SUM(D100:D103) -> 121.1319 | E99: =SUM(F99:H99) -> 34.818522 | F99: =SUM(F100:F103) -> 6.540711 | G99: =SUM(G100:G103) -> 7.8725375 | H99: =SUM(H100:H103) -> 20.405273 | I99: =SUM(J99:L99) -> 79.901351 | J99: =SUM(J100:J103) -> 37.407416 | K99: =SUM(K100:K103) -> 31.960403 | L99: =SUM(L100:L103) -> 10.533532 | M99: =SUM(M100:M103) -> 0 | N99: =+O99+P99 -> 4.9992303 | O99: =SUM(O100:O103) -> 4.9992303 | P99: =SUM(P100:P103) -> 0 | Q99: =SUM(Q100:Q103) -> 1.4127973
B100: E.2.1. | C100: Pastatai (administraciniai, gamybiniai-ūkiniai ir pan.) | D100: 114.68271 | E100: =SUM(F100:H100) -> 32.964747 | F100: =IFERROR($D100*F120/100, 0) -> 6.1924767 | G100: =IFERROR($D100*G120/100, 0) -> 7.4533953 | H100: =IFERROR($D100*H120/100, 0) -> 19.318875 | I100: =SUM(J100:L100) -> 75.647318 | J100: =IFERROR($D100*J120/100, 0) -> 35.415806 | K100: =IFERROR($D100*K120/100, 0) -> 30.258797 | L100: =IFERROR($D100*L120/100, 0) -> 9.9727153 | M100: =IFERROR($D100*M120/100, 0) -> 0 | N100: =+O100+P100 -> 4.733066 | O100: =IFERROR($D100*O120/100, 0) -> 4.733066 | P100: =IFERROR($D100*P120/100, 0) -> 0 | Q100: =IFERROR($D100*Q120/100, 0) -> 1.3375785 | R100: II.2.1.Pastatai
B101: E.2.2. | C101: keliai, aikštelės, šaligatviai ir tvoros | D101: 0 | E101: =SUM(F101:H101) -> 0 | F101: =IFERROR($D101*F121/100, 0) -> 0 | G101: =IFERROR($D101*G121/100, 0) -> 0 | H101: =IFERROR($D101*H121/100, 0) -> 0 | I101: =SUM(J101:L101) -> 0 | J101: =IFERROR($D101*J121/100, 0) -> 0 | K101: =IFERROR($D101*K121/100, 0) -> 0 | L101: =IFERROR($D101*L121/100, 0) -> 0 | M101: =IFERROR($D101*M121/100, 0) -> 0 | N101: =+O101+P101 -> 0 | O101: =IFERROR($D101*O121/100, 0) -> 0 | P101: =IFERROR($D101*P121/100, 0) -> 0 | Q101: =IFERROR($D101*Q121/100, 0) -> 0 | R101: II.2.2.1.keliai | S101: II.2.2.2.aikštelės | T101: II.2.2.3.šaligatviai | U101: II.2.2.4.tvoros
B102: E.2.3. | C102: vamzdynai | D102: 0 | E102: =SUM(F102:H102) -> 0 | F102: =IFERROR($D102*F122/100, 0) -> 0 | G102: =IFERROR($D102*G122/100, 0) -> 0 | H102: =IFERROR($D102*H122/100, 0) -> 0 | I102: =SUM(J102:L102) -> 0 | J102: =IFERROR($D102*J122/100, 0) -> 0 | K102: =IFERROR($D102*K122/100, 0) -> 0 | L102: =IFERROR($D102*L122/100, 0) -> 0 | M102: =IFERROR($D102*M122/100, 0) -> 0 | N102: =+O102+P102 -> 0 | O102: =IFERROR($D102*O122/100, 0) -> 0 | P102: =IFERROR($D102*P122/100, 0) -> 0 | Q102: =IFERROR($D102*Q122/100, 0) -> 0 | R102: II.2.3.vamzdynai
B103: E.2.4. | C103: Kiti įrenginiai | D103: 6.44919 | E103: =SUM(F103:H103) -> 1.8537748 | F103: =IFERROR($D103*F123/100, 0) -> 0.34823435 | G103: =IFERROR($D103*G123/100, 0) -> 0.41914219 | H103: =IFERROR($D103*H123/100, 0) -> 1.0863983 | I103: =SUM(J103:L103) -> 4.2540321 | J103: =IFERROR($D103*J123/100, 0) -> 1.9916103 | K103: =IFERROR($D103*K123/100, 0) -> 1.7016055 | L103: =IFERROR($D103*L123/100, 0) -> 0.56081632 | M103: =IFERROR($D103*M123/100, 0) -> 0 | N103: =+O103+P103 -> 0.26616429 | O103: =IFERROR($D103*O123/100, 0) -> 0.26616429 | P103: =IFERROR($D103*P123/100, 0) -> 0 | Q103: =IFERROR($D103*Q123/100, 0) -> 0.075218817 | R103: II.2.4.Kiti įrenginiai
B104: E.3. | C104: MAŠINOS IR ĮRANGA | D104: =D105 -> 0 | E104: =SUM(F104:H104) -> 0 | F104: =F105 -> 0 | G104: =G105 -> 0 | H104: =H105 -> 0 | I104: =SUM(J104:L104) -> 0 | J104: =J105 -> 0 | K104: =K105 -> 0 | L104: =L105 -> 0 | M104: =M105 -> 0 | N104: =+O104+P104 -> 0 | O104: =O105 -> 0 | P104: =P105 -> 0 | Q104: =Q105 -> 0
B105: E.3.1. | C105: Kita įranga | D105: 0 | E105: =SUM(F105:H105) -> 0 | F105: =IFERROR($D105*F124/100, 0) -> 0 | G105: =IFERROR($D105*G124/100, 0) -> 0 | H105: =IFERROR($D105*H124/100, 0) -> 0 | I105: =SUM(J105:L105) -> 0 | J105: =IFERROR($D105*J124/100, 0) -> 0 | K105: =IFERROR($D105*K124/100, 0) -> 0 | L105: =IFERROR($D105*L124/100, 0) -> 0 | M105: =IFERROR($D105*M124/100, 0) -> 0 | N105: =+O105+P105 -> 0 | O105: =IFERROR($D105*O124/100, 0) -> 0 | P105: =IFERROR($D105*P124/100, 0) -> 0 | Q105: =IFERROR($D105*Q124/100, 0) -> 0 | R105: II.3.1.vandens siurbliai, nuotekų ir dumblo siurbliai virš 5 kW, kita įranga
...

Sheet 7
C2: Ūkio subjektas: UAB „Biržų vandenys“ | Q2: Geriamojo vandens tiekimo ir nuotekų tvarkymo bei paviršinių nuotekų tvarkymo paslaugų įmonių apskaitos atskyrimo ir susijusių reikalavimų aprašo 7 priedas
C3: Ataskaitinis laikotarpis: 2021-01-01 - 2021-12-31
C5: Ataskaitinio laikotarpio reguliuojamo ilgalaikio turto likutinės vertės ( suskaičiuotos pagal Aprašo nuostatas) paskirstymo verslo vienetams ir paslaugoms ataskaita (tūkst. Eur)
F6: II.Gavyba | G6: II.Ruošimas | H6: II.Pristatymas | J6: III.Surinkimas | K6: III.Valymas | L6: III.Dumblas | M6: III.Pav.nuotekos | O6: I.Apskaitos veikla | P6: IV.Kita_reguliuojama | Q6: V.Nereguliuojama
B7: Eil. Nr. | C7: ILGALAIKIS TURTAS | D7: 1. IŠ VISO | E7: 2. Iš viso GVT | F7: 2.1. Geriamojo vandens gavyba | G7: 2.2. Geriamojo vandens ruošimas | H7: 2.3. Geriamojo vandens pristatymas | I7: 3. Iš viso NT | J7: 3.1. Nuotekų surinkimas | K7: 3.2. Nuotekų valymas | L7: 3.3. Nuotekų dumblo tvarkymas | M7: 4. Paviršinių nuotekų tvarkymas (tik esant atskirai paviršinių nuotekų tvarkymo sistemai) | N7: 5. Kitos reguliuojamosios veiklos verslo vienetas | O7: 5.1 Apskaitos veikla | P7: 5.2. Kita reguliuojama veikla | Q7: 6. Kitos veiklos (nereguliuojamosios veiklos) verslo vienetas
B8: A. | C8: PASKIRSTOMAS ILGALAIKIS TURTAS | D8: =D9+D13+D18+D21+D24+D27 -> 4514.9968 | E8: =E9+E13+E18+E21+E24+E27 -> 1267.6717 | F8: =F9+F13+F18+F21+F24+F27 -> 116.19713 | G8: =G9+G13+G18+G21+G24+G27 -> 293.85492 | H8: =H9+H13+H18+H21+H24+H27 -> 857.61961 | I8: =I9+I13+I18+I21+I24+I27 -> 3243.7083 | J8: =J9+J13+J18+J21+J24+J27 -> 1623.0694 | K8: =K9+K13+K18+K21+K24+K27 -> 1598.8444 | ... M8: =M9+M13+M18+M21+M24+M27 -> 0 | N8: =+O8+P8 -> 2.8204015 | O8: =O9+O13+O18+O21+O24+O27 -> 2.8204015 | P8: =P9+P13+P18+P21+P24+P27 -> 0 | Q8: =Q9+Q13+Q18+Q21+Q24+Q27 -> 0.79644043
B9: A.1. | C9: NEMATERIALUSIS TURTAS | D9: =O9+E9+I9+M9+P9+Q9 -> 0 | E9: =SUM(F9:H9) -> 0 | F9: =SUM(F10:F12) -> 0 | G9: =SUM(G10:G12) -> 0 | H9: =SUM(H10:H12) -> 0 | I9: =SUM(J9:L9) -> 0 | J9: =SUM(J10:J12) -> 0 | K9: =SUM(K10:K12) -> 0 | L9: =SUM(L10:L12) -> 0 | M9: =SUM(M10:M12) -> 0 | N9: =+O9+P9 -> 0 | O9: =SUM(O10:O12) -> 0 | P9: =SUM(P10:P12) -> 0 | Q9: =SUM(Q10:Q12) -> 0
B10: A.1.1. | C10: standartinė programinė įranga | D10: =O10+E10+I10+M10+P10+Q10 -> 0 | E10: =SUM(F10:H10) -> 0 | F10: =SUM(F33,F56,F96) -> 0 | G10: =SUM(G33,G56,G96) -> 0 | H10: =SUM(H33,H56,H96) -> 0 | I10: =SUM(J10:L10) -> 0 | J10: =SUM(J33,J56,J96) -> 0 | K10: =SUM(K33,K56,K96) -> 0 | L10: =SUM(L33,L56,L96) -> 0 | M10: =SUM(M33,M56,M96) -> 0 | N10: =+O10+P10 -> 0 | O10: =SUM(O33,O56,O96) -> 0 | P10: =SUM(P33,P56,P96) -> 0 | Q10: =SUM(Q33,Q56,Q96) -> 0
B11: A.1.2. | C11: spec. programinė įranga | D11: =O11+E11+I11+M11+P11+Q11 -> 0 | E11: =SUM(F11:H11) -> 0 | F11: =SUM(F34,F57,F97) -> 0 | G11: =SUM(G34,G57,G97) -> 0 | H11: =SUM(H34,H57,H97) -> 0 | I11: =SUM(J11:L11) -> 0 | J11: =SUM(J34,J57,J97) -> 0 | K11: =SUM(K34,K57,K97) -> 0 | L11: =SUM(L34,L57,L97) -> 0 | M11: =SUM(M34,M57,M97) -> 0 | N11: =+O11+P11 -> 0 | O11: =SUM(O34,O57,O97) -> 0 | P11: =SUM(P34,P57,P97) -> 0 | Q11: =SUM(Q34,Q57,Q97) -> 0
B12: A.1.3. | C12: kitas nematerialus turtas | D12: =O12+E12+I12+M12+P12+Q12 -> 0 | E12: =SUM(F12:H12) -> 0 | F12: =SUM(F35,F58,F98) -> 0 | G12: =SUM(G35,G58,G98) -> 0 | H12: =SUM(H35,H58,H98) -> 0 | I12: =SUM(J12:L12) -> 0 | J12: =SUM(J35,J58,J98) -> 0 | K12: =SUM(K35,K58,K98) -> 0 | L12: =SUM(L35,L58,L98) -> 0 | M12: =SUM(M35,M58,M98) -> 0 | N12: =+O12+P12 -> 0 | O12: =SUM(O35,O58,O98) -> 0 | P12: =SUM(P35,P58,P98) -> 0 | Q12: =SUM(Q35,Q58,Q98) -> 0
B13: A.2. | C13: PASTATAI IR STATINIAI | D13: =O13+E13+I13+M13+P13+Q13 -> 4447.0526 | E13: =SUM(F13:H13) -> 1263.9033 | F13: =SUM(F14:F17) -> 115.06234 | G13: =SUM(G14:G17) -> 293.39662 | H13: =SUM(H14:H17) -> 855.44431 | I13: =SUM(J13:L13) -> 3179.5334 | J13: =SUM(J14:J17) -> 1572.64 | K13: =SUM(K14:K17) -> 1586.0873 | L13: =SUM(L14:L17) -> 20.806089 | M13: =SUM(M14:M17) -> 0 | N13: =+O13+P13 -> 2.8195467 | O13: =SUM(O14:O17) -> 2.8195467 | P13: =SUM(P14:P17) -> 0 | Q13: =SUM(Q14:Q17) -> 0.79644043
B14: A.2.1. | C14: Pastatai (administraciniai, gamybiniai-ūkiniai ir pan.) | D14: =O14+E14+I14+M14+P14+Q14 -> 96.172474 | E14: =SUM(F14:H14) -> 32.20499 | F14: =SUM(F37,F60,F100) -> 14.114136 | G14: =SUM(G37,G60,G100) -> 4.7663763 | H14: =SUM(H37,H60,H100) -> 13.324477 | I14: =SUM(J14:L14) -> 60.52644 | J14: =SUM(J37,J60,J100) -> 25.801285 | K14: =SUM(K37,K60,K100) -> 27.903338 | L14: =SUM(L37,L60,L100) -> 6.8218176 | M14: =SUM(M37,M60,M100) -> 0 | N14: =+O14+P14 -> 2.6830831 | O14: =SUM(O37,O60,O100) -> 2.6830831 | P14: =SUM(P37,P60,P100) -> 0 | Q14: =SUM(Q37,Q60,Q100) -> 0.75796114
B15: A.2.2. | C15: keliai, aikštelės, šaligatviai ir tvoros | D15: =O15+E15+I15+M15+P15+Q15 -> 10.785128 | E15: =SUM(F15:H15) -> 8.9496842 | F15: =SUM(F38,F61,F101) -> 8.3441692 | G15: =SUM(G38,G61,G101) -> 0.11256032 | H15: =SUM(H38,H61,H101) -> 0.49295468 | I15: =SUM(J15:L15) -> 1.8352335 | J15: =SUM(J38,J61,J101) -> 1.1887431 | K15: =SUM(K38,K61,K101) -> 0.40373435 | L15: =SUM(L38,L61,L101) -> 0.24275603 | M15: =SUM(M38,M61,M101) -> 0 | N15: =+O15+P15 -> 0.00020993893 | O15: =SUM(O38,O61,O101) -> 0.00020993893 | P15: =SUM(P38,P61,P101) -> 0 | Q15: =SUM(Q38,Q61,Q101) -> 0
B16: A.2.3. | C16: vamzdynai | D16: =O16+E16+I16+M16+P16+Q16 -> 1887.439 | E16: =SUM(F16:H16) -> 796.44553 | F16: =SUM(F39,F62,F102) -> 0 | G16: =SUM(G39,G62,G102) -> 0 | H16: =SUM(H39,H62,H102) -> 796.44553 | I16: =SUM(J16:L16) -> 1090.9934 | J16: =SUM(J39,J62,J102) -> 1090.9934 | K16: =SUM(K39,K62,K102) -> 0 | L16: =SUM(L39,L62,L102) -> 0 | M16: =SUM(M39,M62,M102) -> 0 | N16: =+O16+P16 -> 0 | O16: =SUM(O39,O62,O102) -> 0 | P16: =SUM(P39,P62,P102) -> 0 | Q16: =SUM(Q39,Q62,Q102) -> 0
B17: A.2.4. | C17: Kiti įrenginiai (vandentiekio įrenginiai, nusodintuvai, diukeriai, vandens rezervuarai, gelžbetoniniai metantankai, smėlio gaudytuvai, aerotankai, nusodintuvai, nuotekų valymo flotatoriai, dumblo aikštelės ir kt.) | D17: =O17+E17+I17+M17+P17+Q17 -> 2452.6561 | E17: =SUM(F17:H17) -> 426.30305 | F17: =SUM(F40,F63,F103) -> 92.604035 | G17: =SUM(G40,G63,G103) -> 288.51768 | H17: =SUM(H40,H63,H103) -> 45.181339 | I17: =SUM(J17:L17) -> 2026.1783 | J17: =SUM(J40,J63,J103) -> 454.6565 | K17: =SUM(K40,K63,K103) -> 1557.7803 | L17: =SUM(L40,L63,L103) -> 13.741515 | M17: =SUM(M40,M63,M103) -> 0 | N17: =+O17+P17 -> 0.13625367 | O17: =SUM(O40,O63,O103) -> 0.13625367 | P17: =SUM(P40,P63,P103) -> 0 | Q17: =SUM(Q40,Q63,Q103) -> 0.038479286
B18: A.3. | C18: MAŠINOS IR ĮRANGA | D18: =O18+E18+I18+M18+P18+Q18 -> 37.807959 | E18: =SUM(F18:H18) -> 0.34681302 | F18: =SUM(F19:F20) -> 0.0070331958 | G18: =SUM(G19:G20) -> 0.031897252 | H18: =SUM(H19:H20) -> 0.30788257 | I18: =SUM(J18:L18) -> 37.461087 | J18: =SUM(J19:J20) -> 26.164704 | K18: =SUM(K19:K20) -> 11.227591 | L18: =SUM(L19:L20) -> 0.068792005 | M18: =SUM(M19:M20) -> 0 | N18: =+O18+P18 -> 5.9492322e-05 | O18: =SUM(O19:O20) -> 5.9492322e-05 | P18: =SUM(P19:P20) -> 0 | Q18: =SUM(Q19:Q20) -> 0
B19: A.3.1. | C19: vandens siurbliai, nuotekų ir dumblo siurbliai virš 5 kW, kita įranga ( siurblių valdymo įranga, elektrotechninė įranga, stacionarios ir mobilios darbo bei hidrodinaminės mašinos, staklės, sklendės, grotelės, grėbliai, grandikliai, filtrai, centrifugos) | D19: =O19+E19+I19+M19+P19+Q19 -> 33.90104 | E19: =SUM(F19:H19) -> 0.34681302 | F19: =SUM(F42,F65,F105) -> 0.0070331958 | G19: =SUM(G42,G65,G105) -> 0.031897252 | H19: =SUM(H42,H65,H105) -> 0.30788257 | I19: =SUM(J19:L19) -> 33.554167 | J19: =SUM(J42,J65,J105) -> 26.105718 | K19: =SUM(K42,K65,K105) -> 7.3796575 | L19: =SUM(L42,L65,L105) -> 0.068792005 | M19: =SUM(M42,M65,M105) -> 0 | N19: =+O19+P19 -> 5.9492322e-05 | O19: =SUM(O42,O65,O105) -> 5.9492322e-05 | P19: =SUM(P42,P65,P105) -> 0 | Q19: =SUM(Q42,Q65,Q105) -> 0
B20: A.3.2. | C20: nuotekų ir dumblo siurbliai iki 5 kW | D20: =O20+E20+I20+M20+P20+Q20 -> 3.9069198 | E20: =SUM(F20:H20) -> 0 | F20: =SUM(F43,F66) -> 0 | G20: =SUM(G43,G66) -> 0 | H20: =SUM(H43,H66) -> 0 | I20: =SUM(J20:L20) -> 3.9069198 | J20: =SUM(J43,J66) -> 0.058986486 | K20: =SUM(K43,K66) -> 3.8479333 | L20: =SUM(L43,L66) -> 0 | M20: =SUM(M43,M66) -> 0 | N20: =+O20+P20 -> 0 | O20: =SUM(O43,O66) -> 0 | P20: =SUM(P43,P66) -> 0 | Q20: =SUM(Q43,Q66) -> 0
B21: A.4. | C21: KITI ĮRENGINIAI, PRIETAISAI IR ĮRANKIAI | D21: =O21+E21+I21+M21+P21+Q21 -> 0 | E21: =SUM(F21:H21) -> 0 | F21: =SUM(F22:F23) -> 0 | G21: =SUM(G22:G23) -> 0 | H21: =SUM(H22:H23) -> 0 | I21: =SUM(J21:L21) -> 0 | J21: =SUM(J22:J23) -> 0 | K21: =SUM(K22:K23) -> 0 | L21: =SUM(L22:L23) -> 0 | M21: =SUM(M22:M23) -> 0 | N21: =+O21+P21 -> 0 | O21: =SUM(O22:O23) -> 0 | P21: =SUM(P22:P23) -> 0 | Q21: =SUM(Q22:Q23) -> 0
B22: A.4.1. | C22: apskaitos prietaisai | D22: =O22+E22+I22+M22+P22+Q22 -> 0 | E22: =SUM(F22:H22) -> 0 | F22: =SUM(F45,F68,F107) -> 0 | G22: =SUM(G45,G68,G107) -> 0 | H22: =SUM(H45,H68,H107) -> 0 | I22: =SUM(J22:L22) -> 0 | J22: =SUM(J45,J68,J107) -> 0 | K22: =SUM(K45,K68,K107) -> 0 | L22: =SUM(L45,L68,L107) -> 0 | M22: =SUM(M45,M68,M107) -> 0 | N22: =+O22+P22 -> 0 | O22: =SUM(O45,O68,O107) -> 0 | P22: =SUM(P45,P68,P107) -> 0 | Q22: =SUM(Q45,Q68,Q107) -> 0
B23: A.4.2. | C23: įrankiai (matavimo priemonės, elektriniai įrankiai ir prietaisai, gamybinis inventorius ir kt.) | D23: =O23+E23+I23+M23+P23+Q23 -> 0 | E23: =SUM(F23:H23) -> 0 | F23: =SUM(F46,F69,F108) -> 0 | G23: =SUM(G46,G69,G108) -> 0 | H23: =SUM(H46,H69,H108) -> 0 | I23: =SUM(J23:L23) -> 0 | J23: =SUM(J46,J69,J108) -> 0 | K23: =SUM(K46,K69,K108) -> 0 | L23: =SUM(L46,L69,L108) -> 0 | M23: =SUM(M46,M69,M108) -> 0 | N23: =+O23+P23 -> 0 | O23: =SUM(O46,O69,O108) -> 0 | P23: =SUM(P46,P69,P108) -> 0 | Q23: =SUM(Q46,Q69,Q108) -> 0
B24: A.5. | C24: TRANSPORTO PRIEMONĖS | D24: =O24+E24+I24+M24+P24+Q24 -> 30.136151 | E24: =SUM(F24:H24) -> 3.4215842 | F24: =SUM(F25:F26) -> 1.1277574 | G24: =SUM(G25:G26) -> 0.42640379 | H24: =SUM(H25:H26) -> 1.8674231 | I24: =SUM(J24:L24) -> 26.713771 | J24: =SUM(J25:J26) -> 24.26472 | K24: =SUM(K25:K26) -> 1.5294364 | L24: =SUM(L25:L26) -> 0.91961437 | M24: =SUM(M25:M26) -> 0 | N24: =+O24+P24 -> 0.00079529582 | O24: =SUM(O25:O26) -> 0.00079529582 | P24: =SUM(P25:P26) -> 0 | Q24: =SUM(Q25:Q26) -> 0
B25: A.5.1. | C25: lengvieji automobiliai | D25: =O25+E25+I25+M25+P25+Q25 -> 8.6308402 | E25: =SUM(F25:H25) -> 2.2063274 | F25: =SUM(F48,F71,F110) -> 0.086872829 | G25: =SUM(G48,G71,G110) -> 0.39398939 | H25: =SUM(H48,H71,H110) -> 1.7254651 | I25: =SUM(J25:L25) -> 6.423778 | J25: =SUM(J48,J71,J110) -> 4.1608994 | K25: =SUM(K48,K71,K110) -> 1.4131716 | L25: =SUM(L48,L71,L110) -> 0.84970705 | M25: =SUM(M48,M71,M110) -> 0 | N25: =+O25+P25 -> 0.00073483896 | O25: =SUM(O48,O71,O110) -> 0.00073483896 | P25: =SUM(P48,P71,P110) -> 0 | Q25: =SUM(Q48,Q71,Q110) -> 0
B26: A.5.2. | C26: kitos transporto priemonės (transportas dumblui, vandeniui vežti, autobusai žmonėms vežti) | D26: =O26+E26+I26+M26+P26+Q26 -> 21.50531 | E26: =SUM(F26:H26) -> 1.2152569 | F26: =SUM(F49,F72,F111) -> 1.0408846 | G26: =SUM(G49,G72,G111) -> 0.032414398 | H26: =SUM(H49,H72,H111) -> 0.14195792 | I26: =SUM(J26:L26) -> 20.289993 | J26: =SUM(J49,J72,J111) -> 20.103821 | K26: =SUM(K49,K72,K111) -> 0.11626482 | L26: =SUM(L49,L72,L111) -> 0.06990732 | M26: =SUM(M49,M72,M111) -> 0 | N26: =+O26+P26 -> 6.0456862e-05 | O26: =SUM(O49,O72,O111) -> 6.0456862e-05 | P26: =SUM(P49,P72,P111) -> 0 | Q26: =SUM(Q49,Q72,Q111) -> 0
B27: A.6. | C27: KITAS ILGALAIKIS TURTAS | D27: =O27+E27+I27+M27+P27+Q27 -> 0 | E27: =SUM(F27:H27) -> 0 | F27: =SUM(F28:F30) -> 0 | G27: =SUM(G28:G30) -> 0 | H27: =SUM(H28:H30) -> 0 | I27: =SUM(J27:L27) -> 0 | J27: =SUM(J28:J30) -> 0 | K27: =SUM(K28:K30) -> 0 | L27: =SUM(L28:L30) -> 0 | M27: =SUM(M28:M30) -> 0 | N27: =+O27+P27 -> 0 | O27: =SUM(O28:O30) -> 0 | P27: =SUM(P28:P30) -> 0 | Q27: =SUM(Q28:Q30) -> 0
B28: A.6.1. | D28: =O28+E28+I28+M28+P28+Q28 -> 0 | E28: =SUM(F28:H28) -> 0 | F28: =SUM(F51,F74,F113) -> 0 | G28: =SUM(G51,G74,G113) -> 0 | H28: =SUM(H51,H74,H113) -> 0 | I28: =SUM(J28:L28) -> 0 | J28: =SUM(J51,J74,J113) -> 0 | K28: =SUM(K51,K74,K113) -> 0 | L28: =SUM(L51,L74,L113) -> 0 | M28: =SUM(M51,M74,M113) -> 0 | N28: =+O28+P28 -> 0 | O28: =SUM(O51,O74,O113) -> 0 | P28: =SUM(P51,P74,P113) -> 0 | Q28: =SUM(Q51,Q74,Q113) -> 0
B29: A.6.2. | D29: =O29+E29+I29+M29+P29+Q29 -> 0 | E29: =SUM(F29:H29) -> 0 | F29: =SUM(F52,F75,F114) -> 0 | G29: =SUM(G52,G75,G114) -> 0 | H29: =SUM(H52,H75,H114) -> 0 | I29: =SUM(J29:L29) -> 0 | J29: =SUM(J52,J75,J114) -> 0 | K29: =SUM(K52,K75,K114) -> 0 | L29: =SUM(L52,L75,L114) -> 0 | M29: =SUM(M52,M75,M114) -> 0 | N29: =+O29+P29 -> 0 | O29: =SUM(O52,O75,O114) -> 0 | P29: =SUM(P52,P75,P114) -> 0 | Q29: =SUM(Q52,Q75,Q114) -> 0
B30: A.6.3. | D30: =O30+E30+I30+M30+P30+Q30 -> 0 | E30: =SUM(F30:H30) -> 0 | F30: =SUM(F53,F76,F115) -> 0 | G30: =SUM(G53,G76,G115) -> 0 | H30: =SUM(H53,H76,H115) -> 0 | I30: =SUM(J30:L30) -> 0 | J30: =SUM(J53,J76,J115) -> 0 | K30: =SUM(K53,K76,K115) -> 0 | L30: =SUM(L53,L76,L115) -> 0 | M30: =SUM(M53,M76,M115) -> 0 | N30: =+O30+P30 -> 0 | O30: =SUM(O53,O76,O115) -> 0 | P30: =SUM(P53,P76,P115) -> 0 | Q30: =SUM(Q53,Q76,Q115) -> 0
B31: B. | C31: TIESIOGIAI PASKIRSTOMAS ILGALAIKIS TURTAS | D31: =O31+E31+I31+M31+P31+Q31 -> 4421.2174 | E31: =E32+E36+E41+E44+E47+E50 -> 1241.5264 | F31: =F32+F36+F41+F44+F47+F50 -> 112.25332 | G31: =G32+G36+G41+G44+G47+G50 -> 288.25316 | H31: =H32+H36+H41+H44+H47+H50 -> 841.01989 | I31: =I32+I36+I41+I44+I47+I50 -> 3179.691 | J31: =J32+J36+J41+J44+J47+J50 -> 1589.6913 | K31: =K32+K36+K41+K44+K47+K50 -> 1576.6531 | L31: =L32+L36+L41+L44+L47+L50 -> 13.346575 | M31: =M32+M36+M41+M44+M47+M50 -> 0 | N31: =+O31+P31 -> 0 | O31: =O32+O36+O41+O44+O47+O50 -> 0 | P31: =P32+P36+P41+P44+P47+P50 -> 0 | Q31: =Q32+Q36+Q41+Q44+Q47+Q50 -> 0
B32: B.1. | C32: NEMATERIALUSIS TURTAS | D32: =O32+E32+I32+M32+P32+Q32 -> 0 | E32: =SUM(F32:H32) -> 0 | F32: =SUM(F33:F35) -> 0 | G32: =SUM(G33:G35) -> 0 | H32: =SUM(H33:H35) -> 0 | I32: =SUM(J32:L32) -> 0 | J32: =SUM(J33:J35) -> 0 | K32: =SUM(K33:K35) -> 0 | L32: =SUM(L33:L35) -> 0 | M32: =SUM(M33:M35) -> 0 | N32: =+O32+P32 -> 0 | O32: =SUM(O33:O35) -> 0 | P32: =SUM(P33:P35) -> 0 | Q32: =SUM(Q33:Q35) -> 0
B33: B.1.1. | C33: standartinė programinė įranga | D33: =O33+E33+I33+M33+P33+Q33 -> 0 | E33: =SUM(F33:H33) -> 0 | F33: 0 | G33: 0 | H33: 0 | I33: =SUM(J33:L33) -> 0 | J33: 0 | K33: 0 | L33: 0 | M33: 0 | N33: =+O33+P33 -> 0 | O33: 0 | P33: 0 | Q33: 0 | R33: I.1.standartinė programinė įranga
B34: B.1.2. | C34: spec. programinė įranga | D34: =O34+E34+I34+M34+P34+Q34 -> 0 | E34: =SUM(F34:H34) -> 0 | F34: 0 | G34: 0 | H34: 0 | I34: =SUM(J34:L34) -> 0 | J34: 0 | K34: 0 | L34: 0 | M34: 0 | N34: =+O34+P34 -> 0 | O34: 0 | P34: 0 | Q34: 0 | R34: I.1.spec. programinė įranga
B35: B.1.3. | C35: kitas nematerialus turtas | D35: =O35+E35+I35+M35+P35+Q35 -> 0 | E35: =SUM(F35:H35) -> 0 | F35: 0 | G35: 0 | H35: 0 | I35: =SUM(J35:L35) -> 0 | J35: 0 | K35: 0 | L35: 0 | M35: 0 | N35: =+O35+P35 -> 0 | O35: 0 | P35: 0 | Q35: 0 | R35: I.1.kitas nematerialus turtas
B36: B.2. | C36: PASTATAI IR STATINIAI | D36: =O36+E36+I36+M36+P36+Q36 -> 4363.3129 | E36: =SUM(F36:H36) -> 1240.3244 | F36: =SUM(F37:F40) -> 111.21958 | G36: =SUM(G37:G40) -> 288.25316 | H36: =SUM(H37:H40) -> 840.85171 | I36: =SUM(J36:L36) -> 3122.9885 | J36: =SUM(J37:J40) -> 1544.102 | K36: =SUM(K37:K40) -> 1565.5399 | L36: =SUM(L37:L40) -> 13.346575 | M36: =SUM(M37:M40) -> 0 | N36: =+O36+P36 -> 0 | O36: =SUM(O37:O40) -> 0 | P36: =SUM(P37:P40) -> 0 | Q36: =SUM(Q37:Q40) -> 0
B37: B.2.1. | C37: Pastatai (administraciniai, gamybiniai-ūkiniai ir pan.) | D37: =O37+E37+I37+M37+P37+Q37 -> 19.295193 | E37: =SUM(F37:H37) -> 10.485385 | F37: 10.485385 | G37: 0 | H37: 0 | I37: =SUM(J37:L37) -> 8.809808 | J37: 0 | K37: 8.809808 | L37: 0 | M37: 0 | N37: =+O37+P37 -> 0 | O37: 0 | P37: 0 | Q37: 0 | R37: II.2.1.Pastatai
B38: B.2.2. | C38: keliai, aikštelės, šaligatviai ir tvoros | D38: =O38+E38+I38+M38+P38+Q38 -> 8.3193502 | E38: =SUM(F38:H38) -> 8.3193502 | F38: 8.3193502 | G38: 0 | H38: 0 | I38: =SUM(J38:L38) -> 0 | J38: 0 | K38: 0 | L38: 0 | M38: 0 | N38: =+O38+P38 -> 0 | O38: 0 | P38: 0 | Q38: 0 | R38: II.2.2.1.keliai | S38: II.2.2.2.aikštelės | T38: II.2.2.3.šaligatviai | U38: II.2.2.4.tvoros
B39: B.2.3. | C39: vamzdynai | D39: =O39+E39+I39+M39+P39+Q39 -> 1887.439 | E39: =SUM(F39:H39) -> 796.44553 | F39: 0 | G39: 0 | H39: 796.44553 | I39: =SUM(J39:L39) -> 1090.9934 | J39: 1090.9934 | K39: 0 | L39: 0 | M39: 0 | N39: =+O39+P39 -> 0 | O39: 0 | P39: 0 | Q39: 0 | R39: II.2.3.vamzdynai
B40: B.2.4. | C40: Kiti įrenginiai (vandentiekio įrenginiai, nusodintuvai, diukeriai, vandens rezervuarai, gelžbetoniniai metantankai, smėlio gaudytuvai, aerotankai, nusodintuvai, nuotekų valymo flotatoriai, dumblo aikštelės ir kt.) | D40: =O40+E40+I40+M40+P40+Q40 -> 2448.2594 | E40: =SUM(F40:H40) -> 425.07418 | F40: 92.414844 | G40: 288.25316 | H40: 44.406171 | I40: =SUM(J40:L40) -> 2023.1852 | J40: 453.10858 | K40: 1556.7301 | L40: 13.346575 | M40: 0 | N40: =+O40+P40 -> 0 | O40: 0 | P40: 0 | Q40: 0 | R40: II.2.4.Kiti įrenginiai
B41: B.3. | C41: MAŠINOS IR ĮRANGA | D41: =O41+E41+I41+M41+P41+Q41 -> 37.109209 | E41: =SUM(F41:H41) -> 0.16818947 | F41: =SUM(F42:F43) -> 0 | G41: =SUM(G42:G43) -> 0 | H41: =SUM(H42:H43) -> 0.16818947 | I41: =SUM(J41:L41) -> 36.94102 | J41: =SUM(J42:J43) -> 25.827839 | K41: =SUM(K42:K43) -> 11.113181 | L41: =SUM(L42:L43) -> 0 | M41: =SUM(M42:M43) -> 0 | N41: =+O41+P41 -> 0 | O41: =SUM(O42:O43) -> 0 | P41: =SUM(P42:P43) -> 0 | Q41: =SUM(Q42:Q43) -> 0
B42: B.3.1. | C42: vandens siurbliai, nuotekų ir dumblo siurbliai virš 5 kW, kita įranga ( siurblių valdymo įranga, elektrotechninė įranga, stacionarios ir mobilios darbo bei hidrodinaminės mašinos, staklės, sklendės, grotelės, grėbliai, grandikliai, filtrai, centrifugos) | D42: =O42+E42+I42+M42+P42+Q42 -> 33.20229 | E42: =SUM(F42:H42) -> 0.16818947 | F42: 0 | G42: 0 | H42: 0.16818947 | I42: =SUM(J42:L42) -> 33.0341 | J42: 25.768853 | K42: 7.2652476 | L42: 0 | M42: 0 | N42: =+O42+P42 -> 0 | O42: 0 | P42: 0 | Q42: 0 | R42: II.3.1.vandens siurbliai, nuotekų ir dumblo siurbliai virš 5 kW, kita įranga
B43: B.3.2. | C43: nuotekų ir dumblo siurbliai iki 5 kW | D43: =O43+E43+I43+M43+P43+Q43 -> 3.9069198 | E43: =SUM(F43:H43) -> 0 | F43: 0 | G43: 0 | H43: 0 | I43: =SUM(J43:L43) -> 3.9069198 | J43: 0.058986486 | K43: 3.8479333 | L43: 0 | M43: 0 | N43: =+O43+P43 -> 0 | O43: 0 | P43: 0 | Q43: 0 | R43: II.3.2.nuotekų ir dumblo siurbliai iki 5 kW
B44: B.4. | C44: KITI ĮRENGINIAI, PRIETAISAI IR ĮRANKIAI | D44: =O44+E44+I44+M44+P44+Q44 -> 0 | E44: =SUM(F44:H44) -> 0 | F44: =SUM(F45:F46) -> 0 | G44: =SUM(G45:G46) -> 0 | H44: =SUM(H45:H46) -> 0 | I44: =SUM(J44:L44) -> 0 | J44: =SUM(J45:J46) -> 0 | K44: =SUM(K45:K46) -> 0 | L44: =SUM(L45:L46) -> 0 | M44: =SUM(M45:M46) -> 0 | N44: =+O44+P44 -> 0 | O44: =SUM(O45:O46) -> 0 | P44: =SUM(P45:P46) -> 0 | Q44: =SUM(Q45:Q46) -> 0
B45: B.4.1. | C45: apskaitos prietaisai | D45: =O45+E45+I45+M45+P45+Q45 -> 0 | E45: =SUM(F45:H45) -> 0 | F45: 0 | G45: 0 | H45: 0 | I45: =SUM(J45:L45) -> 0 | J45: 0 | K45: 0 | L45: 0 | M45: 0 | N45: =+O45+P45 -> 0 | O45: 0 | P45: 0 | Q45: 0 | R45: II.4.1. apskaitos prietaisai
B46: B.4.1. | C46: įrankiai (matavimo priemonės, elektriniai įrankiai ir prietaisai, gamybinis inventorius ir kt.) | D46: =O46+E46+I46+M46+P46+Q46 -> 0 | E46: =SUM(F46:H46) -> 0 | F46: 0 | G46: 0 | H46: 0 | I46: =SUM(J46:L46) -> 0 | J46: 0 | K46: 0 | L46: 0 | M46: 0 | N46: =+O46+P46 -> 0 | O46: 0 | P46: 0 | Q46: 0 | R46: II.4.2. įrankiai
B47: B.5. | C47: TRANSPORTO PRIEMONĖS | D47: =O47+E47+I47+M47+P47+Q47 -> 20.795232 | E47: =SUM(F47:H47) -> 1.0337373 | F47: =SUM(F48:F49) -> 1.0337373 | G47: =SUM(G48:G49) -> 0 | H47: =SUM(H48:H49) -> 0 | I47: =SUM(J47:L47) -> 19.761494 | J47: =SUM(J48:J49) -> 19.761494 | K47: =SUM(K48:K49) -> 0 | L47: =SUM(L48:L49) -> 0 | M47: =SUM(M48:M49) -> 0 | N47: =+O47+P47 -> 0 | O47: =SUM(O48:O49) -> 0 | P47: =SUM(P48:P49) -> 0 | Q47: =SUM(Q48:Q49) -> 0
B48: B.5.1. | C48: lengvieji automobiliai | D48: =O48+E48+I48+M48+P48+Q48 -> 0 | E48: =SUM(F48:H48) -> 0 | F48: 0 | G48: 0 | H48: 0 | I48: =SUM(J48:L48) -> 0 | J48: 0 | K48: 0 | L48: 0 | M48: 0 | N48: =+O48+P48 -> 0 | O48: 0 | P48: 0 | Q48: 0 | R48: II.5.1.lengvieji automobiliai
B49: B.5.2. | C49: kitos transporto priemonės (transportas dumblui, vandeniui vežti, autobusai žmonėms vežti) | D49: =O49+E49+I49+M49+P49+Q49 -> 20.795232 | E49: =SUM(F49:H49) -> 1.0337373 | F49: 1.0337373 | G49: 0 | H49: 0 | I49: =SUM(J49:L49) -> 19.761494 | J49: 19.761494 | K49: 0 | L49: 0 | M49: 0 | N49: =+O49+P49 -> 0 | O49: 0 | P49: 0 | Q49: 0 | R49: II.5.2.kitos transporto priemonės
B50: B.6. | C50: KITAS ILGALAIKIS TURTAS | D50: =O50+E50+I50+M50+P50+Q50 -> 0 | E50: =SUM(F50:H50) -> 0 | F50: =SUM(F51:F53) -> 0 | G50: =SUM(G51:G53) -> 0 | H50: =SUM(H51:H53) -> 0 | I50: =SUM(J50:L50) -> 0 | J50: =SUM(J51:J53) -> 0 | K50: =SUM(K51:K53) -> 0 | L50: =SUM(L51:L53) -> 0 | M50: =SUM(M51:M53) -> 0 | N50: =+O50+P50 -> 0 | O50: =SUM(O51:O53) -> 0 | P50: =SUM(P51:P53) -> 0 | Q50: =SUM(Q51:Q53) -> 0
B51: B.6.1. | D51: =O51+E51+I51+M51+P51+Q51 -> 0 | E51: =SUM(F51:H51) -> 0 | F51: 0 | G51: 0 | H51: 0 | I51: =SUM(J51:L51) -> 0 | J51: 0 | K51: 0 | L51: 0 | M51: 0 | N51: =+O51+P51 -> 0 | O51: 0 | P51: 0 | Q51: 0 | R51: II.6.1.
B52: B.6.2. | D52: =O52+E52+I52+M52+P52+Q52 -> 0 | E52: =SUM(F52:H52) -> 0 | F52: 0 | G52: 0 | H52: 0 | I52: =SUM(J52:L52) -> 0 | J52: 0 | K52: 0 | L52: 0 | M52: 0 | N52: =+O52+P52 -> 0 | O52: 0 | P52: 0 | Q52: 0 | R52: II.6.2.
B53: B.6.3. | D53: =O53+E53+I53+M53+P53+Q53 -> 0 | E53: =SUM(F53:H53) -> 0 | F53: 0 | G53: 0 | H53: 0 | I53: =SUM(J53:L53) -> 0 | J53: 0 | K53: 0 | L53: 0 | M53: 0 | N53: =+O53+P53 -> 0 | O53: 0 | P53: 0 | Q53: 0 | R53: II.6.3.
A54: Netiesioginės sąnaudos | B54: C. | C54: NETIESIOGIAI PASKIRSTOMAS ILGALAIKIS TURTAS | D54: =D55+D59+D64+D67+D70+D73 -> 25.493334 | E54: =E55+E59+E64+E67+E70+E73 -> 6.5169368 | F54: =F55+F59+F64+F67+F70+F73 -> 0.25660052 | G54: =G55+G59+G64+G67+G70+G73 -> 1.1637457 | H54: =H55+H59+H64+H67+H70+H73 -> 5.0965906 | I54: =I55+I59+I64+I67+I70+I73 -> 18.974227 | J54: =J55+J59+J64+J67+J70+J73 -> 12.290252 | K54: =K55+K59+K64+K67+K70+K73 -> 4.1741539 | ... M54: =M55+M59+M64+M67+M70+M73 -> 0 | N54: =+O54+P54 -> 0.0021705297 | O54: =O55+O59+O64+O67+O70+O73 -> 0.0021705297 | P54: =P55+P59+P64+P67+P70+P73 -> 0 | Q54: =Q55+Q59+Q64+Q67+Q70+Q73 -> 0
B55: C.1. | C55: NEMATERIALUSIS TURTAS | D55: =SUM(D56:D58) -> 0 | E55: =SUM(F55:H55) -> 0 | F55: =SUM(F56:F58) -> 0 | G55: =SUM(G56:G58) -> 0 | H55: =SUM(H56:H58) -> 0 | I55: =SUM(J55:L55) -> 0 | J55: =SUM(J56:J58) -> 0 | K55: =SUM(K56:K58) -> 0 | L55: =SUM(L56:L58) -> 0 | M55: =SUM(M56:M58) -> 0 | N55: =+O55+P55 -> 0 | O55: =SUM(O56:O58) -> 0 | P55: =SUM(P56:P58) -> 0 | Q55: =SUM(Q56:Q58) -> 0
B56: C.1.1. | C56: standartinė programinė įranga | D56: 0 | E56: =SUM(F56:H56) -> 0 | F56: =IFERROR($D56*F78/100, 0) -> 0 | G56: =IFERROR($D56*G78/100, 0) -> 0 | H56: =IFERROR($D56*H78/100, 0) -> 0 | I56: =SUM(J56:L56) -> 0 | J56: =IFERROR($D56*J78/100, 0) -> 0 | K56: =IFERROR($D56*K78/100, 0) -> 0 | L56: =IFERROR($D56*L78/100, 0) -> 0 | M56: =IFERROR($D56*M78/100, 0) -> 0 | N56: =+O56+P56 -> 0 | O56: =IFERROR($D56*O78/100, 0) -> 0 | P56: =IFERROR($D56*P78/100, 0) -> 0 | Q56: =IFERROR($D56*Q78/100, 0) -> 0 | R56: I.1.standartinė programinė įranga
B57: C.1.2. | C57: spec. programinė įranga | D57: 0 | E57: =SUM(F57:H57) -> 0 | F57: =IFERROR($D57*F79/100, 0) -> 0 | G57: =IFERROR($D57*G79/100, 0) -> 0 | H57: =IFERROR($D57*H79/100, 0) -> 0 | I57: =SUM(J57:L57) -> 0 | J57: =IFERROR($D57*J79/100, 0) -> 0 | K57: =IFERROR($D57*K79/100, 0) -> 0 | L57: =IFERROR($D57*L79/100, 0) -> 0 | M57: =IFERROR($D57*M79/100, 0) -> 0 | N57: =+O57+P57 -> 0 | O57: =IFERROR($D57*O79/100, 0) -> 0 | P57: =IFERROR($D57*P79/100, 0) -> 0 | Q57: =IFERROR($D57*Q79/100, 0) -> 0 | R57: I.1.spec. programinė įranga
B58: C.1.3. | C58: kitas nematerialus turtas | D58: 0 | E58: =SUM(F58:H58) -> 0 | F58: =IFERROR($D58*F80/100, 0) -> 0 | G58: =IFERROR($D58*G80/100, 0) -> 0 | H58: =IFERROR($D58*H80/100, 0) -> 0 | I58: =SUM(J58:L58) -> 0 | J58: =IFERROR($D58*J80/100, 0) -> 0 | K58: =IFERROR($D58*K80/100, 0) -> 0 | L58: =IFERROR($D58*L80/100, 0) -> 0 | M58: =IFERROR($D58*M80/100, 0) -> 0 | N58: =+O58+P58 -> 0 | O58: =IFERROR($D58*O80/100, 0) -> 0 | P58: =IFERROR($D58*P80/100, 0) -> 0 | Q58: =IFERROR($D58*Q80/100, 0) -> 0 | R58: I.1.kitas nematerialus turtas
B59: C.2. | C59: PASTATAI IR STATINIAI | D59: =SUM(D60:D63) -> 15.453665 | E59: =SUM(F59:H59) -> 3.9504664 | F59: =SUM(F60:F63) -> 0.15554727 | G59: =SUM(G60:G63) -> 0.70544466 | H59: =SUM(H60:H63) -> 3.0894744 | I59: =SUM(J59:L59) -> 11.501883 | J59: =SUM(J60:J63) -> 7.4501605 | K59: =SUM(K60:K63) -> 2.5303076 | L59: =SUM(L60:L63) -> 1.5214148 | M59: =SUM(M60:M63) -> 0 | N59: =+O59+P59 -> 0.0013157416 | O59: =SUM(O60:O63) -> 0.0013157416 | P59: =SUM(P60:P63) -> 0 | Q59: =SUM(Q60:Q63) -> 0
B60: C.2.1. | C60: Pastatai (administraciniai, gamybiniai-ūkiniai ir pan.) | D60: 11.890413 | E60: =SUM(F60:H60) -> 3.0395816 | F60: =IFERROR($D60*F81/100, 0) -> 0.11968172 | G60: =IFERROR($D60*G81/100, 0) -> 0.54278568 | H60: =IFERROR($D60*H81/100, 0) -> 2.3771142 | I60: =SUM(J60:L60) -> 8.8498187 | J60: =IFERROR($D60*J81/100, 0) -> 5.7323284 | K60: =IFERROR($D60*K81/100, 0) -> 1.9468781 | L60: =IFERROR($D60*L81/100, 0) -> 1.1706123 | M60: =IFERROR($D60*M81/100, 0) -> 0 | N60: =+O60+P60 -> 0.0010123624 | O60: =IFERROR($D60*O81/100, 0) -> 0.0010123624 | P60: =IFERROR($D60*P81/100, 0) -> 0 | Q60: =IFERROR($D60*Q81/100, 0) -> 0 | R60: II.2.1.Pastatai
B61: C.2.2. | C61: keliai, aikštelės, šaligatviai ir tvoros | D61: 2.4657775 | E61: =SUM(F61:H61) -> 0.63033403 | F61: =IFERROR($D61*F82/100, 0) -> 0.024819028 | G61: =IFERROR($D61*G82/100, 0) -> 0.11256032 | H61: =IFERROR($D61*H82/100, 0) -> 0.49295468 | I61: =SUM(J61:L61) -> 1.8352335 | J61: =IFERROR($D61*J82/100, 0) -> 1.1887431 | K61: =IFERROR($D61*K82/100, 0) -> 0.40373435 | L61: =IFERROR($D61*L82/100, 0) -> 0.24275603 | M61: =IFERROR($D61*M82/100, 0) -> 0 | N61: =+O61+P61 -> 0.00020993893 | O61: =IFERROR($D61*O82/100, 0) -> 0.00020993893 | P61: =IFERROR($D61*P82/100, 0) -> 0 | Q61: =IFERROR($D61*Q82/100, 0) -> 0 | R61: II.2.2.1.keliai | S61: II.2.2.2.aikštelės | T61: II.2.2.3.šaligatviai | U61: II.2.2.4.tvoros
B62: C.2.3. | C62: vamzdynai | D62: 0 | E62: =SUM(F62:H62) -> 0 | F62: =IFERROR($D62*F83/100, 0) -> 0 | G62: =IFERROR($D62*G83/100, 0) -> 0 | H62: =IFERROR($D62*H83/100, 0) -> 0 | I62: =SUM(J62:L62) -> 0 | J62: =IFERROR($D62*J83/100, 0) -> 0 | K62: =IFERROR($D62*K83/100, 0) -> 0 | L62: =IFERROR($D62*L83/100, 0) -> 0 | M62: =IFERROR($D62*M83/100, 0) -> 0 | N62: =+O62+P62 -> 0 | O62: =IFERROR($D62*O83/100, 0) -> 0 | P62: =IFERROR($D62*P83/100, 0) -> 0 | Q62: =IFERROR($D62*Q83/100, 0) -> 0 | R62: II.2.3.vamzdynai
B63: C.2.4. | C63: Kiti įrenginiai (vandentiekio įrenginiai, nusodintuvai, diukeriai, vandens rezervuarai, gelžbetoniniai metantankai, smėlio gaudytuvai, aerotankai, nusodintuvai, nuotekų valymo flotatoriai, dumblo aikštelės ir kt.) | D63: 1.0974749 | E63: =SUM(F63:H63) -> 0.28055078 | F63: =IFERROR($D63*F84/100, 0) -> 0.01104652 | G63: =IFERROR($D63*G84/100, 0) -> 0.050098655 | H63: =IFERROR($D63*H84/100, 0) -> 0.21940561 | I63: =SUM(J63:L63) -> 0.81683071 | J63: =IFERROR($D63*J84/100, 0) -> 0.52908902 | K63: =IFERROR($D63*K84/100, 0) -> 0.17969518 | L63: =IFERROR($D63*L84/100, 0) -> 0.10804651 | M63: =IFERROR($D63*M84/100, 0) -> 0 | N63: =+O63+P63 -> 9.3440189e-05 | O63: =IFERROR($D63*O84/100, 0) -> 9.3440189e-05 | P63: =IFERROR($D63*P84/100, 0) -> 0 | Q63: =IFERROR($D63*Q84/100, 0) -> 0 | R63: II.2.4.Kiti įrenginiai
B64: C.3. | C64: MAŠINOS IR ĮRANGA | D64: =D65+D66 -> 0.69875 | E64: =SUM(F64:H64) -> 0.17862354 | F64: =F65+F66 -> 0.0070331958 | G64: =G65+G66 -> 0.031897252 | H64: =H65+H66 -> 0.13969309 | I64: =SUM(J64:L64) -> 0.52006697 | J64: =J65+J66 -> 0.33686505 | K64: =K65+K66 -> 0.11440991 | L64: =L65+L66 -> 0.068792005 | M64: =M65+M66 -> 0 | N64: =+O64+P64 -> 5.9492322e-05 | O64: =O65+O66 -> 5.9492322e-05 | P64: =P65+P66 -> 0 | Q64: =Q65+Q66 -> 0
B65: C.3.1. | C65: vandens siurbliai, nuotekų ir dumblo siurbliai virš 5 kW, kita įranga ( siurblių valdymo įranga, elektrotechninė įranga, stacionarios ir mobilios darbo bei hidrodinaminės mašinos, staklės, sklendės, grotelės, grėbliai, grandikliai, filtrai, centrifugos) | D65: 0.69875 | E65: =SUM(F65:H65) -> 0.17862354 | F65: =IFERROR($D65*F85/100, 0) -> 0.0070331958 | G65: =IFERROR($D65*G85/100, 0) -> 0.031897252 | H65: =IFERROR($D65*H85/100, 0) -> 0.13969309 | I65: =SUM(J65:L65) -> 0.52006697 | J65: =IFERROR($D65*J85/100, 0) -> 0.33686505 | K65: =IFERROR($D65*K85/100, 0) -> 0.11440991 | L65: =IFERROR($D65*L85/100, 0) -> 0.068792005 | M65: =IFERROR($D65*M85/100, 0) -> 0 | N65: =+O65+P65 -> 5.9492322e-05 | O65: =IFERROR($D65*O85/100, 0) -> 5.9492322e-05 | P65: =IFERROR($D65*P85/100, 0) -> 0 | Q65: =IFERROR($D65*Q85/100, 0) -> 0 | R65: II.3.1.vandens siurbliai, nuotekų ir dumblo siurbliai virš 5 kW, kita įranga
B66: C.3.2. | C66: nuotekų ir dumblo siurbliai iki 5 kW | D66: 0 | E66: =SUM(F66:H66) -> 0 | F66: =IFERROR($D66*F86/100, 0) -> 0 | G66: =IFERROR($D66*G86/100, 0) -> 0 | H66: =IFERROR($D66*H86/100, 0) -> 0 | I66: =SUM(J66:L66) -> 0 | J66: =IFERROR($D66*J86/100, 0) -> 0 | K66: =IFERROR($D66*K86/100, 0) -> 0 | L66: =IFERROR($D66*L86/100, 0) -> 0 | M66: =IFERROR($D66*M86/100, 0) -> 0 | N66: =+O66+P66 -> 0 | O66: =IFERROR($D66*O86/100, 0) -> 0 | P66: =IFERROR($D66*P86/100, 0) -> 0 | Q66: =IFERROR($D66*Q86/100, 0) -> 0 | R66: II.3.2.nuotekų ir dumblo siurbliai iki 5 kW
B67: C.4. | C67: KITI ĮRENGINIAI, PRIETAISAI IR ĮRANKIAI | D67: =D68+D69 -> 0 | E67: =SUM(F67:H67) -> 0 | F67: =F68+F69 -> 0 | G67: =G68+G69 -> 0 | H67: =H68+H69 -> 0 | I67: =SUM(J67:L67) -> 0 | J67: =J68+J69 -> 0 | K67: =K68+K69 -> 0 | L67: =L68+L69 -> 0 | M67: =M68+M69 -> 0 | N67: =+O67+P67 -> 0 | O67: =O68+O69 -> 0 | P67: =P68+P69 -> 0 | Q67: =Q68+Q69 -> 0
B68: C.4.1. | C68: apskaitos prietaisai | D68: 0 | E68: =SUM(F68:H68) -> 0 | F68: =IFERROR($D68*F87/100, 0) -> 0 | G68: =IFERROR($D68*G87/100, 0) -> 0 | H68: =IFERROR($D68*H87/100, 0) -> 0 | I68: =SUM(J68:L68) -> 0 | J68: =IFERROR($D68*J87/100, 0) -> 0 | K68: =IFERROR($D68*K87/100, 0) -> 0 | L68: =IFERROR($D68*L87/100, 0) -> 0 | M68: =IFERROR($D68*M87/100, 0) -> 0 | N68: =+O68+P68 -> 0 | O68: =IFERROR($D68*O87/100, 0) -> 0 | P68: =IFERROR($D68*P87/100, 0) -> 0 | Q68: =IFERROR($D68*Q87/100, 0) -> 0 | R68: II.4.1. apskaitos prietaisai
B69: C.4.2. | C69: įrankiai (matavimo priemonės, elektriniai įrankiai ir prietaisai, gamybinis inventorius ir kt.) | D69: 0 | E69: =SUM(F69:H69) -> 0 | F69: =IFERROR($D69*F88/100, 0) -> 0 | G69: =IFERROR($D69*G88/100, 0) -> 0 | H69: =IFERROR($D69*H88/100, 0) -> 0 | I69: =SUM(J69:L69) -> 0 | J69: =IFERROR($D69*J88/100, 0) -> 0 | K69: =IFERROR($D69*K88/100, 0) -> 0 | L69: =IFERROR($D69*L88/100, 0) -> 0 | M69: =IFERROR($D69*M88/100, 0) -> 0 | N69: =+O69+P69 -> 0 | O69: =IFERROR($D69*O88/100, 0) -> 0 | P69: =IFERROR($D69*P88/100, 0) -> 0 | Q69: =IFERROR($D69*Q88/100, 0) -> 0 | R69: II.4.2. įrankiai
B70: C.5. | C70: TRANSPORTO PRIEMONĖS | D70: =D71+D72 -> 9.3409189 | E70: =SUM(F70:H70) -> 2.3878469 | F70: =F71+F72 -> 0.094020053 | G70: =G71+G72 -> 0.42640379 | H70: =H71+H72 -> 1.8674231 | I70: =SUM(J70:L70) -> 6.9522767 | J70: =J71+J72 -> 4.503226 | K70: =K71+K72 -> 1.5294364 | L70: =L71+L72 -> 0.91961437 | M70: =M71+M72 -> 0 | N70: =+O70+P70 -> 0.00079529582 | O70: =O71+O72 -> 0.00079529582 | P70: =P71+P72 -> 0 | Q70: =Q71+Q72 -> 0
B71: C.5.1. | C71: lengvieji automobiliai | D71: 8.6308402 | E71: =SUM(F71:H71) -> 2.2063274 | F71: =IFERROR($D71*F89/100, 0) -> 0.086872829 | G71: =IFERROR($D71*G89/100, 0) -> 0.39398939 | H71: =IFERROR($D71*H89/100, 0) -> 1.7254651 | I71: =SUM(J71:L71) -> 6.423778 | J71: =IFERROR($D71*J89/100, 0) -> 4.1608994 | K71: =IFERROR($D71*K89/100, 0) -> 1.4131716 | L71: =IFERROR($D71*L89/100, 0) -> 0.84970705 | M71: =IFERROR($D71*M89/100, 0) -> 0 | N71: =+O71+P71 -> 0.00073483896 | O71: =IFERROR($D71*O89/100, 0) -> 0.00073483896 | P71: =IFERROR($D71*P89/100, 0) -> 0 | Q71: =IFERROR($D71*Q89/100, 0) -> 0 | R71: II.5.1.lengvieji automobiliai
B72: C.5.2. | C72: kitos transporto priemonės (transportas dumblui, vandeniui vežti, autobusai žmonėms vežti) | D72: 0.71007874 | E72: =SUM(F72:H72) -> 0.18151954 | F72: =IFERROR($D72*F90/100, 0) -> 0.0071472241 | G72: =IFERROR($D72*G90/100, 0) -> 0.032414398 | H72: =IFERROR($D72*H90/100, 0) -> 0.14195792 | I72: =SUM(J72:L72) -> 0.52849874 | J72: =IFERROR($D72*J90/100, 0) -> 0.3423266 | K72: =IFERROR($D72*K90/100, 0) -> 0.11626482 | L72: =IFERROR($D72*L90/100, 0) -> 0.06990732 | M72: =IFERROR($D72*M90/100, 0) -> 0 | N72: =+O72+P72 -> 6.0456862e-05 | O72: =IFERROR($D72*O90/100, 0) -> 6.0456862e-05 | P72: =IFERROR($D72*P90/100, 0) -> 0 | Q72: =IFERROR($D72*Q90/100, 0) -> 0 | R72: II.5.2.kitos transporto priemonės
B73: C.6. | C73: KITAS ILGALAIKIS TURTAS | D73: =D74+D75+D76 -> 0 | E73: =E74+E75+E76 -> 0 | F73: =F74+F75+F76 -> 0 | G73: =G74+G75+G76 -> 0 | H73: =H74+H75+H76 -> 0 | I73: =I74+I75+I76 -> 0 | J73: =J74+J75+J76 -> 0 | K73: =K74+K75+K76 -> 0 | ... M73: =M74+M75+M76 -> 0 | N73: =+O73+P73 -> 0 | O73: =O74+O75+O76 -> 0 | P73: =P74+P75+P76 -> 0 | Q73: =Q74+Q75+Q76 -> 0
B74: C.6.1. | D74: 0 | E74: =SUM(F74:H74) -> 0 | F74: =IFERROR($D74*F91/100, 0) -> 0 | G74: =IFERROR($D74*G91/100, 0) -> 0 | H74: =IFERROR($D74*H91/100, 0) -> 0 | I74: =SUM(J74:L74) -> 0 | J74: =IFERROR($D74*J91/100, 0) -> 0 | K74: =IFERROR($D74*K91/100, 0) -> 0 | L74: =IFERROR($D74*L91/100, 0) -> 0 | M74: =IFERROR($D74*M91/100, 0) -> 0 | N74: =+O74+P74 -> 0 | O74: =IFERROR($D74*O91/100, 0) -> 0 | P74: =IFERROR($D74*P91/100, 0) -> 0 | Q74: =IFERROR($D74*Q91/100, 0) -> 0 | R74: II.6.1.
B75: C.6.2. | D75: 0 | E75: =SUM(F75:H75) -> 0 | F75: =IFERROR($D75*F92/100, 0) -> 0 | G75: =IFERROR($D75*G92/100, 0) -> 0 | H75: =IFERROR($D75*H92/100, 0) -> 0 | I75: =SUM(J75:L75) -> 0 | J75: =IFERROR($D75*J92/100, 0) -> 0 | K75: =IFERROR($D75*K92/100, 0) -> 0 | L75: =IFERROR($D75*L92/100, 0) -> 0 | M75: =IFERROR($D75*M92/100, 0) -> 0 | N75: =+O75+P75 -> 0 | O75: =IFERROR($D75*O92/100, 0) -> 0 | P75: =IFERROR($D75*P92/100, 0) -> 0 | Q75: =IFERROR($D75*Q92/100, 0) -> 0 | R75: II.6.2.
B76: C.6.3. | D76: 0 | E76: =SUM(F76:H76) -> 0 | F76: =IFERROR($D76*F93/100, 0) -> 0 | G76: =IFERROR($D76*G93/100, 0) -> 0 | H76: =IFERROR($D76*H93/100, 0) -> 0 | I76: =SUM(J76:L76) -> 0 | J76: =IFERROR($D76*J93/100, 0) -> 0 | K76: =IFERROR($D76*K93/100, 0) -> 0 | L76: =IFERROR($D76*L93/100, 0) -> 0 | M76: =IFERROR($D76*M93/100, 0) -> 0 | N76: =+O76+P76 -> 0 | O76: =IFERROR($D76*O93/100, 0) -> 0 | P76: =IFERROR($D76*P93/100, 0) -> 0 | Q76: =IFERROR($D76*Q93/100, 0) -> 0 | R76: II.6.3.
B77: D. | C77: Netiesiogiai paskirstomo ilgalaikio turto paskirstymo kriterijus | D77: 1. IŠ VISO | E77: 2. Iš viso GVT | F77: 2.1. Geriamojo vandens gavyba | G77: 2.2. Geriamojo vandens ruošimas | H77: 2.3. Geriamojo vandens pristatymas | I77: 3. Iš viso NT | J77: 3.1. Nuotekų surinkimas | K77: 3.2. Nuotekų valymas | L77: 3.3. Nuotekų dumblo tvarkymas | M77: 4. Paviršinių nuotekų tvarkymas (tik esant atskirai paviršinių nuotekų tvarkymo sistemai) | N77: 5. Kitos reguliuojamosios veiklos verslo vienetas | O77: 5.1 Apskaitos veikla | P77: 5.2. Kita reguliuojama veikla | Q77: 6. Kitos veiklos (nereguliuojamosios veiklos) verslo vienetas
B78: D.1. | C78: ='6'!C78 -> C.1.1 Punktui Tiesiogiai paslaugoms priskirto naudojamo turto buhalterinė įsigijimo vertė | D78: =O78+E78+I78+M78+P78+Q78 -> 100 | E78: =SUM(F78:H78) -> 25.563298 | F78: ='6'!F78 -> 1.0065397 | G78: ='6'!G78 -> 4.5649019 | H78: ='6'!H78 -> 19.991856 | I78: =SUM(J78:L78) -> 74.428188 | J78: ='6'!J78 -> 48.209667 | K78: ='6'!K78 -> 16.373511 | L78: ='6'!L78 -> 9.8450097 | M78: ='6'!M78 -> 0 | N78: =+O78+P78 -> 0.0085141069 | O78: ='6'!O78 -> 0.0085141069 | P78: ='6'!P78 -> 0 | Q78: ='6'!Q78 -> 0 | R78: C.1.1 Punktui
B79: D.2. | C79: ='6'!C79 -> C.1.2. Punktui Tiesiogiai paslaugoms priskirto naudojamo turto buhalterinė įsigijimo vertė | D79: =O79+E79+I79+M79+P79+Q79 -> 100 | E79: =SUM(F79:H79) -> 25.563298 | F79: ='6'!F79 -> 1.0065397 | G79: ='6'!G79 -> 4.5649019 | H79: ='6'!H79 -> 19.991856 | I79: =SUM(J79:L79) -> 74.428188 | J79: ='6'!J79 -> 48.209667 | K79: ='6'!K79 -> 16.373511 | L79: ='6'!L79 -> 9.8450097 | M79: ='6'!M79 -> 0 | N79: =+O79+P79 -> 0.0085141069 | O79: ='6'!O79 -> 0.0085141069 | P79: ='6'!P79 -> 0 | Q79: ='6'!Q79 -> 0 | R79: C.1.2. Punktui
B80: D.3. | C80: ='6'!C80 -> C.1.3. Punktui Tiesiogiai paslaugoms priskirto naudojamo turto buhalterinė įsigijimo vertė | D80: =O80+E80+I80+M80+P80+Q80 -> 100 | E80: =SUM(F80:H80) -> 25.563298 | F80: ='6'!F80 -> 1.0065397 | G80: ='6'!G80 -> 4.5649019 | H80: ='6'!H80 -> 19.991856 | I80: =SUM(J80:L80) -> 74.428188 | J80: ='6'!J80 -> 48.209667 | K80: ='6'!K80 -> 16.373511 | L80: ='6'!L80 -> 9.8450097 | M80: ='6'!M80 -> 0 | N80: =+O80+P80 -> 0.0085141069 | O80: ='6'!O80 -> 0.0085141069 | P80: ='6'!P80 -> 0 | Q80: ='6'!Q80 -> 0 | R80: C.1.3. Punktui
B81: D.4. | C81: ='6'!C81 -> C.2.1 Punktui Tiesiogiai paslaugoms priskirto naudojamo turto buhalterinė įsigijimo vertė | D81: =O81+E81+I81+M81+P81+Q81 -> 100 | E81: =SUM(F81:H81) -> 25.563298 | F81: ='6'!F81 -> 1.0065397 | G81: ='6'!G81 -> 4.5649019 | H81: ='6'!H81 -> 19.991856 | I81: =SUM(J81:L81) -> 74.428188 | J81: ='6'!J81 -> 48.209667 | K81: ='6'!K81 -> 16.373511 | L81: ='6'!L81 -> 9.8450097 | M81: ='6'!M81 -> 0 | N81: =+O81+P81 -> 0.0085141069 | O81: ='6'!O81 -> 0.0085141069 | P81: ='6'!P81 -> 0 | Q81: ='6'!Q81 -> 0 | R81: C.2.1 Punktui
B82: D.5. | C82: ='6'!C82 -> C.2.2. Punktui Tiesiogiai paslaugoms priskirto naudojamo turto buhalterinė įsigijimo vertė | D82: =O82+E82+I82+M82+P82+Q82 -> 100 | E82: =SUM(F82:H82) -> 25.563298 | F82: ='6'!F82 -> 1.0065397 | G82: ='6'!G82 -> 4.5649019 | H82: ='6'!H82 -> 19.991856 | I82: =SUM(J82:L82) -> 74.428188 | J82: ='6'!J82 -> 48.209667 | K82: ='6'!K82 -> 16.373511 | L82: ='6'!L82 -> 9.8450097 | M82: ='6'!M82 -> 0 | N82: =+O82+P82 -> 0.0085141069 | O82: ='6'!O82 -> 0.0085141069 | P82: ='6'!P82 -> 0 | Q82: ='6'!Q82 -> 0 | R82: C.2.2. Punktui
B83: D.6. | C83: ='6'!C83 -> C.2.3 Punktui Tiesiogiai paslaugoms priskirto naudojamo turto buhalterinė įsigijimo vertė | D83: =O83+E83+I83+M83+P83+Q83 -> 100 | E83: =SUM(F83:H83) -> 25.563298 | F83: ='6'!F83 -> 1.0065397 | G83: ='6'!G83 -> 4.5649019 | H83: ='6'!H83 -> 19.991856 | I83: =SUM(J83:L83) -> 74.428188 | J83: ='6'!J83 -> 48.209667 | K83: ='6'!K83 -> 16.373511 | L83: ='6'!L83 -> 9.8450097 | M83: ='6'!M83 -> 0 | N83: =+O83+P83 -> 0.0085141069 | O83: ='6'!O83 -> 0.0085141069 | P83: ='6'!P83 -> 0 | Q83: ='6'!Q83 -> 0 | R83: C.2.3 Punktui
B84: D.7. | C84: ='6'!C84 -> C.2.4 Punktui Tiesiogiai paslaugoms priskirto naudojamo turto buhalterinė įsigijimo vertė | D84: =O84+E84+I84+M84+P84+Q84 -> 100 | E84: =SUM(F84:H84) -> 25.563298 | F84: ='6'!F84 -> 1.0065397 | G84: ='6'!G84 -> 4.5649019 | H84: ='6'!H84 -> 19.991856 | I84: =SUM(J84:L84) -> 74.428188 | J84: ='6'!J84 -> 48.209667 | K84: ='6'!K84 -> 16.373511 | L84: ='6'!L84 -> 9.8450097 | M84: ='6'!M84 -> 0 | N84: =+O84+P84 -> 0.0085141069 | O84: ='6'!O84 -> 0.0085141069 | P84: ='6'!P84 -> 0 | Q84: ='6'!Q84 -> 0 | R84: C.2.4 Punktui
B85: D.8. | C85: ='6'!C85 -> C.3.1. Punktui Tiesiogiai paslaugoms priskirto naudojamo turto buhalterinė įsigijimo vertė | D85: =O85+E85+I85+M85+P85+Q85 -> 100 | E85: =SUM(F85:H85) -> 25.563298 | F85: ='6'!F85 -> 1.0065397 | G85: ='6'!G85 -> 4.5649019 | H85: ='6'!H85 -> 19.991856 | I85: =SUM(J85:L85) -> 74.428188 | J85: ='6'!J85 -> 48.209667 | K85: ='6'!K85 -> 16.373511 | L85: ='6'!L85 -> 9.8450097 | M85: ='6'!M85 -> 0 | N85: =+O85+P85 -> 0.0085141069 | O85: ='6'!O85 -> 0.0085141069 | P85: ='6'!P85 -> 0 | Q85: ='6'!Q85 -> 0 | R85: C.3.1. Punktui
B86: D.9. | C86: ='6'!C86 -> C.3.2. Punktui Tiesiogiai paslaugoms priskirto naudojamo turto buhalterinė įsigijimo vertė | D86: =O86+E86+I86+M86+P86+Q86 -> 100 | E86: =SUM(F86:H86) -> 25.563298 | F86: ='6'!F86 -> 1.0065397 | G86: ='6'!G86 -> 4.5649019 | H86: ='6'!H86 -> 19.991856 | I86: =SUM(J86:L86) -> 74.428188 | J86: ='6'!J86 -> 48.209667 | K86: ='6'!K86 -> 16.373511 | L86: ='6'!L86 -> 9.8450097 | M86: ='6'!M86 -> 0 | N86: =+O86+P86 -> 0.0085141069 | O86: ='6'!O86 -> 0.0085141069 | P86: ='6'!P86 -> 0 | Q86: ='6'!Q86 -> 0 | R86: C.3.2. Punktui
B87: D.10. | C87: ='6'!C87 -> C.4.1 Punktui Tiesiogiai paslaugoms priskirto naudojamo turto buhalterinė įsigijimo vertė | D87: =O87+E87+I87+M87+P87+Q87 -> 100 | E87: =SUM(F87:H87) -> 25.563298 | F87: ='6'!F87 -> 1.0065397 | G87: ='6'!G87 -> 4.5649019 | H87: ='6'!H87 -> 19.991856 | I87: =SUM(J87:L87) -> 74.428188 | J87: ='6'!J87 -> 48.209667 | K87: ='6'!K87 -> 16.373511 | L87: ='6'!L87 -> 9.8450097 | M87: ='6'!M87 -> 0 | N87: =+O87+P87 -> 0.0085141069 | O87: ='6'!O87 -> 0.0085141069 | P87: ='6'!P87 -> 0 | Q87: ='6'!Q87 -> 0 | R87: C.4.1 Punktui
B88: D.11. | C88: ='6'!C88 -> C.4.2 Punktui Tiesiogiai paslaugoms priskirto naudojamo turto buhalterinė įsigijimo vertė | D88: =O88+E88+I88+M88+P88+Q88 -> 100 | E88: =SUM(F88:H88) -> 25.563298 | F88: ='6'!F88 -> 1.0065397 | G88: ='6'!G88 -> 4.5649019 | H88: ='6'!H88 -> 19.991856 | I88: =SUM(J88:L88) -> 74.428188 | J88: ='6'!J88 -> 48.209667 | K88: ='6'!K88 -> 16.373511 | L88: ='6'!L88 -> 9.8450097 | M88: ='6'!M88 -> 0 | N88: =+O88+P88 -> 0.0085141069 | O88: ='6'!O88 -> 0.0085141069 | P88: ='6'!P88 -> 0 | Q88: ='6'!Q88 -> 0 | R88: C.4.2 Punktui
B89: D.12. | C89: ='6'!C89 -> C.5.1 Punktui Tiesiogiai paslaugoms priskirto naudojamo turto buhalterinė įsigijimo vertė | D89: =O89+E89+I89+M89+P89+Q89 -> 100 | E89: =SUM(F89:H89) -> 25.563298 | F89: ='6'!F89 -> 1.0065397 | G89: ='6'!G89 -> 4.5649019 | H89: ='6'!H89 -> 19.991856 | I89: =SUM(J89:L89) -> 74.428188 | J89: ='6'!J89 -> 48.209667 | K89: ='6'!K89 -> 16.373511 | L89: ='6'!L89 -> 9.8450097 | M89: ='6'!M89 -> 0 | N89: =+O89+P89 -> 0.0085141069 | O89: ='6'!O89 -> 0.0085141069 | P89: ='6'!P89 -> 0 | Q89: ='6'!Q89 -> 0 | R89: C.5.1 Punktui
... B93: D.16. | C93: ='6'!C93 -> C.6.3. Punktui Tiesiogiai paslaugoms priskirto naudojamo turto buhalterinė įsigijimo vertė | D93: =O93+E93+I93+M93+P93+Q93 -> 100 | E93: =SUM(F93:H93) -> 25.563298 | F93: ='6'!F93 -> 1.0065397 | G93: ='6'!G93 -> 4.5649019 | H93: ='6'!H93 -> 19.991856 | I93: =SUM(J93:L93) -> 74.428188 | J93: ='6'!J93 -> 48.209667 | K93: ='6'!K93 -> 16.373511 | L93: ='6'!L93 -> 9.8450097 | M93: ='6'!M93 -> 0 | N93: =+O93+P93 -> 0.0085141069 | O93: ='6'!O93 -> 0.0085141069 | P93: ='6'!P93 -> 0 | Q93: ='6'!Q93 -> 0 | R93: C.6.3. Punktui
A94: Bendrosios sąnaudos | B94: E. | C94: BENDRAI PASKIRSTOMAS ILGALAIKIS TURTAS | D94: =D95+D99+D104+D106+D109+D112 -> 68.286046 | E94: =E95+E99+E104+E106+E109+E112 -> 19.628349 | F94: =F95+F99+F104+F106+F109+F112 -> 3.6872145 | G94: =G95+G99+G104+G106+G109+G112 -> 4.438009 | H94: =H95+H99+H104+H106+H109+H112 -> 11.503125 | I94: =I95+I99+I104+I106+I109+I112 -> 45.043026 | J94: =J95+J99+J104+J106+J109+J112 -> 21.087794 | K94: =K95+K99+K104+K106+K109+K112 -> 18.017133 | ... M94: =M95+M99+M104+M106+M109+M112 -> 0 | N94: =+O94+P94 -> 2.818231 | O94: =O95+O99+O104+O106+O109+O112 -> 2.818231 | P94: =P95+P99+P104+P106+P109+P112 -> 0 | Q94: =Q95+Q99+Q104+Q106+Q109+Q112 -> 0.79644043
B95: E.1. | C95: NEMATERIALUSIS TURTAS | D95: =SUM(D96:D98) -> 0 | E95: =SUM(F95:H95) -> 0 | F95: =SUM(F96:F98) -> 0 | G95: =SUM(G96:G98) -> 0 | H95: =SUM(H96:H98) -> 0 | I95: =SUM(J95:L95) -> 0 | J95: =SUM(J96:J98) -> 0 | K95: =SUM(K96:K98) -> 0 | L95: =SUM(L96:L98) -> 0 | M95: =SUM(M96:M98) -> 0 | N95: =+O95+P95 -> 0 | O95: =SUM(O96:O98) -> 0 | P95: =SUM(P96:P98) -> 0 | Q95: =SUM(Q96:Q98) -> 0
B96: E.1.1. | C96: standartinė programinė įranga | D96: 0 | E96: =SUM(F96:H96) -> 0 | F96: =IFERROR($D96*F117/100, 0) -> 0 | G96: =IFERROR($D96*G117/100, 0) -> 0 | H96: =IFERROR($D96*H117/100, 0) -> 0 | I96: =SUM(J96:L96) -> 0 | J96: =IFERROR($D96*J117/100, 0) -> 0 | K96: =IFERROR($D96*K117/100, 0) -> 0 | L96: =IFERROR($D96*L117/100, 0) -> 0 | M96: =IFERROR($D96*M117/100, 0) -> 0 | N96: =+O96+P96 -> 0 | O96: =IFERROR($D96*O117/100, 0) -> 0 | P96: =IFERROR($D96*P117/100, 0) -> 0 | Q96: =IFERROR($D96*Q117/100, 0) -> 0 | R96: I.1.standartinė programinė įranga
B97: E.1.2. | C97: spec. programinė įranga | D97: 0 | E97: =SUM(F97:H97) -> 0 | F97: =IFERROR($D97*F118/100, 0) -> 0 | G97: =IFERROR($D97*G118/100, 0) -> 0 | H97: =IFERROR($D97*H118/100, 0) -> 0 | I97: =SUM(J97:L97) -> 0 | J97: =IFERROR($D97*J118/100, 0) -> 0 | K97: =IFERROR($D97*K118/100, 0) -> 0 | L97: =IFERROR($D97*L118/100, 0) -> 0 | M97: =IFERROR($D97*M118/100, 0) -> 0 | N97: =+O97+P97 -> 0 | O97: =IFERROR($D97*O118/100, 0) -> 0 | P97: =IFERROR($D97*P118/100, 0) -> 0 | Q97: =IFERROR($D97*Q118/100, 0) -> 0 | R97: I.1.spec. programinė įranga
B98: E.1.3. | C98: kitas nematerialus turtas | D98: 0 | E98: =SUM(F98:H98) -> 0 | F98: =IFERROR($D98*F119/100, 0) -> 0 | G98: =IFERROR($D98*G119/100, 0) -> 0 | H98: =IFERROR($D98*H119/100, 0) -> 0 | I98: =SUM(J98:L98) -> 0 | J98: =IFERROR($D98*J119/100, 0) -> 0 | K98: =IFERROR($D98*K119/100, 0) -> 0 | L98: =IFERROR($D98*L119/100, 0) -> 0 | M98: =IFERROR($D98*M119/100, 0) -> 0 | N98: =+O98+P98 -> 0 | O98: =IFERROR($D98*O119/100, 0) -> 0 | P98: =IFERROR($D98*P119/100, 0) -> 0 | Q98: =IFERROR($D98*Q119/100, 0) -> 0 | R98: I.1.kitas nematerialus turtas
B99: E.2. | C99: PASTATAI IR STATINIAI | D99: =SUM(D100:D103) -> 68.286046 | E99: =SUM(F99:H99) -> 19.628349 | F99: =SUM(F100:F103) -> 3.6872145 | G99: =SUM(G100:G103) -> 4.438009 | H99: =SUM(H100:H103) -> 11.503125 | I99: =SUM(J99:L99) -> 45.043026 | J99: =SUM(J100:J103) -> 21.087794 | K99: =SUM(K100:K103) -> 18.017133 | L99: =SUM(L100:L103) -> 5.9380991 | M99: =SUM(M100:M103) -> 0 | N99: =+O99+P99 -> 2.818231 | O99: =SUM(O100:O103) -> 2.818231 | P99: =SUM(P100:P103) -> 0 | Q99: =SUM(Q100:Q103) -> 0.79644043
B100: E.2.1. | C100: Pastatai (administraciniai, gamybiniai-ūkiniai ir pan.) | D100: 64.986869 | E100: =SUM(F100:H100) -> 18.680023 | F100: =IFERROR($D100*F120/100, 0) -> 3.5090701 | G100: =IFERROR($D100*G120/100, 0) -> 4.2235907 | H100: =IFERROR($D100*H120/100, 0) -> 10.947363 | I100: =SUM(J100:L100) -> 42.866814 | J100: =IFERROR($D100*J120/100, 0) -> 20.068957 | K100: =IFERROR($D100*K120/100, 0) -> 17.146652 | L100: =IFERROR($D100*L120/100, 0) -> 5.6512053 | M100: =IFERROR($D100*M120/100, 0) -> 0 | N100: =+O100+P100 -> 2.6820707 | O100: =IFERROR($D100*O120/100, 0) -> 2.6820707 | P100: =IFERROR($D100*P120/100, 0) -> 0 | Q100: =IFERROR($D100*Q120/100, 0) -> 0.75796114 | R100: II.2.1.Pastatai
B101: E.2.2. | C101: keliai, aikštelės, šaligatviai ir tvoros | D101: 0 | E101: =SUM(F101:H101) -> 0 | F101: =IFERROR($D101*F121/100, 0) -> 0 | G101: =IFERROR($D101*G121/100, 0) -> 0 | H101: =IFERROR($D101*H121/100, 0) -> 0 | I101: =SUM(J101:L101) -> 0 | J101: =IFERROR($D101*J121/100, 0) -> 0 | K101: =IFERROR($D101*K121/100, 0) -> 0 | L101: =IFERROR($D101*L121/100, 0) -> 0 | M101: =IFERROR($D101*M121/100, 0) -> 0 | N101: =+O101+P101 -> 0 | O101: =IFERROR($D101*O121/100, 0) -> 0 | P101: =IFERROR($D101*P121/100, 0) -> 0 | Q101: =IFERROR($D101*Q121/100, 0) -> 0 | R101: II.2.2.1.keliai | S101: II.2.2.2.aikštelės | T101: II.2.2.3.šaligatviai | U101: II.2.2.4.tvoros
B102: E.2.3. | C102: vamzdynai | D102: 0 | E102: =SUM(F102:H102) -> 0 | F102: =IFERROR($D102*F122/100, 0) -> 0 | G102: =IFERROR($D102*G122/100, 0) -> 0 | H102: =IFERROR($D102*H122/100, 0) -> 0 | I102: =SUM(J102:L102) -> 0 | J102: =IFERROR($D102*J122/100, 0) -> 0 | K102: =IFERROR($D102*K122/100, 0) -> 0 | L102: =IFERROR($D102*L122/100, 0) -> 0 | M102: =IFERROR($D102*M122/100, 0) -> 0 | N102: =+O102+P102 -> 0 | O102: =IFERROR($D102*O122/100, 0) -> 0 | P102: =IFERROR($D102*P122/100, 0) -> 0 | Q102: =IFERROR($D102*Q122/100, 0) -> 0 | R102: II.2.3.vamzdynai
B103: E.2.4. | C103: Kiti įrenginiai | D103: 3.2991775 | E103: =SUM(F103:H103) -> 0.94832561 | F103: =IFERROR($D103*F123/100, 0) -> 0.17814437 | G103: =IFERROR($D103*G123/100, 0) -> 0.21441832 | H103: =IFERROR($D103*H123/100, 0) -> 0.55576292 | I103: =SUM(J103:L103) -> 2.1762123 | J103: =IFERROR($D103*J123/100, 0) -> 1.0188374 | K103: =IFERROR($D103*K123/100, 0) -> 0.87048119 | L103: =IFERROR($D103*L123/100, 0) -> 0.28689379 | M103: =IFERROR($D103*M123/100, 0) -> 0 | N103: =+O103+P103 -> 0.13616023 | O103: =IFERROR($D103*O123/100, 0) -> 0.13616023 | P103: =IFERROR($D103*P123/100, 0) -> 0 | Q103: =IFERROR($D103*Q123/100, 0) -> 0.038479286 | R103: II.2.4.Kiti įrenginiai
B104: E.3. | C104: MAŠINOS IR ĮRANGA | D104: =D105 -> 0 | E104: =SUM(F104:H104) -> 0 | F104: =F105 -> 0 | G104: =G105 -> 0 | H104: =H105 -> 0 | I104: =SUM(J104:L104) -> 0 | J104: =J105 -> 0 | K104: =K105 -> 0 | L104: =L105 -> 0 | M104: =M105 -> 0 | N104: =+O104+P104 -> 0 | O104: =O105 -> 0 | P104: =P105 -> 0 | Q104: =Q105 -> 0
B105: E.3.1. | C105: Kita įranga | D105: 0 | E105: =SUM(F105:H105) -> 0 | F105: =IFERROR($D105*F124/100, 0) -> 0 | G105: =IFERROR($D105*G124/100, 0) -> 0 | H105: =IFERROR($D105*H124/100, 0) -> 0 | I105: =SUM(J105:L105) -> 0 | J105: =IFERROR($D105*J124/100, 0) -> 0 | K105: =IFERROR($D105*K124/100, 0) -> 0 | L105: =IFERROR($D105*L124/100, 0) -> 0 | M105: =IFERROR($D105*M124/100, 0) -> 0 | N105: =+O105+P105 -> 0 | O105: =IFERROR($D105*O124/100, 0) -> 0 | P105: =IFERROR($D105*P124/100, 0) -> 0 | Q105: =IFERROR($D105*Q124/100, 0) -> 0 | R105: II.3.1.vandens siurbliai, nuotekų ir dumblo siurbliai virš 5 kW, kita įranga
...

Sheet 8
E2: Geriamojo vandens tiekimo ir nuotekų tvarkymo bei paviršinių nuotekų tvarkymo paslaugų įmonių apskaitos atskyrimo ir susijusių reikalavimų aprašo 8 priedas
C3: Ūkio subjektas: UAB „Biržų vandenys“
C4: Ataskaitinis laikotarpis: 2021-01-01 - 2021-12-31
C6: Ataskaitinio laikotarpio geriamojo vandens ir nuotekų tvarkymo paslaugų realizacija
B9: Eil. Nr. | C9: RODIKLIAI | D9: Matavimo vienetai | E9: Ataskaitinis laikotarpis
C10: G E R I A M A S I S V A N D U O
B11: 1 | C11: IŠGAUTO POŽEMINIO VANDENS KIEKIS | D11: tūkst. m3 | E11: 532.88 | F11: TRUE
B12: 2 | C12: PARUOŠTO GERIAMOJO VANDENS KIEKIS | D12: tūkst. m3 | E12: 382.059 | F12: TRUE
B13: 3 | C13: PATIEKTO GERIAMOJO VANDENS KIEKIS | D13: tūkst. m3 | E13: 531.88 | F13: TRUE
B14: 3.1. | C14: iš šio skaičiaus: patiekto daugiabučiams namams | D14: tūkst. m3 | E14: 0 | F14: TRUE
B15: 3.1.1. | C15: iš šio skaičiaus: karšto vandens ruošimui | D15: tūkst. m3 | E15: 0 | F15: TRUE
B16: 4. | C16: REALIZUOTAS GERIAMOJO VANDENS KIEKIS | D16: tūkst. m3 | E16: =E17+E21+E23 -> 321.19213 | F16: TRUE
B17: 4.1. | C17: Vartotojams | D17: tūkst. m3 | E17: =E18+E20 -> 236.03213 | F17: TRUE
B18: 4.1.1. | C18: Daugiabučiuose namuose | D18: tūkst. m3 | E18: 131.31 | F18: TRUE
B19: 4.1.1.1. | C19: iš šio skaičiaus: karšto vandens ruošimui | D19: tūkst. m3 | E19: 40.101 | F19: TRUE
B20: 4.1.2. | C20: Individualiuose namuose | D20: tūkst. m3 | E20: 104.72213 | F20: TRUE
B21: 4.2. | C21: Abonentams | D21: tūkst. m3 | E21: 85.16 | F21: TRUE
B22: 4.2.1. | C22: iš šio skaičiaus: karšto vandens tiekėjams | D22: tūkst. m3 | E22: 3.024 | F22: TRUE
B23: 4.3. | C23: Sezoniniams abonentams | D23: tūkst. m3 | E23: 0 | F23: TRUE
B24: 5. | C24: VANDENS KIEKIS SUVARTOTAS PER HIDRANTUS GAISRAMS GESINTI | D24: tūkst. m3 | E24: 0 | F24: TRUE
B25: 6. | C25: NEAPSKAITYTAS VANDENS KIEKIS | D25: tūkst. m3 | E25: =E11-E16-E24 -> 211.68787 | F25: TRUE
B26: 6.1. | C26: iš šio skaičiaus: technologiniai nuostoliai vandens ruošime (filtrų plovimas) | D26: tūkst. m3 | E26: =E11-E13 -> 1 | F26: TRUE
B27: 6.2. | C27: tiekimo tinkluose iki vandentiekio įvadų | D27: tūkst. m3 | E27: =E13-E16-E24-E29 -> 341.99787 | F27: TRUE
B28: 6.3. | C28: daugiabučių namų tinkluose | D28: tūkst. m3 | E28: =$E$14-$E$18 -> -131.31 | F28: TRUE
B29: 6.3.1. | C29: skirtumas daugiabučiuose tarp įvadinės ir apskaitos butuose | D29: tūkst. m3 | E29: =$E$14-$E$18 -> -131.31 | F29: TRUE
B30: 6.3.1.1 | C30: iš šio skaičiaus: karšto vandens skirtumas | D30: tūkst. m3 | E30: =E15-E19 -> -40.101 | F30: TRUE
C31: N U O T E K O S | F31: TRUE
B32: 7. | C32: SURINKTA BUITINIŲ IR GAMYBINIŲ NUOTEKŲ | D32: tūkst. m3 | E32: =E33+E34 -> 1121.7303 | F32: TRUE
B33: 7.1. | C33: iš šio skaičiaus: buitinių ir gamybinių nuotekų tinklais | D33: tūkst. m3 | E33: 1113.8 | F33: TRUE
B34: 7.2. | C34: surenkamų asenizacijos transporto priemonėmis | D34: tūkst. m3 | E34: 7.9303 | F34: TRUE
B35: 8. | C35: PERPUMPUOTAS BUITINIŲ IR GAMYBINIŲ NUOTEKŲ KIEKIS (per pirmąsias siurblines) | D35: tūkst. m3 | E35: 1113.791 | F35: TRUE
B36: 9. | C36: IŠVALYTAS BUITINIŲ IR GAMYBINIŲ NUOTEKŲ KIEKIS | D36: tūkst. m3 | E36: 1113.8 | F36: TRUE
B37: 10. | C37: SUTVARKYTAS DUMBLO KIEKIS | D37: tūkst. m3 | E37: =+E36 -> 1113.8 | F37: TRUE
B38: 11. | C38: REALIZUOTAS BUITINIŲ IR GAMYBINIŲ NUOTEKŲ TVARKYMO PASLAUGOS KIEKIS | D38: tūkst. m3 | E38: =E39+E45+E48 -> 389.82643 | F38: TRUE
B39: 11.1. | C39: Vartotojams už surinkimą | D39: tūkst. m3 | E39: =E40+E42 -> 268.94143 | F39: TRUE
B40: 11.1.1. | C40: Daugiabučiuose namuose | D40: tūkst. m3 | E40: 131.05648 | F40: TRUE
B41: 11.1.1.1. | C41: iš šio skaičiaus: karšto vandens nuotekos | D41: tūkst. m3 | E41: 39.993 | F41: TRUE
B42: 11.1.2. | C42: Individualiuose namuose už surinkimą | D42: tūkst. m3 | E42: 137.88495 | F42: TRUE
B43: 11.1.2.1. | C43: Individualiuose namuose už valymą | D43: tūkst. m3 | E43: 137.88495 | F43: TRUE
B44: 11.1.2.2. | C44: Individualiuose namuose už nuotekų dumblo tvarkymą | D44: tūkst. m3 | E44: 137.88495 | F44: TRUE
B45: 11.2. | C45: Abonentams už surinkimą | D45: tūkst. m3 | E45: 120.885 | F45: TRUE
B46: 11.2.1. | C46: Abonentams už valymą | D46: tūkst. m3 | E46: 120.885 | F46: TRUE
B47: 11.2.2. | C47: Abonentams už nuotekų dumblo tvarkymą | D47: tūkst. m3 | E47: 120.885 | F47: TRUE
B48: 11.3. | C48: Sezoniniams abonentams už surinkimą | D48: tūkst. m3 | E48: 0 | F48: TRUE
B49: 12. | C49: NEAPSKAITYTAS BUITINIŲ IR GAMYBINIŲ NUOTEKŲ KIEKIS | D49: tūkst. m3 | E49: =E32-E38 -> 731.90387 | F49: TRUE
B50: 12.1. | C50: iš šio skaičiaus: nuotekų infiltracija tinkluose | D50: tūkst. m3 | E50: =E49-E51 -> 731.90387 | F50: TRUE
B51: 12.2. | C51: įvadinės ir apskaitos butuose skirtumas | D51: tūkst. m3 | E51: =(E40/(100-E67)*100)-E40 -> 0 | F51: TRUE
B52: 12.2.1. | C52: iš šio skaičiaus: karšto vandens tarp įvadinės ir apskaitos butuose skirtumas | D52: tūkst. m3 | E52: =IF(E15-E41<=0,0,E15-E41) -> 0 | F52: TRUE
C53: P A V I R Š I N Ė S N U O T E K O S | F53: TRUE
B54: 13. | C54: SURINKTA PAVIRŠINIŲ NUOTEKŲ | D54: tūkst. m3 | E54: =SUM(E55:E56) -> 0 | F54: TRUE
B55: 13.1. | C55: Surinkta mišrių nuotekų surinkimo sistema | D55: tūkst. m3 | E55: 0 | F55: TRUE
B56: 13.2. | C56: Surinkta atskira paviršinių nuotekų tvarkymo sistema | D56: tūkst. m3 | E56: 0 | F56: TRUE
B57: 14. | C57: IŠVALYTAS PAVIRŠINIŲ NUOTEKŲ KIEKIS | D57: tūkst. m3 | E57: 0 | F57: TRUE
B58: 15. | C58: REALIZUOTAS PAVIRŠINIŲ NUOTEKŲ TVARKYMO KIEKIS | D58: tūkst. m3 | E58: =SUM(E59:E60) -> 0 | F58: TRUE
B59: 15.1. | C59: Surinkta mišrių nuotekų surinkimo sistema | D59: tūkst. m3 | E59: 0 | F59: TRUE
B60: 15.2. | C60: Surinkta atskira paviršinių nuotekų tvarkymo sistema | D60: tūkst. m3 | E60: 0 | F60: TRUE
B61: 16. | C61: NEAPMOKĖTAS PAVIRŠINIŲ NUOTEKŲ KIEKIS | D61: tūkst. m3 | E61: =E54-E58 -> 0 | F61: TRUE
C62: N E T E K T Y S | F62: TRUE
B63: 17. | C63: NEAPSKAITYTAS VANDENS KIEKIS NUO IŠGAUTO VANDENS KIEKIO | D63: % | E63: =IF(E11=0,0,E25/E11*100) -> 39.725243 | F63: TRUE
B64: 17.1. | C64: Iš šio skaičiaus: technologiniai nuostoliai vandens ruošime | D64: % | E64: =IF(E11=0,0,E26/E11*100) -> 0.18765951 | F64: TRUE
B65: 17.2. | C65: tiekimo tinkluose iki vandentiekio įvadų | D65: % | E65: =IF(E11=0,0,E27/E11*100) -> 64.179154 | F65: TRUE
B66: 17.3. | C66: daugiabučių namų tinkluose | D66: % | E66: =IF(E13=0,0,E28/E11*100) -> -24.64157 | F66: TRUE
B67: 17.3.1. | C67: skirtumas daugiabučiuose tarp įvadinės ir apskaitos butuose | D67: % | E67: =IF(E14=0,0,E29/E14*100) -> 0 | F67: TRUE
B68: 17.3.1.1. | C68: iš šio skaičiaus: karšto vandens skirtumas | D68: % | E68: =IF(E15=0,0,E30/E15*100) -> 0 | F68: TRUE
B69: 18. | C69: NEAPSKAITYTŲ BUITINIŲ IR GAMYBINIŲ NUOTEKŲ KIEKIS NUO SURINKTŲ NUOTEKŲ KIEKIO | D69: % | E69: =IF(E32=0,0,E49/E32*100) -> 65.247758 | F69: TRUE
B70: 18.1. | C70: iš šio skaičiaus: nuotekų infiltracija tinkluose | D70: % | E70: =IF($E$32=0,0,E50/$E$32*100) -> 65.247758 | F70: TRUE
B71: 18.2. | C71: įvadinės ir apskaitos butuose skirtumas | D71: % | E71: =IF($E$32=0,0,E51/$E$32*100) -> 0 | F71: TRUE
B72: 18.2.1. | C72: iš šio skaičiaus: karšto vandens tarp įvadinės ir apskaitos butuose skirtumas | D72: % | E72: =IF($E$32=0,0,E52/$E$32*100) -> 0 | F72: TRUE
B73: 19. | C73: NEAPMOKĖTAS PAVIRŠINIŲ NUOTEKŲ KIEKIS NUO SURINKTŲ NUOTEKŲ KIEKIO | D73: % | E73: =IF(E54=0,0,E61/E54*100) -> 0 | F73: TRUE
C74: V A R T O T O J A I | F74: TRUE
B75: 20. | C75: Gyventojų skaičius aptarnaujamoje teritorijoje | D75: žm. | E75: 22292 | F75: TRUE
B76: 21. | C76: Namų ūkių skaičius aptarnaujamoje teritorijoje | D76: vnt. | E76: 13269 | F76: TRUE
B77: 22. | C77: Aptarnaujamų Ūkio subjekto paslaugomis vartotojų skaičius | D77: vnt. | E77: =E78+E81+E82+E83+E84 -> 9234 | F77: TRUE
B78: 22.1. | C78: Vartotojai, kuriems tiekiamas ir vanduo, ir tvarkomos nuotekos | D78: vnt. | E78: =SUM(E79:E80) -> 6609 | F78: TRUE
B79: 22.1.1. | C79: iš šio skaičiaus: gyvenantys daugiabučiuose namuose | D79: vnt. | E79: 3242 | F79: TRUE
B80: 22.1.2 | C80: individualiuose gyvenamuosiuose namuose | D80: vnt. | E80: 3367 | F80: TRUE
B81: 22.2. | C81: Vartotojai kuriems tiekiamas tik vanduo | D81: vnt. | E81: 699 | F81: TRUE
B82: 22.3. | C82: Vartotojai kuriems tik centralizuotai surenkamos nuotekos | D82: vnt. | E82: 1438 | F82: TRUE
B83: 22.4. | C83: Vartotojai kuriems surenkamos nuotekos asenizacijos transporto priemonėmis | D83: vnt. | E83: 447 | F83: TRUE
B84: 22.5. | C84: Kiti Ūkio subjekto GVTNT paslaugų vartotojai | D84: vnt. | E84: 41 | F84: TRUE
B85: 23. | C85: Aptarnaujamų Ūkio subjekto paslaugomis abonentų skaičius | D85: vnt. | E85: =SUM(E86:E88) -> 389 | F85: TRUE
B86: 23.1. | C86: Abonentai kuriems tiekiamas ir vanduo, ir tvarkomos nuotekos | D86: vnt. | E86: 301 | F86: TRUE
B87: 23.3. | C87: Abonentai kuriems tiekiamas tik vanduo | D87: vnt. | E87: 64 | F87: TRUE
B88: 23.2. | C88: Abonentai kuriems tik centralizuotai surenkamos nuotekos | D88: vnt. | E88: 24 | F88: TRUE
B89: 24. | C89: Aptarnaujamų Ūkio subjekto paslaugomis vartotojų ir abonentų skaičius iš viso | D89: vnt. | E89: =SUM(E90:E92) -> 9135 | F89: TRUE
B90: 24.1. | C90: Abonentai ir vartotojai kuriems tiekiamas ir vanduo, ir tvarkomos nuotekos, iš viso | D90: vnt. | E90: =+E78+E86 -> 6910 | F90: TRUE
B91: 24.2. | C91: Abonentai ir vartotojai kuriems tik tiekiamas vanduo, iš viso | D91: vnt. | E91: =+E81+E87 -> 763 | F91: TRUE
B92: 24.3. | C92: Abonentai ir vartotojai kuriems tik centralizuotai surenkamos nuotekos, iš viso | D92: vnt. | E92: =+E82+E88 -> 1462 | F92: TRUE

Sheet 9
E2: Geriamojo vandens tiekimo ir nuotekų tvarkymo bei paviršinių nuotekų tvarkymo paslaugų įmonių apskaitos atskyrimo ir susijusių reikalavimų aprašo 9 priedas
C3: Ūkio subjektas: UAB „Biržų vandenys“
C4: Ataskaitinis laikotarpis: 2021-01-01 - 2021-12-31
C6: Ataskaitinio laikotarpio technologiniai rodikliai
B8: Eil. Nr. | C8: TECHNOLOGINIAI RODIKLIAI | D8: Matavimo vienetai | E8: Ataskaitinis laikotarpis
C9: A. ŪKIO PROJEKTINIS PAJĖGUMAS
B10: A.1. | C10: Vandens išgavimo | D10: tūkst.m3/metus | E10: 3500
B11: A.2. | C11: Vandens ruošimo įrenginių | D11: tūkst.m3/metus | E11: 1496
B12: A.3. | C12: Vandens pakėlimo stočių | D12: tūkst.m3/metus | E12: 1095
B13: A.4. | C13: Nuotekų siurblinių | D13: tūkst.m3/metus | E13: 32412
B14: A.5. | C14: Paviršinių nuotekų siurblinių | D14: tūkst.m3/metus | E14: 0
B15: A.6. | C15: Nuotekų valyklų | D15: tūkst.m3/metus | E15: 1816
B16: A.6.1. | C16: Vidutinis pajėgumas BDS7 | D16: mgO2/l | E16: 365
B17: A.6.2. | C17: Vidutinis pajėgumas SM | D17: mg/l | E17: 260
B18: A.6.3. | C18: Vidutinis pajėgumas bendrojo azoto | D18: mg/l | E18: 40
B19: A.6.4. | C19: Vidutinis pajėgumas bendrojo fosforo | D19: mg/l | E19: 10
B20: A.7. | C20: Paviršinių nuotekų valyklų | D20: tūkst.m3/metus | E20: 0
B21: A.7.1. | C21: Vidutinis pajėgumas BDS7 | D21: mgO2/l | E21: 0
B22: A.7.2. | C22: Vidutinis pajėgumas SM | D22: mg/l | E22: 0
B23: A.7.3. | C23: Vidutinis pajėgumas naftos produktų | D23: mg/l | E23: 0
B24: A.8. | C24: Nuotekų dumblo apdorojimo įrenginių | D24: tonos/metus | E24: 2600
B25: A.8.1. | C25: nuotekų dumblo tankinimo įrenginių | D25: tonos/metus | E25: 0
B26: A.8.2. | C26: nuotekų dumblo sausinimo įrenginių | D26: tonos/metus | E26: 3500
B27: A.8.3. | C27: nuotekų dumblo pūdymo įrenginių | D27: tonos/metus | E27: 0
B28: A.8.4. | C28: nuotekų dumblo džiovinimo įrenginių | D28: tonos/metus | E28: 0
B29: A.8.5. | C29: nuotekų dumblo kompostavimo įrenginių | D29: tonos/metus | E29: 8000
C30: B. GERIAMOJO VANDENS GAVYBA
B31: B.1. | C31: Vandenviečių skaičius | D31: vnt. | E31: 19
B32: B.2. | C32: Gręžiniuose instaliuotų siurblių skaičius | D32: vnt. | E32: 24
B33: B.3. | C33: Vidutinis svertinis vandens pakėlimo aukštis gavyboje (įvertinant slėgį) | D33: mH2O* | E33: 55
C34: C. GERIAMOJO VANDENS RUOŠIMAS
B35: C.1. | C35: Vandens aeravimo įrenginių skaičius | D35: vnt. | E35: 0
B36: C.1.1. | C36: iš to skaičiaus: vandens aeravimas su priverstine aeracija | D36: vnt. | E36: 0
B37: C.1.2. | C37: Metinis paruošto vandens kiekis | D37: tūkst. m3 | E37: 382.059
B38: C.1.2.1. | C38: iš to skaičiaus: Uždarose slėginėse nugeležinimo sistemose be membraninių osmoso filtrų aeruotas vandens kiekis | D38: tūkst. m3 | E38: 0
B39: C.1.2.2. | C39: Beslėgėse ir kitose sistemose aeruotas vandens kiekis | D39: tūkst. m3 | E39: 0
B40: C.1.2.3. | C40: Uždarose slėginėse nugeležinimo sistemose su membraniniais osmoso filtrais nugeležintas vandens kiekis | D40: tūkst. m3 | E40: 0
B41: C.1.2.4. | C41: Kitais būdais paruošto vandens kiekis | D41: tūkst. m3 | E41: 382.059
B42: C.2. | C42: Patiektas vandens kiekis atitinkantis higienos normų reikalavimus | D42: tūkst. m3 | E42: 382.059
B43: C.3. | C43: Dezinfekuoto vandens kiekis | D43: tūkst. m3 | E43: 0
B44: C.3.1. | C44: Dezinfekavimo įrenginių kiekis | D44: vnt. | E44: 0
B45: C.3.1.1. | C45: iš to skaičiaus: natrio hipochloritu | D45: vnt. | E45: 0
B46: C.3.1.1.1. | C46: dezinfekuoto natrio hipochloritu vandens kiekis | D46: tūkst. m3 | E46: 0
... B55: C.10. | C55: Vidutinis svertinis vandens pakėlimo aukštis ruošime (įvertinant slėgį) | D55: mH2O | E55: 55
C56: D. GERIAMOJO VANDENS PRISTATYMAS
B57: D.1. | C57: Vandentiekių skaičius | D57: vnt. | E57: 19
B58: D.2. | C58: Vandens pakėlimo stočių skaičius | D58: vnt. | E58: 24
B59: D.3. | C59: Vandens pakėlimo stotyse instaliuotų siurblių skaičius | D59: vnt. | E59: 24
B60: D.4. | C60: Vidutinis svertinis vandens pakėlimo aukštis paskirstyme (įvertinant slėgį) | D60: mH2O | E60: 55
B61: D.5. | C61: Požeminio vandens tinklų ilgis | D61: km | E61: =SUM(E62:E63) -> 80
B62: D.5.1. | C62: magistralinių vandentiekio tinklų ilgis | D62: km | E62: 30
B63: D.5.2. | C63: kitų vandentiekio tinklų ilgis | D63: km | E63: 50
B64: D.6. | C64: Vandentiekio prijungimų (įvadų) skaičius | D64: vnt. | E64: 6609
B65: D.7. | C65: Daugiabučių namų skaičius | D65: vnt. | E65: 152
B66: D.8. | C66: Vandens ėmimo kolonėlių skaičius | D66: vnt. | E66: 0
B67: D.9. | C67: Hidrantų skaičius | D67: vnt. | E67: 203
B68: D.10. | C68: Įvadinių (kartu su poįvadiniais) apskaitos prietaisų skaičius | D68: vnt. | E68: =SUM(E69:E71) -> 6753
B69: D.10.1. | C69: iš šio skaičiaus: individualiuose namuose | D69: vnt. | E69: 2392
B70: D.10.2 | C70: daugiabučiuose namuose | D70: vnt. | E70: 4084
B71: D.10.3 | C71: abonentų skaitikliai | D71: vnt. | E71: 277
B72: D.11. | C72: Skaitiklių butuose skaičius | D72: vnt. | E72: 4084
B73: D.12. | C73: Vandentiekyje likviduotų avarijų skaičius | D73: vnt. | E73: 70
C74: E. NUOTEKŲ SURINKIMAS
B75: E.1. | C75: Kanalizacijos sistemų skaičius | D75: vnt. | E75: 19
B76: E.2. | C76: Nuotekų perpumpavimo stočių skaičius | D76: vnt. | E76: 47
B77: E.3. | C77: Perpumpavimo stotyse instaliuotų siurblių skaičius | D77: vnt. | E77: 80
B78: E.4. | C78: Vidutinis svertinis nuotekų pakėlimo aukštis surinkime (įvertinant slėgį) | D78: mH2O | E78: 18
B79: E.5. | C79: Nuotekų tinklų ilgis | D79: km | E79: 113
B80: E.5.1. | C80: iš šio skaičiaus: spaudiminių tinklų | D80: km | E80: 17
B81: E.6. | C81: Kanalizacijos išvadų skaičius | D81: vnt. | E81: 19
B82: E.7. | C82: Kanalizavimo paslaugų vartotojų ir abonentų skaičius | D82: vnt. | E82: =SUM(E83:E85) -> 6853
B83: E.7.1. | C83: iš šio skaičiaus: butų skaičius | D83: vnt. | E83: 3242
B84: E.7.2. | C84: individualių namų skaičius | D84: vnt. | E84: 3374
B85: E.7.3. | C85: abonentų skaičius | D85: vnt. | E85: 237
B86: E.8. | C86: Kanalizacijoje likviduotų avarijų skaičius | D86: vnt. | E86: 30
C87: F. PAVIRŠINIŲ NUOTEKŲ SURINKIMAS**
B88: F.1. | C88: Paviršinių nuotekų sistemų skaičius | D88: vnt. | E88: 0
B89: F.2. | C89: Paviršinių nuotekų perpumpavimo stočių skaičius | D89: vnt. | E89: 0
B90: F.3. | C90: Paviršinių nuotekų perpumpavimo stotyse instaliuotų siurblių skaičius | D90: vnt. | E90: 0
B91: F.4. | C91: Vidutinis svertinis paviršinių nuotekų pakėlimo aukštis surinkime (įvertinant slėgį) | D91: mH2O | E91: 0
B92: F.5. | C92: Paviršinių nuotekų tinklų ilgis | D92: km | E92: 0
B93: F.5.1. | C93: iš šio skaičiaus: spaudiminių tinklų | D93: km | E93: 0
B94: F.6. | C94: Paviršinių nuotekų išleistuvų skaičius | D94: vnt. | E94: 0
B95: F.7. | C95: Paviršinių nuotekų tvarkymo paslaugų abonentų skaičius | D95: vnt. | E95: 0
B96: F.8. | C96: paviršinių nuotekų tinkluose likviduotų avarijų skaičius | D96: vnt. | E96: 0
C97: G. BUITINIŲ IR GAMYBINIŲ NUOTEKŲ VALYMAS
B98: G.1. | C98: Filtracijos laukų skaičius | D98: vnt. | E98: 0
B99: G.2. | C99: Filtracijos laukų plotas | D99: ha | E99: 0
B100: G.3. | C100: Metinis filtravimo laukuose išvalytų nuotekų kiekis | D100: tūkst. m3 | E100: 0
B101: G.4. | C101: Mechaninio valymo įrenginių skaičius | D101: vnt. | E101: 0
B102: G.5. | C102: Metinis mechaninio valymo įrenginiuose išvalytų nuotekų kiekis | D102: tūkst. m3 | E102: 0
B103: G.6. | C103: Biologinio su mechaninio valymo įrenginių skaičius | D103: vnt. | E103: 19
B104: G.7. | C104: Metinis biologinio su mech. valymo įrenginiuose išvalytų nuotekų kiekis | D104: tūkst. m3 | E104: 170.2
B105: G.8. | C105: Denitrifikacijos su biologinio ir mechaninio valymo įrenginių skaičius | D105: vnt. | E105: 1
B106: G.9. | C106: Metinis denitrifikacijos su biolog.ir mech. įrenginiuose išvalytų nuotekų kiekis | D106: tūkst. m3 | E106: 943.6
B107: G.10. | C107: Nuotekų valyklose esančių orapūčių kiekis | D107: vnt. | E107: 17
B108: G.11. | C108: Nuotekų valyklose esančių siurblių skaičius | D108: vnt. | E108: 12
B109: G.12. | C109: Kitų darbo mašinų ir įrengimų skaičius | D109: vnt. | E109: 0
B110: G.13. | C110: Atitekančių nuotekų taršos koncentracija
B111: G.13.1. | C111: pagal: biocheminis deguonies suvartojimas (BDS7) | D111: mg/l | E111: 567
...

Sheet 10
G2: Geriamojo vandens tiekimo ir nuotekų tvarkymo bei paviršinių nuotekų tvarkymo paslaugų įmonių apskaitos atskyrimo ir susijusių reikalavimų aprašo 10 priedas
C3: Ūkio subjektas: UAB „Biržų vandenys“
C4: Ataskaitinis laikotarpis: 2021-01-01 - 2021-12-31
C6: Ataskaitinio laikotarpio personalo duomenų ataskaita
B8: Eil. Nr. | C8: RODIKLIS | D8: Matavimo vienetai | E8: Ataskaitinis laikotarpis | G8: Pastabos
E9: Vidutinis sąlyginis darbuotojų skaičius | F9: Vidutinis sąrašinis darbuotojų skaičius
B10: A | C10: DARBUOTOJŲ SKAIČIUS ĮMONĖJE IŠ VISO | D10: žm. | E10: =E11+E25 -> 34.916667 | F10: =F11+F25 -> 34.958333
B11: B | C11: DARBUOTOJŲ SKAIČIUS REGULIUOJAMOJE VEIKLOJE | D11: žm. | E11: =E13+E17+E21+E22+E23+E24 -> 34.613641 | F11: =F13+F17+F21+F22+F23+F24 -> 34.655308
B12: B.1 | C12: Tiesiogiai priskirtų reguliuojamai veiklai darbuotojų skaičius | D12: žm. | E12: =E13+E17+E22+E21 -> 17.8 | F12: =F13+F17+F22+F21 -> 17.8
B13: B.1.1. | C13: Geriamojo vandens tiekimo (GVT) veikloje | D13: žm. | E13: =SUM(E14:E16) -> 5 | F13: =SUM(F14:F16) -> 5
B14: B.1.1.1. | C14: iš šio skaičiaus: vandens gavyboje | D14: žm. | E14: 2 | F14: 2
B15: B.1.1.2. | C15: vandens ruošime | D15: žm. | E15: 0 | F15: 0
B16: B.1.1.3. | C16: vandens pristatyme | D16: žm. | E16: 3 | F16: 3
B17: B.1.2. | C17: Nuotekų tvarkymo (NT) veikloje | D17: žm. | E17: =SUM(E18:E20) -> 10.8 | F17: =SUM(F18:F20) -> 10.8
B18: B.1.2.1. | C18: iš šio skaičiaus: nuotekų surinkime | D18: žm. | E18: 4.8 | F18: 4.8
B19: B.1.2.2. | C19: nuotekų valyme | D19: žm. | E19: 4 | F19: 4
B20: B.1.2.3. | C20: nuotekų dumblo tvarkyme | D20: žm. | E20: 2 | F20: 2
B21: B.1.3. | C21: Paviršinių nuotekų tvarkymo veikloje* | D21: žm. | E21: 0 | F21: 0
B22: B.1.4. | C22: Apskaitos veikloje | D22: žm. | E22: 2 | F22: =+E22 -> 2
B23: B.2 | C23: Netiesiogiai priskiriamų reguliuojamai veiklai darbuotojų skaičius | D23: žm. | E23: 8.0833333 | F23: 8.125
B24: B.3. | C24: Reguliuojamai veiklai bendrai priskiriamų administracijos darbuotojų skaičius | D24: žm. | E24: 8.7303075 | F24: 8.7303075
B25: C | C25: DARBUOTOJŲ SKAIČIUS KITOSE VEIKLOSE | D25: žm. | E25: 0.30302579 | F25: 0.30302579
B26: D | C26: SANTYKINIAI RODIKLIAI
B27: D.1 | C27: GVT veiklai tiesiogiai priskirtų darbuotojų vidutinis darbo užmokestis | D27: Eur/mėn. | E27: =IFERROR(E28/E13/12*1000, 0) -> 1149.026
B28: D.1.1. | C28: GVT veiklai tiesiogiai priskirtų darbuotojų darbo užmokesčio sąnaudos | D28: tūkst. Eur | E28: ='4'!$E$51 -> 68.94156 | G28: 4 priedas
B29: D.2. | C29: NT veiklai tiesiogiai priskirtų darbuotojų vidutinis darbo užmokestis | D29: Eur/mėn. | E29: =IFERROR(E30/E17/12*1000, 0) -> 738.92066
B30: D.2.1. | C30: NT veiklai tiesiogiai priskirtų darbuotojų darbo užmokesčio sąnaudos | D30: tūkst. Eur | E30: ='4'!$I$51 -> 95.764118 | G30: 4 priedas
B31: D.3. | C31: Paviršinių nuotekų tvarkymo veiklai priskirtų darbuotojų vidutinis darbo užmokestis* | D31: Eur/mėn. | E31: =IFERROR(E32/E21/12*1000, 0) -> 0
B32: D.3.1. | C32: Paviršinių nuotekų tvarkymui tiesiogiai priskirtų darbuotojų vidutinis darbo užmokestis | D32: tūkst. Eur | E32: ='4'!$M$51 -> 0 | G32: 4 priedas
B33: D.4. | C33: Apskaitos veiklai tiesiogiai priskirtų darbuotojų vidutinis darbo užmokestis | D33: Eur/mėn. | E33: =IFERROR(E34/E22/12*1000, 0) -> 1024.3292
B34: D.4.1. | C34: Apskaitos veiklai tiesiogiai priskirtų darbuotojų darbo užmokesčio sąnaudos | D34: tūkst. Eur | E34: ='4'!$O$51 -> 24.5839 | G34: 4 priedas
B35: D.5. | C35: Netiesiogiai priskiriamų reguliuojamai veiklai darbuotojų vidutinis darbo užmokestis | D35: Eur/mėn. | E35: =IFERROR(E36/E23/12*1000, 0) -> 1102.1622
