Workbook
Name DK: [3]_lists!$C$261:$C$267
Name II.7.Nebaigta_statyba: '[5]1.vardai'!$G$105
Name IT_grupe: [3]_lists!$C$6:$G$6
Name m: #REF!
Name m: #REF!
Name Nesikliai: [9]_lists!#REF!
Name Nesikliai: [9]_lists!#REF!
Name Padaliniai: [9]_lists!#REF!
Name Padaliniai: [9]_lists!#REF!
Name padaliniai_tipai: [3]_lists!$C$253:$C$255
Name Paskirstymas: [3]_lists!$D$616:$D$618
Name Paslaugos: [10]lists!$C$4:$C$9
Name Priskyrimas_turtas: [11]_!$H$17:$H$45
Name RASgr: [10]lists!$C$161:$C$175
Name RASnr: [10]lists!$B$41:$B$155
Name Sąnaudos: '[5]1.vardai'!$C$479:$C$494
Name Sistemos: [13]Pradžia!$U$10:$U$19
Name Sistemos2: [13]Pradžia!$U$9:$U$19
Name skaicius: [3]_lists!$C$299:$C$303
Name taipne: [9]_lists!$C$65:$C$66
Name TS: [3]_lists!$E$616:$E$628
Name tuscia: [13]_lists!$C$223
Name VAS003_F_BendrujuadministraciniuVeiklosVIIKitosVeiklos: #REF!
Name VAS003_F_BendrujuadministraciniuVeiklosVIIKitosVeiklos: #REF!
Name VAS003_F_BendrujuadministraciniuVeiklosVIKitosReguliuojamos: #REF!
Name VAS003_F_BendrujuadministraciniuVeiklosVIKitosReguliuojamos: #REF!
Name VAS003_F_BendrujuadministraciniuVeiklosVISOSVANDENTVARKOSSANAUDOS: #REF!
Name VAS003_F_BendrujuadministraciniuVeiklosVISOSVANDENTVARKOSSANAUDOS: #REF!
Name VAS003_F_NetiesioginiuVeiklosSanauduVIIKitosVeiklos: #REF!
Name VAS003_F_NetiesioginiuVeiklosSanauduVIIKitosVeiklos: #REF!
Name VAS003_F_NetiesioginiuVeiklosSanauduVIKitosReguliuojamos: #REF!
Name VAS003_F_NetiesioginiuVeiklosSanauduVIKitosReguliuojamos: #REF!
Name VAS003_F_NetiesioginiuVeiklosSanauduVISOSVANDENTVARKOSSANAUDOS: #REF!
Name VAS003_F_NetiesioginiuVeiklosSanauduVISOSVANDENTVARKOSSANAUDOS: #REF!
Name VAS003_F_PajamosIsReguliuojamojeVIIKitosVeiklos: #REF!
Name VAS003_F_PajamosIsReguliuojamojeVIIKitosVeiklos: #REF!
Name VAS003_F_PajamosIsReguliuojamojeVIKitosReguliuojamos: #REF!
Name VAS003_F_PajamosIsReguliuojamojeVIKitosReguliuojamos: #REF!
Name VAS003_F_PajamosIsReguliuojamojeVISOSVANDENTVARKOSSANAUDOS: #REF!
Name VAS003_F_PajamosIsReguliuojamojeVISOSVANDENTVARKOSSANAUDOS: #REF!
Name VAS003_F_UkioSubjektoTiesioginesIApskaitosVeikla: #REF!
Name VAS003_F_UkioSubjektoTiesioginesIApskaitosVeikla: #REF!
Name VAS003_F_UkioSubjektoTiesioginesIII1surinkimas: #REF!
Name VAS003_F_UkioSubjektoTiesioginesIII1surinkimas: #REF!
Name VAS003_F_UkioSubjektoTiesioginesIII2valymas: #REF!
Name VAS003_F_UkioSubjektoTiesioginesIII2valymas: #REF!
Name VAS003_F_UkioSubjektoTiesioginesIII3nuotekuDumblo: #REF!
Name VAS003_F_UkioSubjektoTiesioginesIII3nuotekuDumblo: #REF!
Name VAS003_F_UkioSubjektoTiesioginesIII4PavirsiniuNuoteku: #REF!
Name VAS003_F_UkioSubjektoTiesioginesIII4PavirsiniuNuoteku: #REF!
Name VAS003_F_UkioSubjektoTiesioginesIII5NuotekuTransportavimas: #REF!
Name VAS003_F_UkioSubjektoTiesioginesIII5NuotekuTransportavimas: #REF!
Name VAS003_F_UkioSubjektoTiesioginesVIIKitosVeiklos: #REF!
Name VAS003_F_UkioSubjektoTiesioginesVIIKitosVeiklos: #REF!
Name VAS003_F_UkioSubjektoTiesioginesVIKitosReguliuojamos: #REF!
Name VAS003_F_UkioSubjektoTiesioginesVIKitosReguliuojamos: #REF!
Name VAS003_F_VersloVienetuIrPaslauguPajamosIApskaitosVeikla: #REF!
Name VAS003_F_VersloVienetuIrPaslauguPajamosIApskaitosVeikla: #REF!
Name VAS003_F_VersloVienetuIrPaslauguPajamosII3pristatymas: #REF!
Name VAS003_F_VersloVienetuIrPaslauguPajamosII3pristatymas: #REF!

Sheet 1
E2: Geriamojo vandens tiekimo ir nuotekų tvarkymo bei paviršinių nuotekų tvarkymo paslaugų įmonių apskaitos atskyrimo ir susijusių reikalavimų aprašo 1 priedas
D3: Ilgalaikio turto grupių ir nusidėvėjimo (amortizacijos) skaičiavimo laikotarpių sąrašas
C5: Eil. Nr. | D5: Ilgalaikio turto grupės | E5: Laikotarpis, metais
C6: I. | D6: NEMATERIALUSIS TURTAS
C7: I.1. | D7: standartinė programinė įranga | E7: 4
C8: I.1. | D8: spec. programinė įranga | E8: 4-15
C9: I.1. | D9: kitas nematerialus turtas | E9: 4-15
C10: II.2. | D10: PASTATAI IR STATINIAI
C11: II.2.1. | D11: Pastatai (administraciniai, gamybiniai-ūkiniai ir pan.) | E11: 50-70
C12: II.2.2. | D12: keliai, aikštelės, šaligatviai ir tvoros | E12: 27-30
C13: II.2.3. | D13: vamzdynai | E13: 50
C14: II.2.4. | D14: Kiti įrenginiai (siurblinių statiniai, vandentiekio įrenginiai, nusodintuvai, diukeriai, vandens rezervuarai, gelžbetoniniai metantankai, smėlio gaudytuvai, aerotankai, nusodintuvai, nuotekų valymo flotatoriai, dumblo aikštelės ir kt.) | E14: 35
C15: II.3. | D15: MAŠINOS IR ĮRANGA
C16: II.3.1. | D16: vandens siurbliai, nuotekų ir dumblo siurbliai virš 5 kW, kita įranga ( siurblių valdymo įranga, elektrotechninė įranga, stacionarios ir mobilios darbo bei hidrodinaminės mašinos, staklės, sklendės, grotelės, grėbliai, grandikliai, filtrai, centrifugos) | E16: 10
C17: II.3.2. | D17: nuotekų ir dumblo siurbliai iki 5 kW | E17: 5
C18: II.4. | D18: KITI ĮRENGINIAI, PRIETAISAI IR ĮRANKIAI
C19: II.4.1. | D19: apskaitos prietaisai | E19: 6
C20: II.4.2. | D20: įrankiai (matavimo priemonės, elektriniai įrankiai ir prietaisai, gamybinis inventorius ir kt.) | E20: 6
C21: II.5. | D21: TRANSPORTO PRIEMONĖS
C22: II.5.1. | D22: lengvieji automobiliai | E22: 7
C23: II.5.2. | D23: kitos transporto priemonės (transportas dumblui, vandeniui vežti, autobusai žmonėms vežti) | E23: 10

Sheet 2
D2: Geriamojo vandens tiekimo ir nuotekų tvarkymo bei paviršinių nuotekų tvarkymo paslaugų įmonių apskaitos atskyrimo ir susijusių reikalavimų aprašo 2 priedas
C3: Ūkio subjektas: UAB „Biržų vandenys“
C4: Ataskaitinis laikotarpis: 2021-01-01 - 2021-12-31
C6: Ataskaitinio laikotarpio Ūkio subjekto suvestinė balanso ataskaita pagal finansinės apskaitos standartus (tūkst. Eur)
B8: Eil. Nr. pagal | C8: Straipsniai | D8: Ataskaitinis laikotarpis
C9: TURTAS
B10: A. | C10: ILGALAIKIS TURTAS | D10: 8999.707
B11: B. | C11: TRUMPALAIKIS TURTAS | D11: 1421.607
B12: B.1. | C12: PER VIENUS METUS GAUTINOS SUMOS | D12: 178.664
B13: B.1.1. | C13: Pirkėjų skolos | D13: 123.03
B14: C. | C14: ATEINANČIŲ LAIKOTARPIŲ SĄNAUDOS IR SUKAUPTOS PAJAMOS | D14: 0.845
C15: TURTO IŠ VISO | D15: =SUM(D10:D11,D14) -> 10422.159
C16: NUOSAVAS KAPITALAS IR ĮSIPAREIGOJIMAI
B17: D. | C17: NUOSAVAS KAPITALAS | D17: =SUM(D18,D20,D21,D22,D23) -> 5530.611
B18: D.1. | C18: KAPITALAS | D18: 5808.71
B19: D.1.1. | C19: Įstatinis (pasirašytasis) arba pagrindinis kapitalas | D19: 5808.71
B20: D.2. | C20: AKCIJŲ PRIEDAI | D20: 0.591
B21: D.3. | C21: PERKAINOJIMO REZERVAS | D21: 0
B22: D.4. | C22: REZERVAI | D22: 0
B23: D.5. | C23: NEPASKIRSTYTASIS PELNAS (NUOSTOLIAI) | D23: -278.69
B24: E. | C24: DOTACIJOS, SUBSIDIJOS | D24: 3671.581
B25: F. | C25: ATIDĖJINIAI | D25: 0
B26: G. | C26: MOKĖTINOS SUMOS IR KITI ĮSIPAREIGOJIMAI | D26: =D27+D28 -> 1219.967
B27: G.1. | C27: PO VIENŲ METŲ MOKĖTINOS SUMOS IR KITI ILGALAIKIAI ĮSIPAREIGOJIMAI | D27: 699.553
B28: G.2. | C28: PER VIENUS METUS MOKĖTINOS SUMOS IR KITI TRUMPALAIKIAI ĮSIPAREIGOJIMAI | D28: 520.414
B29: H. | C29: SUKAUPTOS SĄNAUDOS IR ATEINANČIŲ LAIKOTARPIŲ PAJAMOS | D29: 0
C30: NUOSAVO KAPITALO IR ĮSIPAREIGOJIMŲ IŠ VISO | D30: =SUM(D17,D24,D25,D26,D29) -> 10422.159

Sheet 3
E2: Geriamojo vandens tiekimo ir nuotekų tvarkymo bei paviršinių nuotekų tvarkymo paslaugų įmonių apskaitos atskyrimo ir susijusių reikalavimų aprašo 3 priedas
C3: Ūkio subjektas: UAB „Biržų vandenys“
C4: Ataskaitinis laikotarpis: 2021-01-01 - 2021-12-31
C6: Ataskaitinio laikotarpio reguliuojamosios veiklos pelno (nuostolių) ataskaita (tūkst. Eur)
B8: Eil. Nr. | C8: STRAIPSNIAI | D8: Ataskaitinis laikotarpis | E8: Paaiškinimai
B9: I. | C9: PAJAMOS
B10: A. | C10: GERIAMOJO VANDENS TIEKIMO IR NUOTEKŲ TVARKYMO (GVTNT) PAJAMOS: | D10: =D11+D14+D26 -> 883.09205 | F10: TRUE
B11: A.1. | C11: geriamojo vandens tiekimo (GVT) pajamos | D11: =SUM(D12:D13) -> 291.40312 | F11: TRUE
B12: A.1.1. | C12: geriamojo vandens tiekimo pajamos | D12: 286.16477 | F12: TRUE
B13: A.1.2. | C13: GVTNT ilgalaikio turto nuomos pajamos | D13: 5.2383544 | F13: TRUE
B14: A.2. | C14: nuotekų tvarkymo (NT) veiklos pajamos | D14: =D15+D18+D22 -> 591.68893 | F14: TRUE
B15: A.2.1. | C15: nuotekų surinkimas centralizuotais nuotekų surinkimo tinklais pajamos | D15: =IFERROR(SUM(D16:D17)+D27*(D42/D41), 0) -> 204.21614 | F15: TRUE
B16: A.2.1.1. | C16: pajamos už buitinių ir gamybinių nuotekų surinkimą | D16: 202.74317 | F16: TRUE
B17: A.2.1.2. | C17: GVTNT ilgalaikio turto nuomos pajamos | D17: 1.4729645 | F17: TRUE | L17: `
B18: A.2.2. | C18: nuotekų valymo pajamos | D18: =IFERROR(SUM(D19:D21)+D27*(D43/D41), 0) -> 358.71893 | F18: TRUE
B19: A.2.2.1. | C19: pajamos už buitinių ir gamybinių nuotekų valymą (be padidėjusios taršos) | D19: 358.70717 | F19: TRUE
B20: A.2.2.2. | C20: pajamos už padidėjusią ir savitąją taršą | D20: 0 | F20: TRUE
B21: A.2.2.3. | C21: GVTNT ilgalaikio turto nuomos pajamos | D21: 0.011756181 | F21: TRUE
B22: A.2.3. | C22: nuotekų dumblo tvarkymo pajamos | D22: =IFERROR(SUM(D23:D25)+D27*(D44/D41), 0) -> 28.753863 | F22: TRUE
B23: A.2.3.1. | C23: pajamos už dumblo tvarkymą (be kitų bendrovių atvežto nuotekų dumblo) | D23: 28.598415 | F23: TRUE
B24: A.2.3.2. | C24: pajamos už kitų bendrovių atvežtą tvarkyti nuotekų dumblą | D24: 0 | F24: TRUE
B25: A.2.3.3. | C25: GVTNT ilgalaikio turto nuomos pajamos | D25: 0.15544872 | F25: TRUE
B26: A.3. | C26: paviršinių nuotekų tvarkymo pajamos | D26: =SUM(D28+D29) -> 0 | F26: TRUE
B27: A.3.1. | C27: pajamos už paviršinių nuotekų tvarkymą, jei yra mišri nuotekų surinkimo sistema | D27: 0 | F27: TRUE
B28: A.3.2. | C28: pajamos už paviršinių nuotekų tvarkymą, jei yra atskira paviršinių nuotekų surinkimo sistema | D28: 0 | F28: TRUE
B29: A.3.3. | C29: GVTNT ilgalaikio turto nuomos pajamos | D29: 0 | F29: TRUE
B30: B. | C30: KITŲ VEIKLŲ PAJAMOS | D30: =D31+D35 -> 137.08382 | F30: TRUE
B31: B.1. | C31: kitos reguliuojamosios veiklos pajamos | D31: =SUM(D32:D34) -> 71.569636 | F31: TRUE
B32: B.1.1. | C32: apskaitos veiklos pajamos | D32: 71.56963 | F32: TRUE
B33: B.1.2. | C33: kitos reguliuojamos veiklos pajamos | D33: 0 | F33: TRUE
B34: B.1.3. | C34: GVTNT ilgalaikio turto nuomos pajamos | D34: 6.1131287e-06 | F34: TRUE
B35: B.2. | C35: nereguliuojamosios veiklos pajamos | D35: =SUM(D36:D37) -> 65.514185 | F35: TRUE
B36: B.2.1. | C36: nereguliuojamos veiklos pajamos (įskaitant finansinę veiklą) | D36: 58.635655 | F36: TRUE
B37: B.2.2. | C37: GVTNT ilgalaikio turto nuomos pajamos | D37: =+D34+D29+D25+D21+D17+D13 -> 6.87853 | F37: TRUE
B38: II. | C38: PASKIRSTOMOSIOS SĄNAUDOS | D38: =D39+D46 -> 1206.4114 | E38: 4 priedas | F38: TRUE
B39: C. | C39: GERIAMOJO VANDENS TIEKIMO IR NUOTEKŲ TVARKYMO (GVTNT) SĄNAUDOS | D39: =D40+D41+D45 -> 1151.4524 | E39: 4 priedas | F39: TRUE
B40: C.1. | C40: geriamojo vandens tiekimo (GVT) sąnaudos | D40: ='4'!E21 -> 350.91877 | E40: 4 priedas | F40: TRUE
B41: C.2. | C41: nuotekų tvarkymo (NT) veiklos sąnaudos | D41: ='4'!I21 -> 800.53367 | E41: 4 priedas | F41: TRUE
B42: C.2.1. | C42: nuotekų surinkimas centralizuotais nuotekų surinkimo tinklais sąnaudos | D42: ='4'!$J$21 -> 347.17447 | E42: 4 priedas | F42: TRUE
B43: C.2.2. | C43: nuotekų valymo sąnaudos | D43: ='4'!$K$21 -> 363.07383 | E43: 4 priedas | F43: TRUE
...

Sheet 4
C2: Ūkio subjektas: UAB „Biržų vandenys“ | Q2: Geriamojo vandens tiekimo ir nuotekų tvarkymo bei paviršinių nuotekų tvarkymo paslaugų įmonių apskaitos atskyrimo ir susijusių reikalavimų aprašo 4 priedas
C3: Ataskaitinis laikotarpis: 2021-01-01 - 2021-12-31
C5: Ataskaitinio laikotarpio reguliuojamos veiklos sąnaudų paskirstymo verslo vienetams ir paslaugoms ataskaita (tūkst. Eur)
B7: Eil. Nr. | C7: SĄNAUDOS | D7: 1. IŠ VISO | E7: 2. Iš viso GVT | F7: 2.1. Geriamojo vandens gavyba | G7: 2.2. Geriamojo vandens ruošimas | H7: 2.3. Geriamojo vandens pristatymas | I7: 3. Iš viso NT | J7: 3.1. Nuotekų surinkimas | K7: 3.2. Nuotekų valymas | L7: 3.3. Nuotekų dumblo tvarkymas | M7: 4. Paviršinių nuotekų tvarkymas (tik esant atskirai paviršinių nuotekų tvarkymo sistemai) | N7: 5. Kitos reguliuojamosios veiklos verslo vienetas | O7: 5.1. Apskaitos veikla | P7: 5.2. Kita reguliuojama veikla | Q7: 6. Kitos veiklos (nereguliuojamosios veiklos) verslo vienetas
B8: A. | C8: PASKIRSTOMŲJŲ SĄNAUDŲ SUVESTINĖ
B9: A.1. | C9: Geriamojo vandens įsigijimo sąnaudos | D9: =D28 -> 0 | E9: =E28 -> 0 | F9: =F28 -> 0 | G9: =G28 -> 0 | H9: =H28 -> 0 | I9: =I28 -> 0 | J9: =J28 -> 0 | K9: =K28 -> 0 | ... M9: =M28 -> 0 | N9: =O9+P9 -> 0 | O9: =O28 -> 0 | P9: =P28 -> 0 | Q9: =Q28 -> 0 | S9: =D9ž -> #NAME? | T9: TRUE | U9: TRUE | V9: TRUE | W9: TRUE | X9: TRUE | Y9: TRUE | Z9: TRUE | AA9: TRUE | AB9: TRUE | AC9: TRUE | AD9: TRUE | AE9: TRUE | AF9: TRUE | AG9: TRUE
B10: A.2. | C10: Nuotekų tvarkymo paslaugų pirkimo sąnaudos | D10: =D29 -> 0 | E10: =E29 -> 0 | F10: =F29 -> 0 | G10: =G29 -> 0 | H10: =H29 -> 0 | I10: =I29 -> 0 | J10: =J29 -> 0 | K10: =K29 -> 0 | ... M10: =M29 -> 0 | N10: =O10+P10 -> 0 | O10: =O29 -> 0 | P10: =P29 -> 0 | Q10: =Q29 -> 0 | T10: TRUE | U10: TRUE | V10: TRUE | W10: TRUE | X10: TRUE | Y10: TRUE | Z10: TRUE | AA10: TRUE | AB10: TRUE | AC10: TRUE | AD10: TRUE | AE10: TRUE | AF10: TRUE | AG10: TRUE
B11: A.3. | C11: Elektros energijos sąnaudos, iš šio skaičiaus | D11: =D32+D89+D185 -> 131.10861 | E11: =E32+E89+E185 -> 34.045646 | F11: =F32+F89+F185 -> 18.775494 | G11: =G32+G89+G185 -> 3.1847864 | H11: =H32+H89+H185 -> 12.085366 | I11: =I32+I89+I185 -> 96.743706 | J11: =J32+J89+J185 -> 28.409228 | K11: =K32+K89+K185 -> 67.81001 | ... M11: =M32+M89+M185 -> 0 | N11: =O11+P11 -> 0.24891344 | O11: =O32+O89+O185 -> 0.24891344 | P11: =P32+P89+P185 -> 0 | Q11: =Q32+Q89+Q185 -> 0.070343676 | T11: 6.0312 | U11: 1.7336265 | V11: 0.32566431 | W11: 0.39197642 | X11: 1.0159858 | Y11: 3.9783164 | Z11: 1.8625284 | AA11: 1.5913197 | AB11: 0.52446825 | AC11: 0 | AD11: 0.24891344 | AE11: 0.24891344 | AF11: 0 | AG11: 0.070343676
B12: A.3.1. | C12: Elektros energija siurbliams, orapūtėms, maišyklėms ir kitiems technologiniams įrenginiams | D12: =D33+D90 -> 125.07741 | E12: =E33+E90 -> 32.31202 | F12: =F33+F90 -> 18.44983 | G12: =G33+G90 -> 2.79281 | H12: =H33+H90 -> 11.06938 | I12: =I33+I90 -> 92.76539 | J12: =J33+J90 -> 26.5467 | K12: =K33+K90 -> 66.21869 | ... M12: =M33+M90 -> 0 | N12: =O12+P12 -> 0 | O12: =O33+O90 -> 0 | P12: =P33+P90 -> 0 | Q12: =Q33+Q90 -> 0 | T12: TRUE | U12: TRUE | V12: TRUE | W12: TRUE | X12: TRUE | Y12: TRUE | Z12: TRUE | AA12: TRUE | AB12: TRUE | AC12: TRUE | AD12: TRUE | AE12: TRUE | AF12: TRUE | AG12: TRUE
B13: A.4. | C13: Technologinių medžiagų ir technologinio kuro sąnaudos | D13: =D35 -> 13.68 | E13: =E35 -> 0 | F13: =F35 -> 0 | G13: =G35 -> 0 | H13: =H35 -> 0 | I13: =I35 -> 13.68 | J13: =J35 -> 0 | K13: =K35 -> 13.68 | ... M13: =M35 -> 0 | N13: =O13+P13 -> 0 | O13: =O35 -> 0 | P13: =P35 -> 0 | Q13: =Q35 -> 0 | T13: TRUE | U13: TRUE | V13: TRUE | W13: TRUE | X13: TRUE | Y13: TRUE | Z13: TRUE | AA13: TRUE | AB13: TRUE | AC13: TRUE | AD13: TRUE | AE13: TRUE | AF13: TRUE | AG13: TRUE
B14: A.5. | C14: Einamojo remonto ir aptarnavimo sąnaudos, iš šio skaičius: | D14: =D43+D97+D192 -> 138.78355 | E14: =E43+E97+E192 -> 42.63532 | F14: =F43+F97+F192 -> 0.61707562 | G14: =G43+G97+G192 -> 19.529037 | H14: =H43+H97+H192 -> 22.489207 | I14: =I43+I97+I192 -> 95.454307 | J14: =J43+J97+J192 -> 49.874594 | K14: =K43+K97+K192 -> 23.88715 | ... M14: =M43+M97+M192 -> 0 | N14: =O14+P14 -> 0.67556582 | O14: =O43+O97+O192 -> 0.67556582 | P14: =P43+P97+P192 -> 0 | Q14: =Q43+Q97+Q192 -> 0.018356979 | T14: TRUE | U14: TRUE | V14: TRUE | W14: TRUE | X14: TRUE | Y14: TRUE | Z14: TRUE | AA14: TRUE | AB14: TRUE | AC14: TRUE | AD14: TRUE | AE14: TRUE | AF14: TRUE | AG14: TRUE
B15: A.5.1. | C15: Remonto medžiagų ir detalių sąnaudos | D15: =D44+D98+D193 -> 63.39887 | E15: =E44+E98+E193 -> 17.651558 | F15: =F44+F98+F193 -> 0.58354627 | G15: =G44+G98+G193 -> 1.2257633 | H15: =H44+H98+H193 -> 15.842249 | I15: =I44+I98+I193 -> 45.053673 | J15: =J44+J98+J193 -> 19.042507 | K15: =K44+K98+K193 -> 7.0956042 | ... M15: =M44+M98+M193 -> 0 | N15: =O15+P15 -> 0.6752822 | O15: =O44+O98+O193 -> 0.6752822 | P15: =P44+P98+P193 -> 0 | Q15: =Q44+Q98+Q193 -> 0.018356979 | T15: TRUE | U15: TRUE | V15: TRUE | W15: TRUE | X15: TRUE | Y15: TRUE | Z15: TRUE | AA15: TRUE | AB15: TRUE | AC15: TRUE | AD15: TRUE | AE15: TRUE | AF15: TRUE | AG15: TRUE
B16: A.5.2. | C16: Avarijų šalinimo sąnaudos | D16: =D47+D101+D196 -> 4.366 | E16: =E47+E101+E196 -> 4.366 | F16: =F47+F101+F196 -> 0 | G16: =G47+G101+G196 -> 0 | H16: =H47+H101+H196 -> 4.366 | I16: =I47+I101+I196 -> 0 | J16: =J47+J101+J196 -> 0 | K16: =K47+K101+K196 -> 0 | ... M16: =M47+M101+M196 -> 0 | N16: =O16+P16 -> 0 | O16: =O47+O101+O196 -> 0 | P16: =P47+P101+P196 -> 0 | Q16: =Q47+Q101+Q196 -> 0 | T16: TRUE | U16: TRUE | V16: TRUE | W16: TRUE | X16: TRUE | Y16: TRUE | Z16: TRUE | AA16: TRUE | AB16: TRUE | AC16: TRUE | AD16: TRUE | AE16: TRUE | AF16: TRUE | AG16: TRUE
B17: A.5.3. | C17: Remonto ir aptarnavimo paslaugų pirkimo sąnaudos | D17: =D45+D99+D194 -> 54.50156 | E17: =E45+E99+E194 -> 18.225886 | F17: =F45+F99+F194 -> 0.0029403036 | G17: =G45+G99+G194 -> 18.164545 | H17: =H45+H99+H194 -> 0.05840021 | I17: =I45+I99+I194 -> 36.27565 | J17: =J45+J99+J194 -> 18.72237 | K17: =K45+K99+K194 -> 15.60047 | ... M17: =M45+M99+M194 -> 0 | N17: =O17+P17 -> 2.4871409e-05 | O17: =O45+O99+O194 -> 2.4871409e-05 | P17: =P45+P99+P194 -> 0 | Q17: =Q45+Q99+Q194 -> 0 | T17: TRUE | U17: TRUE | V17: TRUE | W17: TRUE | X17: TRUE | Y17: TRUE | Z17: TRUE | AA17: TRUE | AB17: TRUE | AC17: TRUE | AD17: TRUE | AE17: TRUE | AF17: TRUE | AG17: TRUE
B18: A.6. | C18: Personalo sąnaudos, iš šio skaičius: | D18: =D50+D104+D199 -> 457.82039 | E18: =E50+E104+E199 -> 141.35864 | F18: =F50+F104+F199 -> 42.594556 | G18: =G50+G104+G199 -> 14.771422 | H18: =H50+H104+H199 -> 83.992665 | I18: =I50+I104+I199 -> 278.05275 | J18: =J50+J104+J199 -> 130.32196 | K18: =K50+K104+K199 -> 102.77228 | ... M18: =M50+M104+M199 -> 0 | N18: =O18+P18 -> 31.243819 | O18: =O50+O104+O199 -> 31.243819 | P18: =P50+P104+P199 -> 0 | Q18: =Q50+Q104+Q199 -> 7.1651805 | T18: TRUE | U18: TRUE | V18: TRUE | W18: TRUE | X18: TRUE | Y18: TRUE | Z18: TRUE | AA18: TRUE | AB18: TRUE | AC18: TRUE | AD18: TRUE | AE18: TRUE | AF18: TRUE | AG18: TRUE
B19: A.6.1. | C19: Darbo užmokesčio sąnaudos | D19: =D51+D105+D200 -> 447.13664 | E19: =E51+E105+E200 -> 138.12946 | F19: =F51+F105+F200 -> 41.722613 | G19: =G51+G105+G200 -> 14.344558 | H19: =H51+H105+H200 -> 82.062289 | I19: =I51+I105+I200 -> 271.39116 | J19: =J51+J105+J200 -> 127.15285 | K19: =K51+K105+K200 -> 100.30265 | ... M19: =M51+M105+M200 -> 0 | N19: =O19+P19 -> 30.602994 | O19: =O51+O105+O200 -> 30.602994 | P19: =P51+P105+P200 -> 0 | Q19: =Q51+Q105+Q200 -> 7.0130234 | T19: TRUE | U19: TRUE | V19: TRUE | W19: TRUE | X19: TRUE | Y19: TRUE | Z19: TRUE | AA19: TRUE | AB19: TRUE | AC19: TRUE | AD19: TRUE | AE19: TRUE | AF19: TRUE | AG19: TRUE
B20: A.7. | C20: Perkamų paslaugų (veiklos rangos) sąnaudos | D20: =D30+D31+D45+D65+D67+D71+D73+D74+D75+D77+D83+D84+D99+D117+D119+D123+D126+D127+D129+D135+D136+D194+D212+D214+D218+D220+D221+D222+D224+D231+D232+D125 -> 144.73309 | E20: =E30+E31+E45+E65+E67+E71+E73+E74+E75+E77+E83+E84+E99+E117+E119+E123+E126+E127+E129+E135+E136+E194+E212+E214+E218+E220+E221+E222+E224+E231+E232+E125 -> 45.13069 | F20: =F30+F31+F45+F65+F67+F71+F73+F74+F75+F77+F83+F84+F99+F117+F119+F123+F126+F127+F129+F135+F136+F194+F212+F214+F218+F220+F221+F222+F224+F231+F232+F125 -> 1.9502026 | G20: =G30+G31+G45+G65+G67+G71+G73+G74+G75+G77+G83+G84+G99+G117+G119+G123+G126+G127+G129+G135+G136+G194+G212+G214+G218+G220+G221+G222+G224+G231+G232+G125 -> 21.015709 | H20: =H30+H31+H45+H65+H67+H71+H73+H74+H75+H77+H83+H84+H99+H117+H119+H123+H126+H127+H129+H135+H136+H194+H212+H214+H218+H220+H221+H222+H224+H231+H232+H125 -> 22.164779 | I20: =I30+I31+I45+I65+I67+I71+I73+I74+I75+I77+I83+I84+I99+I117+I119+I123+I126+I127+I129+I135+I136+I194+I212+I214+I218+I220+I221+I222+I224+I231+I232+I125 -> 96.564682 | J20: =J30+J31+J45+J65+J67+J71+J73+J74+J75+J77+J83+J84+J99+J117+J119+J123+J126+J127+J129+J135+J136+J194+J212+J214+J218+J220+J221+J222+J224+J231+J232+J125 -> 45.115457 | K20: =K30+K31+K45+K65+K67+K71+K73+K74+K75+K77+K83+K84+K99+K117+K119+K123+K126+K127+K129+K135+K136+K194+K212+K214+K218+K220+K221+K222+K224+K231+K232+K125 -> 44.809234 | ... M20: =M30+M31+M45+M65+M67+M71+M73+M74+M75+M77+M83+M84+M99+M117+M119+M123+M126+M127+M129+M135+M136+M194+M212+M214+M218+M220+M221+M222+M224+M231+M232+M125 -> 0 | N20: =O20+P20 -> 1.3732499 | O20: =O30+O31+O45+O65+O67+O71+O73+O74+O75+O77+O83+O84+O99+O117+O119+O123+O126+O127+O129+O135+O136+O194+O212+O214+O218+O220+O221+O222+O224+O231+O232+O125 -> 1.3732499 | P20: =P30+P31+P45+P65+P67+P71+P73+P74+P75+P77+P83+P84+P99+P117+P119+P123+P126+P127+P129+P135+P136+P194+P212+P214+P218+P220+P221+P222+P224+P231+P232+P125 -> 0 | Q20: =Q30+Q31+Q45+Q65+Q67+Q71+Q73+Q74+Q75+Q77+Q83+Q84+Q99+Q117+Q119+Q123+Q126+Q127+Q129+Q135+Q136+Q194+Q212+Q214+Q218+Q220+Q221+Q222+Q224+Q231+Q232+Q125 -> 1.6644674 | T20: TRUE | U20: TRUE | V20: TRUE | W20: TRUE | X20: TRUE | Y20: TRUE | Z20: TRUE | AA20: TRUE | AB20: TRUE | AC20: TRUE | AD20: TRUE | AE20: TRUE | AF20: TRUE | AG20: TRUE
B21: A.B. | C21: VISOS PASKIRSTOMOSIOS SĄNAUDOS, IŠ ŠIO SKAIČIAUS: | D21: =D27+D88+D184 -> 1206.4114 | E21: =E27+E88+E184 -> 350.91877 | F21: =F27+F88+F184 -> 94.680804 | G21: =G27+G88+G184 -> 70.270182 | H21: =H27+H88+H184 -> 185.96778 | I21: =I27+I88+I184 -> 800.53367 | J21: =J27+J88+J184 -> 347.17447 | K21: =K27+K88+K184 -> 363.07383 | ... M21: =M27+M88+M184 -> 0 | N21: =O21+P21 -> 42.84958 | O21: =O27+O88+O184 -> 42.84958 | P21: =P27+P88+P184 -> 0 | Q21: =Q27+Q88+Q184 -> 12.109418 | T21: TRUE | U21: TRUE | V21: TRUE | W21: TRUE | X21: TRUE | Y21: TRUE | Z21: TRUE | AA21: TRUE | AB21: TRUE | AC21: TRUE | AD21: TRUE | AE21: TRUE | AF21: TRUE | AG21: TRUE
B22: A.B.1. | C22: Pastoviosios paskirstomosios sąnaudos, iš šio skaičius: | D22: =O22+E22+I22+M22+P22+Q22 -> 1038.25 | E22: =SUM(E23:E25) -> 298.43775 | F22: =SUM(F23:F25) -> 56.061974 | G22: =SUM(G23:G25) -> 67.477372 | H22: =SUM(H23:H25) -> 174.8984 | I22: =SUM(I23:I25) -> 684.85328 | J22: =SUM(J23:J25) -> 320.62777 | K22: =SUM(K23:K25) -> 273.94014 | L22: =SUM(L23:L25) -> 90.285379 | M22: =SUM(M23:M25) -> 0 | N22: =O22+P22 -> 42.84958 | O22: =SUM(O23:O25) -> 42.84958 | P22: =SUM(P23:P25) -> 0 | Q22: =SUM(Q23:Q25) -> 12.109418 | T22: TRUE | U22: TRUE | V22: TRUE | W22: TRUE | X22: TRUE | Y22: TRUE | Z22: TRUE | AA22: TRUE | AB22: TRUE | AC22: TRUE | AD22: TRUE | AE22: TRUE | AF22: TRUE | AG22: TRUE
B23: A.B.1.1. | C23: Tiesioginės pastoviosios sąnaudos | D23: =O23+E23+I23+M23+P23+Q23 -> 645.39816 | E23: =SUM(F23:H23) -> 190.8265 | F23: =F27-F28-F29-F33-F36-F37-F56-F57-F87 -> 42.184452 | G23: =G27-G28-G29-G33-G36-G37-G56-G57-G87 -> 45.174944 | H23: =H27-H28-H29-H33-H36-H37-H56-H57-H87 -> 103.46711 | I23: =SUM(J23:L23) -> 411.58382 | J23: =J27-J28-J29-J33-J36-J37-J56-J57-J87 -> 170.37644 | K23: =K27-K28-K29-K33-K36-K37-K56-K57-K87 -> 187.00271 | L23: =L27-L28-L29-L33-L36-L37-L56-L57-L87 -> 54.204675 | M23: =M27-M28-M29-M33-M36-M37-M56-M57-M87 -> 0 | N23: =O23+P23 -> 33.512955 | O23: =O27-O28-O29-O33-O36-O37-O56-O57-O87 -> 33.512955 | P23: =P27-P28-P29-P33-P36-P37-P56-P57-P87 -> 0 | Q23: =Q27-Q28-Q29-Q33-Q36-Q37-Q56-Q57-Q87 -> 9.474878 | T23: TRUE | U23: TRUE | V23: TRUE | W23: TRUE | X23: TRUE | Y23: TRUE | Z23: TRUE | AA23: TRUE | AB23: TRUE | AC23: TRUE | AD23: TRUE | AE23: TRUE | AF23: TRUE | AG23: TRUE
B24: A.B.1.2. | C24: Netiesioginės pastoviosios sąnaudos | D24: =O24+E24+I24+M24+P24+Q24 -> 166.96889 | E24: =SUM(F24:H24) -> 42.682754 | F24: =F88-F90-F138 -> 1.6806081 | G24: =G88-G90-G138 -> 7.6219661 | H24: =H88-H90-H138 -> 33.38018 | I24: =SUM(J24:L24) -> 124.27192 | J24: =J88-J90-J138 -> 80.495146 | K24: =K88-K90-K138 -> 27.33867 | L24: =L88-L90-L138 -> 16.438103 | M24: =M88-M90-M138 -> 0 | N24: =O24+P24 -> 0.01421591 | O24: =O88-O90-O138 -> 0.01421591 | P24: =P88-P90-P138 -> 0 | Q24: =Q88-Q90-Q138 -> 0 | T24: TRUE | U24: TRUE | V24: TRUE | W24: TRUE | X24: TRUE | Y24: TRUE | Z24: TRUE | AA24: TRUE | AB24: TRUE | AC24: TRUE | AD24: TRUE | AE24: TRUE | AF24: TRUE | AG24: TRUE
B25: A.B.1.3. | C25: Bendrosios pastoviosios sąnaudos | D25: =O25+E25+I25+M25+P25+Q25 -> 225.88298 | E25: =SUM(F25:H25) -> 64.928491 | F25: =F184 -> 12.196913 | G25: =G184 -> 14.680462 | H25: =H184 -> 38.051116 | I25: =SUM(J25:L25) -> 148.99754 | J25: =J184 -> 69.75618 | K25: =K184 -> 59.59876 | L25: =L184 -> 19.6426 | M25: =M184 -> 0 | N25: =O25+P25 -> 9.3224084 | O25: =O184 -> 9.3224084 | P25: =P184 -> 0 | Q25: =Q184 -> 2.6345402 | T25: TRUE | U25: TRUE | V25: TRUE | W25: TRUE | X25: TRUE | Y25: TRUE | Z25: TRUE | AA25: TRUE | AB25: TRUE | AC25: TRUE | AD25: TRUE | AE25: TRUE | AF25: TRUE | AG25: 0
B26: A.B.2. | C26: Kintamosios paskirstomosios sąnaudos | D26: =O26+E26+I26+M26+P26+Q26 -> 168.16141 | E26: =SUM(F26:H26) -> 52.48102 | F26: =F28+F29+F33+F36+F37+F56+F57+F87+F90+F138 -> 38.61883 | G26: =G28+G29+G33+G36+G37+G56+G57+G87+G90+G138 -> 2.79281 | H26: =H28+H29+H33+H36+H37+H56+H57+H87+H90+H138 -> 11.06938 | I26: =SUM(J26:L26) -> 115.68039 | J26: =J28+J29+J33+J36+J37+J56+J57+J87+J90+J138 -> 26.5467 | K26: =K28+K29+K33+K36+K37+K56+K57+K87+K90+K138 -> 89.13369 | L26: =L28+L29+L33+L36+L37+L56+L57+L87+L90+L138 -> 0 | M26: =M28+M29+M33+M36+M37+M56+M57+M87+M90+M138 -> 0 | N26: =O26+P26 -> 0 | O26: =O28+O29+O33+O36+O37+O56+O57+O87+O90+O138 -> 0 | P26: =P28+P29+P33+P36+P37+P56+P57+P87+P90+P138 -> 0 | Q26: =Q28+Q29+Q33+Q36+Q37+Q56+Q57+Q87+Q90+Q138 -> 0 | T26: TRUE | U26: TRUE | V26: TRUE | W26: TRUE | X26: TRUE | Y26: TRUE | Z26: TRUE | AA26: TRUE | AB26: TRUE | AC26: TRUE | AD26: TRUE | AE26: TRUE | AF26: TRUE | AG26: TRUE
B27: B. | C27: TIESIOGINĖS SĄNAUDOS | D27: =O27+E27+I27+M27+P27+Q27 -> 813.55957 | E27: =SUM(F27:H27) -> 243.30752 | F27: =F28+F29+F32+F35+F38+F41+F43+F49+F50+F55+F61+F64+F79+F80 -> 80.803282 | G27: =G28+G29+G32+G35+G38+G41+G43+G49+G50+G55+G61+G64+G79+G80 -> 47.967754 | H27: =H28+H29+H32+H35+H38+H41+H43+H49+H50+H55+H61+H64+H79+H80 -> 114.53649 | I27: =SUM(J27:L27) -> 527.26421 | J27: =J28+J29+J32+J35+J38+J41+J43+J49+J50+J55+J61+J64+J79+J80 -> 196.92314 | K27: =K28+K29+K32+K35+K38+K41+K43+K49+K50+K55+K61+K64+K79+K80 -> 276.1364 | L27: =L28+L29+L32+L35+L38+L41+L43+L49+L50+L55+L61+L64+L79+L80 -> 54.204675 | M27: =M28+M29+M32+M35+M38+M41+M43+M49+M50+M55+M61+M64+M79+M80 -> 0 | N27: =O27+P27 -> 33.512955 | O27: =O28+O29+O32+O35+O38+O41+O43+O49+O50+O55+O61+O64+O79+O80 -> 33.512955 | P27: =P28+P29+P32+P35+P38+P41+P43+P49+P50+P55+P61+P64+P79+P80 -> 0 | Q27: =Q28+Q29+Q32+Q35+Q38+Q41+Q43+Q49+Q50+Q55+Q61+Q64+Q79+Q80 -> 9.474878 | T27: TRUE | U27: TRUE | V27: TRUE | W27: TRUE | X27: TRUE | Y27: TRUE | Z27: TRUE | AA27: TRUE | AB27: TRUE | AC27: TRUE | AD27: TRUE | AE27: TRUE | AF27: TRUE | AG27: TRUE
B28: B.1. | C28: Geriamojo vandens įsigijimo sąnaudos | D28: =O28+E28+I28+M28+P28+Q28 -> 0 | E28: =SUM(F28:H28) -> 0 | F28: 0 | G28: 0 | H28: 0 | I28: =SUM(J28:L28) -> 0 | J28: 0 | K28: 0 | L28: 0 | M28: 0 | N28: =O28+P28 -> 0 | O28: 0 | P28: 0 | Q28: 0 | T28: TRUE | U28: TRUE | V28: TRUE | W28: TRUE | X28: TRUE | Y28: TRUE | Z28: TRUE | AA28: TRUE | AB28: TRUE | AC28: TRUE | AD28: TRUE | AE28: TRUE | AF28: TRUE | AG28: TRUE
B29: B.2. | C29: Nuotekų tvarkymo paslaugų pirkimo sąnaudos | D29: =O29+E29+I29+M29+P29+Q29 -> 0 | E29: =SUM(E30:E31) -> 0 | F29: =SUM(F30:F31) -> 0 | G29: =SUM(G30:G31) -> 0 | H29: =SUM(H30:H31) -> 0 | I29: =SUM(J29:L29) -> 0 | J29: =SUM(J30:J31) -> 0 | K29: =SUM(K30:K31) -> 0 | L29: =SUM(L30:L31) -> 0 | M29: =SUM(M30:M31) -> 0 | N29: =O29+P29 -> 0 | O29: =SUM(O30:O31) -> 0 | P29: =+SUM(P30:P31) -> 0 | Q29: =+SUM(Q30:Q31) -> 0 | T29: TRUE | U29: TRUE | V29: TRUE | W29: TRUE | X29: TRUE | Y29: TRUE | Z29: TRUE | AA29: TRUE | AB29: TRUE | AC29: TRUE | AD29: TRUE | AE29: TRUE | AF29: TRUE | AG29: TRUE
B30: B.2.1. | C30: Nuotekų tvarkymo paslaugų pirkimo sąnaudos | D30: =I30+M30+P30+Q30 -> 0 | E30: =+SUM(F30:H30) -> 0 | F30: 0 | G30: 0 | H30: 0 | I30: =SUM(J30:L30) -> 0 | J30: 0 | K30: 0 | L30: 0 | M30: 0 | N30: =O30+P30 -> 0 | O30: 0 | P30: 0 | Q30: 0 | T30: TRUE | U30: TRUE | V30: TRUE | W30: TRUE | X30: TRUE | Y30: TRUE | Z30: TRUE | AA30: TRUE | AB30: TRUE | AC30: TRUE | AD30: TRUE | AE30: TRUE | AF30: TRUE | AG30: TRUE
B31: B.2.2. | C31: Dumblo tvarkymo paslaugų pirkimo sąnaudos | D31: =I31+M31+P31+Q31 -> 0 | E31: =+SUM(F31:H31) -> 0 | F31: 0 | G31: 0 | H31: 0 | I31: =SUM(J31:L31) -> 0 | J31: 0 | K31: 0 | L31: 0 | M31: 0 | N31: =O31+P31 -> 0 | O31: 0 | P31: 0 | Q31: 0 | T31: TRUE | U31: TRUE | V31: TRUE | W31: TRUE | X31: TRUE | Y31: TRUE | Z31: TRUE | AA31: TRUE | AB31: TRUE | AC31: TRUE | AD31: TRUE | AE31: TRUE | AF31: TRUE | AG31: TRUE
B32: B.3. | C32: Elektros energijos sąnaudos | D32: =O32+E32+I32+M32+P32+Q32 -> 125.07741 | E32: =E33+E34 -> 32.31202 | F32: =F33+F34 -> 18.44983 | G32: =G33+G34 -> 2.79281 | H32: =H33+H34 -> 11.06938 | I32: =SUM(J32:L32) -> 92.76539 | J32: =SUM(J33:J34) -> 26.5467 | K32: =SUM(K33:K34) -> 66.21869 | L32: =SUM(L33:L34) -> 0 | M32: =SUM(M33:M34) -> 0 | N32: =O32+P32 -> 0 | O32: =O33+O34 -> 0 | P32: =SUM(P33:P34) -> 0 | Q32: =SUM(Q33:Q34) -> 0 | T32: TRUE | U32: TRUE | V32: TRUE | W32: TRUE | X32: TRUE | Y32: TRUE | Z32: TRUE | AA32: TRUE | AB32: TRUE | AC32: TRUE | AD32: TRUE | AE32: TRUE | AF32: TRUE | AG32: TRUE
B33: B.3.1. | C33: Elektros energija siurbliams, orapūtėms, maišyklėms ir kitiems technologiniams įrenginiams | D33: =O33+E33+I33+M33+P33+Q33 -> 125.07741 | E33: =SUM(F33:H33) -> 32.31202 | F33: 18.44983 | G33: 2.79281 | H33: 11.06938 | I33: =SUM(J33:L33) -> 92.76539 | J33: 26.5467 | K33: 66.21869 | L33: 0 | M33: 0 | N33: =O33+P33 -> 0 | O33: 0 | P33: 0 | Q33: 0 | T33: TRUE | U33: TRUE | V33: TRUE | W33: TRUE | X33: TRUE | Y33: TRUE | Z33: TRUE | AA33: TRUE | AB33: TRUE | AC33: TRUE | AD33: TRUE | AE33: TRUE | AF33: TRUE | AG33: TRUE
B34: B.3.2. | C34: Patalpų šildymo, apšvietimo, vėdinimo ir eksploatacijos elektros energijos sąnaudos | D34: =O34+E34+I34+M34+P34+Q34 -> 0 | E34: =SUM(F34:H34) -> 0 | F34: 0 | G34: 0 | H34: 0 | I34: =SUM(J34:L34) -> 0 | J34: 0 | K34: 0 | L34: 0 | M34: 0 | N34: =O34+P34 -> 0 | O34: 0 | P34: 0 | Q34: 0 | T34: TRUE | U34: TRUE | V34: TRUE | W34: TRUE | X34: TRUE | Y34: TRUE | Z34: TRUE | AA34: TRUE | AB34: TRUE | AC34: TRUE | AD34: TRUE | AE34: TRUE | AF34: TRUE | AG34: TRUE
B35: B.4. | C35: Technologinių medžiagų ir technologinio kuro sąnaudos | D35: =O35+E35+I35+M35+P35+Q35 -> 13.68 | E35: =SUM(F35:H35) -> 0 | F35: =F36 -> 0 | G35: =G36 -> 0 | H35: =H36 -> 0 | I35: =SUM(J35:L35) -> 13.68 | J35: =SUM(J36:J37) -> 0 | K35: =SUM(K36:K37) -> 13.68 | L35: =SUM(L36:L37) -> 0 | M35: =SUM(M36:M37) -> 0 | N35: =O35+P35 -> 0 | O35: =O36+O37 -> 0 | P35: =SUM(P36:P37) -> 0 | Q35: =SUM(Q36:Q37) -> 0 | T35: TRUE | U35: TRUE | V35: TRUE | W35: TRUE | X35: TRUE | Y35: TRUE | Z35: TRUE | AA35: TRUE | AB35: TRUE | AC35: TRUE | AD35: TRUE | AE35: TRUE | AF35: TRUE | AG35: TRUE
B36: B.4.1. | C36: Technologinių medžiagų sąnaudos | D36: =O36+E36+I36+M36+P36+Q36 -> 13.68 | E36: =SUM(F36:H36) -> 0 | F36: 0 | G36: 0 | H36: 0 | I36: =SUM(J36:L36) -> 13.68 | J36: 0 | K36: 13.68 | L36: 0 | M36: 0 | N36: =O36+P36 -> 0 | O36: 0 | P36: 0 | Q36: 0 | T36: TRUE | U36: TRUE | V36: TRUE | W36: TRUE | X36: TRUE | Y36: TRUE | Z36: TRUE | AA36: TRUE | AB36: TRUE | AC36: TRUE | AD36: TRUE | AE36: TRUE | AF36: TRUE | AG36: TRUE
B37: B.4.2. | C37: Technologinio kuro sąnaudos | D37: =O37+E37+I37+M37+P37+Q37 -> 0 | E37: =SUM(F37:H37) -> 0 | F37: 0 | G37: 0 | H37: 0 | I37: =SUM(J37:L37) -> 0 | J37: 0 | K37: 0 | L37: 0 | M37: 0 | N37: =O37+P37 -> 0 | O37: 0 | P37: 0 | Q37: 0 | T37: TRUE | U37: TRUE | V37: TRUE | W37: TRUE | X37: TRUE | Y37: TRUE | Z37: TRUE | AA37: TRUE | AB37: TRUE | AC37: TRUE | AD37: TRUE | AE37: TRUE | AF37: TRUE | AG37: TRUE
B38: B.5. | C38: Kuro transportui sąnaudos | D38: =O38+E38+I38+M38+P38+Q38 -> 44.64055 | E38: =SUM(F38:H38) -> 6.61333 | F38: =SUM(F39:F40) -> 0.22605 | G38: =SUM(G39:G40) -> 0 | H38: =SUM(H39:H40) -> 6.38728 | I38: =SUM(J38:L38) -> 34.466468 | J38: =SUM(J39:J40) -> 18.081178 | K38: =SUM(K39:K40) -> 3.24824 | L38: =SUM(L39:L40) -> 13.13705 | M38: =SUM(M39:M40) -> 0 | N38: =O38+P38 -> 0.77128 | O38: =SUM(O39:O40) -> 0.77128 | P38: =SUM(P39:P40) -> 0 | Q38: =SUM(Q39:Q40) -> 2.789472 | T38: TRUE | U38: TRUE | V38: TRUE | W38: TRUE | X38: TRUE | Y38: TRUE | Z38: TRUE | AA38: TRUE | AB38: TRUE | AC38: TRUE | AD38: TRUE | AE38: TRUE | AF38: TRUE | AG38: TRUE
B39: B.5.1. | C39: Kuras mašinoms ir gamybiniam transportui (asenizacijos transporto priemonėms, transportui dumblui, vandeniui vežti, autobusams žmonėms vežti) | D39: =O39+E39+I39+M39+P39+Q39 -> 43.86927 | E39: =SUM(F39:H39) -> 6.61333 | F39: 0.22605 | G39: 0 | H39: 6.38728 | I39: =SUM(J39:L39) -> 34.466468 | J39: 18.081178 | K39: 3.24824 | L39: 13.13705 | M39: 0 | N39: =O39+P39 -> 0 | O39: 0 | P39: 0 | Q39: 2.789472 | T39: TRUE | U39: TRUE | V39: TRUE | W39: TRUE | X39: TRUE | Y39: TRUE | Z39: TRUE | AA39: TRUE | AB39: TRUE | AC39: TRUE | AD39: TRUE | AE39: TRUE | AF39: TRUE | AG39: TRUE
B40: B.5.2. | C40: Kuras lengviesiems automobiliams | D40: =O40+E40+I40+M40+P40+Q40 -> 0.77128 | E40: =SUM(F40:H40) -> 0 | F40: 0 | G40: 0 | H40: 0 | I40: =SUM(J40:L40) -> 0 | J40: 0 | K40: 0 | L40: 0 | M40: 0 | N40: =O40+P40 -> 0.77128 | O40: 0.77128 | P40: 0 | Q40: 0 | T40: TRUE | U40: TRUE | V40: TRUE | W40: TRUE | X40: TRUE | Y40: TRUE | Z40: TRUE | AA40: TRUE | AB40: TRUE | AC40: TRUE | AD40: TRUE | AE40: TRUE | AF40: TRUE | AG40: TRUE
B41: B.6. | C41: Šilumos energijos sąnaudos | D41: =O41+E41+I41+M41+P41+Q41 -> 0 | E41: =SUM(F41:H41) -> 0 | F41: =F42 -> 0 | G41: =G42 -> 0 | H41: =H42 -> 0 | I41: =SUM(J41:L41) -> 0 | J41: =J42 -> 0 | K41: =K42 -> 0 | L41: =L42 -> 0 | M41: =M42 -> 0 | N41: =O41+P41 -> 0 | O41: =O42 -> 0 | P41: =P42 -> 0 | Q41: =Q42 -> 0 | T41: TRUE | U41: TRUE | V41: TRUE | W41: TRUE | X41: TRUE | Y41: TRUE | Z41: TRUE | AA41: TRUE | AB41: TRUE | AC41: TRUE | AD41: TRUE | AE41: TRUE | AF41: TRUE | AG41: TRUE
B42: B.6.1. | C42: Šilumos energijos patalpų šildymui sąnaudos | D42: =O42+E42+I42+M42+P42+Q42 -> 0 | E42: =SUM(F42:H42) -> 0 | F42: 0 | G42: 0 | H42: 0 | I42: =SUM(J42:L42) -> 0 | J42: 0 | K42: 0 | L42: 0 | M42: 0 | N42: =O42+P42 -> 0 | O42: 0 | P42: 0 | Q42: 0 | T42: TRUE | U42: TRUE | V42: TRUE | W42: TRUE | X42: TRUE | Y42: TRUE | Z42: TRUE | AA42: TRUE | AB42: TRUE | AC42: TRUE | AD42: TRUE | AE42: TRUE | AF42: TRUE | AG42: TRUE
B43: B.7. | C43: Einamojo remonto ir aptarnavimo sąnaudos | D43: =O43+E43+I43+M43+P43+Q43 -> 109.26739 | E43: =SUM(F43:H43) -> 35.03995 | F43: =SUM(F44:F48) -> 0.25084 | G43: =SUM(G44:G48) -> 18.15121 | H43: =SUM(H44:H48) -> 16.6379 | I43: =SUM(J43:L43) -> 73.61921 | J43: =SUM(J44:J48) -> 35.91768 | K43: =SUM(K44:K48) -> 18.89675 | L43: =SUM(L44:L48) -> 18.80478 | M43: =SUM(M44:M48) -> 0 | N43: =O43+P43 -> 0.60823 | O43: =SUM(O44:O48) -> 0.60823 | P43: =SUM(P44:P48) -> 0 | Q43: =SUM(Q44:Q48) -> 0 | T43: TRUE | U43: TRUE | V43: TRUE | W43: TRUE | X43: TRUE | Y43: TRUE | Z43: TRUE | AA43: TRUE | AB43: TRUE | AC43: TRUE | AD43: TRUE | AE43: TRUE | AF43: TRUE | AG43: TRUE
...

Sheet 5
E2: Geriamojo vandens tiekimo ir nuotekų tvarkymo bei paviršinių nuotekų tvarkymo paslaugų įmonių apskaitos atskyrimo ir susijusių reikalavimų aprašo 5 priedas
C3: Ūkio subjektas: UAB „Biržų vandenys“
C4: Ataskaitinis laikotarpis: 2021-01-01 - 2021-12-31
C6: Ataskaitinio laikotarpio reguliuojamos veiklos ilgalaikio turto įsigijimo ir likutinės vertės suvestinė ataskaita (tūkst. Eur)
B8: Eil. Nr. | C8: STRAIPSNIAI | D8: Ataskaitinis laikotarpis | E8: Paaiškinimai
B9: I. | C9: ILGALAIKIO TURTO LIKUTINĖ VERTĖ PAGAL FINANSINĖS APSKAITOS STANDARTUS (FAS) | D9: =+'2'!D10 -> 8999.707 | E9: 2 priedas | F9: TRUE
B10: A. | C10: GERIAMOJO VANDENS TIEKIMO IR NUOTEKŲ TVARKYMO (GVTNT) REGULIUOJAMO ILGALAIKIO TURTO LIKUTINĖ VERTĖ PAGAL REGULIAVIMO APSKAITOS SISTEMĄ (RAS) | D10: =SUM(D11:D12)+D16 -> 4511.3799 | E10: 7 priedas | F10: TRUE
B11: A.1. | C11: geriamojo vandens tiekimo (GVT) reguliuojamo ilgalaikio turto likutinė vertė (pagal RAS) | D11: ='7'!E8 -> 1267.6717 | E11: 7 priedas | F11: TRUE
B12: A.2. | C12: nuotekų tvarkymo (NT) veiklos reguliuojamo ilgalaikio turto likutinė vertė (pagal RAS) | D12: ='7'!I8 -> 3243.7083 | E12: 7 priedas | F12: TRUE
B13: A.2.1. | C13: nuotekų surinkimas centralizuotais nuotekų surinkimo tinklais reguliuojamo ilgalaikio turto likutinė vertė (pagal RAS) | D13: ='7'!J8 -> 1623.0694 | E13: 7 priedas | F13: TRUE
B14: A.2.2. | C14: nuotekų valymo reguliuojamo ilgalaikio turto likutinė vertė (pagal RAS) | D14: ='7'!K8 -> 1598.8444 | E14: 7 priedas | F14: TRUE
B15: A.2.3. | C15: nuotekų dumblo tvarkymo reguliuojamo ilgalaikio turto likutinė vertė (pagal RAS) | D15: ='7'!L8 -> 21.794495 | E15: 7 priedas | F15: TRUE
B16: A.3. | C16: paviršinių nuotekų tvarkymo reguliuojamo ilgalaikio turto likutinė vertė (pagal RAS),jei yra atskira paviršinių nuotekų surinkimo sistema | D16: ='7'!M8 -> 0 | E16: 7 priedas | F16: TRUE
B17: B. | C17: GVTNT VEIKLOS REGULIUOJAMAM ILGALAIKIUI TURTUI (PAGAL RAS) NEPRISKIRTINO TURTO LIKUTINĖS VERTĖS | D17: =SUM(D18:D27) -> 4484.7102 | F17: TRUE
B18: B.1. | C18: už Dotacijas įsigyto ir neatlygintai gauto turto vertė (GVTNT) | D18: 2264.9844 | F18: TRUE
B19: B.2. | C19: Plėtros darbų vertė, iki ilgalaikio turto vienetų, kurių formavimui buvo atliekami plėtros darbai, eksploatacijos pradžios (GVTNT) | D19: 0 | F19: TRUE
B20: B.3. | C20: Prestižo vertė (GVTNT) | D20: 0 | F20: TRUE
B21: B.4. | C21: Investicinio turto vertė (GVTNT) | D21: 0 | F21: TRUE
B22: B.5. | C22: Finansinio turto vertė (GVTNT) | D22: 227.238 | F22: TRUE
B23: B.6. | C23: Atidėtojo mokesčio turto vertė (GVTNT) | D23: 0 | F23: TRUE
B24: B.7. | C24: Ilgalaikio turto vertės pokytis, susijęs su ilgalaikio turto perkainojimo veikla (GVTNT) | D24: 0 | F24: TRUE
B25: B.8. | C25: Nebaigtos statybos, nenaudojamo, nusidėvėjusio turto vertė (GVTNT) | D25: 1490.308 | F25: TRUE
B26: B.9. | C26: Kito reguliuojamos veiklos nepaskirstomojo ilgalaikio turto vertė, kito nereguliuojamos veiklos ilgalaikio turto vertė | D26: 80.00148 | F26: TRUE
B27: B.10. | C27: GVTNT Ilgalaikio turto balansinių verčių pagal RAS ir FAS skirtumas | D27: =D9-D10-D28-D18-D19-D20-D21-D22-D23-D24-D25-D26 -> 422.17833 | F27: TRUE
B28: C. | C28: KITŲ VEIKLŲ ILGALAIKIO TURTO LIKUTINĖ VERTĖ | D28: =SUM(D29:D31) -> 3.6168419 | E28: 7 priedas | F28: TRUE
B29: C.1. | C29: Apskaitos veiklos reguliuojamo ilgalaikio turto likutinė vertė | D29: ='7'!O8 -> 2.8204015 | E29: 7 priedas | F29: TRUE
B30: C.2. | C30: kitos reguliuojamosios veiklos ilgalaikio turto likutinė vertė | D30: ='7'!P8 -> 0 | E30: 7 priedas | F30: TRUE
B31: C.3. | C31: nereguliuojamosios veiklos ilgalaikio turto likutinė vertė | D31: ='7'!Q8 -> 0.79644043 | E31: 7 priedas | F31: TRUE
B32: II. | C32: ILGALAIKIO TURTO ĮSIGIJIMO VERTĖ PAGAL FINANSINĖS APSKAITOS STANDARTUS (FAS) | D32: 23477.463 | F32: TRUE
B33: D. | C33: GERIAMOJO VANDENS TIEKIMO IR NUOTEKŲ TVARKYMO (GVTNT) REGULIUOJAMO ILGALAIKIO TURTO ĮSIGIJIMO VERTĖ PAGAL REGULIAVIMO APSKAITOS SISTEMĄ (RAS) | D33: =SUM(D34:D35)+D39 -> 9234.8104 | E33: 6 priedas | F33: TRUE
B34: D.1. | C34: geriamojo vandens tiekimo (GVT) reguliuojamo ilgalaikio turto įsigijimo vertė (pagal RAS) | D34: ='6'!E8 -> 2572.046 | E34: 6 priedas | F34: TRUE
B35: D.2. | C35: nuotekų tvarkymo (NT) veiklos reguliuojamo ilgalaikio turto įsigijimo vertė (pagal RAS) | D35: ='6'!I8 -> 6662.7645 | E35: 6 priedas | F35: TRUE
B36: D.2.1. | C36: nuotekų surinkimas centralizuotais nuotekų surinkimo tinklais reguliuojamo ilgalaikio turto įsigijimo vertė (pagal RAS) | D36: ='6'!J8 -> 3083.3874 | E36: 6 priedas | F36: TRUE
B37: D.2.2. | C37: nuotekų valymo reguliuojamo ilgalaikio turto įsigijimo vertė (pagal RAS) | D37: ='6'!K8 -> 3538.0099 | E37: 6 priedas | F37: TRUE
B38: D.2.3. | C38: nuotekų dumblo tvarkymo reguliuojamo ilgalaikio turto įsigijimo vertė (pagal RAS) | D38: ='6'!L8 -> 41.367188 | E38: 6 priedas | F38: TRUE
B39: D.3. | C39: paviršinių nuotekų tvarkymo reguliuojamo ilgalaikio turto įsigijimo vertė (pagal RAS), jei yra atskira paviršinių nuotekų surinkimo sistema | D39: ='6'!M8 -> 0 | E39: 6 priedas | F39: TRUE
B40: E. | C40: GVTNT VEIKLOS REGULIUOJAMAM ILGALAIKIUI TURTUI (PAGAL RAS) NEPRISKIRTINO TURTO ĮSIGIJIMO VERTĖS | D40: =SUM(D41:D50) -> 14236.237 | F40: TRUE
B41: E.1. | C41: už Dotacijas įsigyto ir neatlygintai gauto turto vertė (GVTNT) | D41: 12188.451 | F41: TRUE
B42: E.2. | C42: Plėtros darbų vertė, iki ilgalaikio turto vienetų, kurių formavimui buvo atliekami plėtros darbai, eksploatacijos pradžios (GVTNT) | D42: 0 | F42: TRUE
B43: E.3. | C43: Prestižo vertė (GVTNT) | D43: 0 | F43: TRUE
...

Sheet 6
C2: Ūkio subjektas: UAB „Biržų vandenys“ | Q2: Geriamojo vandens tiekimo ir nuotekų tvarkymo bei paviršinių nuotekų tvarkymo paslaugų įmonių apskaitos atskyrimo ir susijusių reikalavimų aprašo 6 priedas
C3: Ataskaitinis laikotarpis: 2021-01-01 - 2021-12-31
C5: Ataskaitinio laikotarpio reguliuojamo ilgalaikio turto įsigijimo vertės (suskaičiuotos pagal Aprašo nuostatas) paskirstymo verslo vienetams ir paslaugoms ataskaita (tūkst. Eur)
F6: II.Gavyba | G6: II.Ruošimas | H6: II.Pristatymas | J6: III.Surinkimas | K6: III.Valymas | L6: III.Dumblas | M6: III.Pav.nuotekos | O6: I.Apskaitos veikla | P6: IV.Kita_reguliuojama | Q6: V.Nereguliuojama
B7: Eil. Nr. | C7: ILGALAIKIS TURTAS | D7: 1. IŠ VISO | E7: 2. Iš viso GVT | F7: 2.1. Geriamojo vandens gavyba | G7: 2.2. Geriamojo vandens ruošimas | H7: 2.3. Geriamojo vandens pristatymas | I7: 3. Iš viso NT | J7: 3.1. Nuotekų surinkimas | K7: 3.2. Nuotekų valymas | L7: 3.3. Nuotekų dumblo tvarkymas | M7: 4. Paviršinių nuotekų tvarkymas (tik esant atskirai paviršinių nuotekų tvarkymo sistemai) | N7: 5. Kitos reguliuojamosios veiklos verslo vienetas | O7: 5.1 Apskaitos veikla | P7: 5.2. Kita reguliuojama veikla | Q7: 6. Kitos veiklos (nereguliuojamosios veiklos) verslo vienetas
B8: A. | C8: PASKIRSTOMAS ILGALAIKIS TURTAS | D8: =D9+D13+D18+D21+D24+D27 -> 9241.2264 | E8: =E9+E13+E18+E21+E24+E27 -> 2572.046 | F8: =F9+F13+F18+F21+F24+F27 -> 222.70699 | G8: =G9+G13+G18+G21+G24+G27 -> 955.79741 | H8: =H9+H13+H18+H21+H24+H27 -> 1393.5416 | I8: =I9+I13+I18+I21+I24+I27 -> 6662.7645 | J8: =J9+J13+J18+J21+J24+J27 -> 3083.3874 | K8: =K9+K13+K18+K21+K24+K27 -> 3538.0099 | ... M8: =M9+M13+M18+M21+M24+M27 -> 0 | N8: =+O8+P8 -> 5.0031362 | O8: =O9+O13+O18+O21+O24+O27 -> 5.0031362 | P8: =P9+P13+P18+P21+P24+P27 -> 0 | Q8: =Q9+Q13+Q18+Q21+Q24+Q27 -> 1.4127973
B9: A.1. | C9: NEMATERIALUSIS TURTAS | D9: =O9+E9+I9+M9+P9+Q9 -> 0 | E9: =SUM(F9:H9) -> 0 | F9: =SUM(F10:F12) -> 0 | G9: =SUM(G10:G12) -> 0 | H9: =SUM(H10:H12) -> 0 | I9: =SUM(J9:L9) -> 0 | J9: =SUM(J10:J12) -> 0 | K9: =SUM(K10:K12) -> 0 | L9: =SUM(L10:L12) -> 0 | M9: =SUM(M10:M12) -> 0 | N9: =+O9+P9 -> 0 | O9: =SUM(O10:O12) -> 0 | P9: =SUM(P10:P12) -> 0 | Q9: =SUM(Q10:Q12) -> 0
B10: A.1.1. | C10: standartinė programinė įranga | D10: =O10+E10+I10+M10+P10+Q10 -> 0 | E10: =SUM(F10:H10) -> 0 | F10: =SUM(F33,F56,F96) -> 0 | G10: =SUM(G33,G56,G96) -> 0 | H10: =SUM(H33,H56,H96) -> 0 | I10: =SUM(J10:L10) -> 0 | J10: =SUM(J33,J56,J96) -> 0 | K10: =SUM(K33,K56,K96) -> 0 | L10: =SUM(L33,L56,L96) -> 0 | M10: =SUM(M33,M56,M96) -> 0 | N10: =+O10+P10 -> 0 | O10: =SUM(O33,O56,O96) -> 0 | P10: =SUM(P33,P56,P96) -> 0 | Q10: =SUM(Q33,Q56,Q96) -> 0
B11: A.1.2. | C11: spec. programinė įranga | D11: =O11+E11+I11+M11+P11+Q11 -> 0 | E11: =SUM(F11:H11) -> 0 | F11: =SUM(F34,F57,F97) -> 0 | G11: =SUM(G34,G57,G97) -> 0 | H11: =SUM(H34,H57,H97) -> 0 | I11: =SUM(J11:L11) -> 0 | J11: =SUM(J34,J57,J97) -> 0 | K11: =SUM(K34,K57,K97) -> 0 | L11: =SUM(L34,L57,L97) -> 0 | M11: =SUM(M34,M57,M97) -> 0 | N11: =+O11+P11 -> 0 | O11: =SUM(O34,O57,O97) -> 0 | P11: =SUM(P34,P57,P97) -> 0 | Q11: =SUM(Q34,Q57,Q97) -> 0
B12: A.1.3. | C12: kitas nematerialus turtas | D12: =O12+E12+I12+M12+P12+Q12 -> 0 | E12: =SUM(F12:H12) -> 0 | F12: =SUM(F35,F58,F98) -> 0 | G12: =SUM(G35,G58,G98) -> 0 | H12: =SUM(H35,H58,H98) -> 0 | I12: =SUM(J12:L12) -> 0 | J12: =SUM(J35,J58,J98) -> 0 | K12: =SUM(K35,K58,K98) -> 0 | L12: =SUM(L35,L58,L98) -> 0 | M12: =SUM(M35,M58,M98) -> 0 | N12: =+O12+P12 -> 0 | O12: =SUM(O35,O58,O98) -> 0 | P12: =SUM(P35,P58,P98) -> 0 | Q12: =SUM(Q35,Q58,Q98) -> 0
B13: A.2. | C13: PASTATAI IR STATINIAI | D13: =O13+E13+I13+M13+P13+Q13 -> 9132.3859 | E13: =SUM(F13:H13) -> 2564.1453 | F13: =SUM(F14:F17) -> 220.89497 | G13: =SUM(G14:G17) -> 954.88834 | H13: =SUM(H14:H17) -> 1388.362 | I13: =SUM(J13:L13) -> 6561.8263 | J13: =SUM(J14:J17) -> 3002.739 | K13: =SUM(K14:K17) -> 3519.6807 | L13: =SUM(L14:L17) -> 39.406615 | M13: =SUM(M14:M17) -> 0 | N13: =+O13+P13 -> 5.0014406 | O13: =SUM(O14:O17) -> 5.0014406 | P13: =SUM(P14:P17) -> 0 | Q13: =SUM(Q14:Q17) -> 1.4127973
B14: A.2.1. | C14: Pastatai (administraciniai, gamybiniai-ūkiniai ir pan.) | D14: =O14+E14+I14+M14+P14+Q14 -> 169.40665 | E14: =SUM(F14:H14) -> 56.753221 | F14: =SUM(F37,F60,F100) -> 24.904185 | G14: =SUM(G37,G60,G100) -> 8.3971248 | H14: =SUM(H37,H60,H100) -> 23.451911 | I14: =SUM(J14:L14) -> 106.58102 | J14: =SUM(J37,J60,J100) -> 45.38248 | K14: =SUM(K37,K60,K100) -> 49.190512 | L14: =SUM(L37,L60,L100) -> 12.008033 | M14: =SUM(M37,M60,M100) -> 0 | N14: =+O14+P14 -> 4.7348262 | O14: =SUM(O37,O60,O100) -> 4.7348262 | P14: =SUM(P37,P60,P100) -> 0 | Q14: =SUM(Q37,Q60,Q100) -> 1.3375785
B15: A.2.2. | C15: keliai, aikštelės, šaligatviai ir tvoros | D15: =O15+E15+I15+M15+P15+Q15 -> 21.19714 | E15: =SUM(F15:H15) -> 18.858056 | F15: =SUM(F38,F61,F101) -> 18.086389 | G15: =SUM(G38,G61,G101) -> 0.14344657 | H15: =SUM(H38,H61,H101) -> 0.62822008 | I15: =SUM(J15:L15) -> 2.3388165 | J15: =SUM(J38,J61,J101) -> 1.5149309 | K15: =SUM(K38,K61,K101) -> 0.51451794 | L15: =SUM(L38,L61,L101) -> 0.30936762 | M15: =SUM(M38,M61,M101) -> 0 | N15: =+O15+P15 -> 0.00026754559 | O15: =SUM(O38,O61,O101) -> 0.00026754559 | P15: =SUM(P38,P61,P101) -> 0 | Q15: =SUM(Q38,Q61,Q101) -> 0
B16: A.2.3. | C16: vamzdynai | D16: =O16+E16+I16+M16+P16+Q16 -> 3036.873 | E16: =SUM(F16:H16) -> 1267.6335 | F16: =SUM(F39,F62,F102) -> 0 | G16: =SUM(G39,G62,G102) -> 0 | H16: =SUM(H39,H62,H102) -> 1267.6335 | I16: =SUM(J16:L16) -> 1769.2395 | J16: =SUM(J39,J62,J102) -> 1769.2395 | K16: =SUM(K39,K62,K102) -> 0 | L16: =SUM(L39,L62,L102) -> 0 | M16: =SUM(M39,M62,M102) -> 0 | N16: =+O16+P16 -> 0 | O16: =SUM(O39,O62,O102) -> 0 | P16: =SUM(P39,P62,P102) -> 0 | Q16: =SUM(Q39,Q62,Q102) -> 0
B17: A.2.4. | C17: Kiti įrenginiai (vandentiekio įrenginiai, nusodintuvai, diukeriai, vandens rezervuarai, gelžbetoniniai metantankai, smėlio gaudytuvai, aerotankai, nusodintuvai, nuotekų valymo flotatoriai, dumblo aikštelės ir kt.) | D17: =O17+E17+I17+M17+P17+Q17 -> 5904.9091 | E17: =SUM(F17:H17) -> 1220.9005 | F17: =SUM(F40,F63,F103) -> 177.9044 | G17: =SUM(G40,G63,G103) -> 946.34776 | H17: =SUM(H40,H63,H103) -> 96.64837 | I17: =SUM(J17:L17) -> 4683.667 | J17: =SUM(J40,J63,J103) -> 1186.6021 | K17: =SUM(K40,K63,K103) -> 3469.9757 | L17: =SUM(L40,L63,L103) -> 27.089214 | M17: =SUM(M40,M63,M103) -> 0 | N17: =+O17+P17 -> 0.26634694 | O17: =SUM(O40,O63,O103) -> 0.26634694 | P17: =SUM(P40,P63,P103) -> 0 | Q17: =SUM(Q40,Q63,Q103) -> 0.075218817
B18: A.3. | C18: MAŠINOS IR ĮRANGA | D18: =O18+E18+I18+M18+P18+Q18 -> 58.70457 | E18: =SUM(F18:H18) -> 1.5281165 | F18: =SUM(F19:F20) -> 0.012984362 | G18: =SUM(G19:G20) -> 0.058887235 | H18: =SUM(H19:H20) -> 1.4562449 | I18: =SUM(J18:L18) -> 57.176344 | J18: =SUM(J19:J20) -> 41.769605 | K18: =SUM(K19:K20) -> 15.279738 | L18: =SUM(L19:L20) -> 0.12700062 | M18: =SUM(M19:M20) -> 0 | N18: =+O18+P18 -> 0.00010983198 | O18: =SUM(O19:O20) -> 0.00010983198 | P18: =SUM(P19:P20) -> 0 | Q18: =SUM(Q19:Q20) -> 0
B19: A.3.1. | C19: vandens siurbliai, nuotekų ir dumblo siurbliai virš 5 kW, kita įranga ( siurblių valdymo įranga, elektrotechninė įranga, stacionarios ir mobilios darbo bei hidrodinaminės mašinos, staklės, sklendės, grotelės, grėbliai, grandikliai, filtrai, centrifugos) | D19: =O19+E19+I19+M19+P19+Q19 -> 51.38705 | E19: =SUM(F19:H19) -> 1.5281165 | F19: =SUM(F42,F65,F105) -> 0.012984362 | G19: =SUM(G42,G65,G105) -> 0.058887235 | H19: =SUM(H42,H65,H105) -> 1.4562449 | I19: =SUM(J19:L19) -> 49.858824 | J19: =SUM(J42,J65,J105) -> 39.069605 | K19: =SUM(K42,K65,K105) -> 10.662218 | L19: =SUM(L42,L65,L105) -> 0.12700062 | M19: =SUM(M42,M65,M105) -> 0 | N19: =+O19+P19 -> 0.00010983198 | O19: =SUM(O42,O65,O105) -> 0.00010983198 | P19: =SUM(P42,P65,P105) -> 0 | Q19: =SUM(Q42,Q65,Q105) -> 0
B20: A.3.2. | C20: nuotekų ir dumblo siurbliai iki 5 kW | D20: =O20+E20+I20+M20+P20+Q20 -> 7.31752 | E20: =SUM(F20:H20) -> 0 | F20: =SUM(F43,F66) -> 0 | G20: =SUM(G43,G66) -> 0 | H20: =SUM(H43,H66) -> 0 | I20: =SUM(J20:L20) -> 7.31752 | J20: =SUM(J43,J66) -> 2.7 | K20: =SUM(K43,K66) -> 4.61752 | L20: =SUM(L43,L66) -> 0 | M20: =SUM(M43,M66) -> 0 | N20: =+O20+P20 -> 0 | O20: =SUM(O43,O66) -> 0 | P20: =SUM(P43,P66) -> 0 | Q20: =SUM(Q43,Q66) -> 0
B21: A.4. | C21: KITI ĮRENGINIAI, PRIETAISAI IR ĮRANKIAI | D21: =O21+E21+I21+M21+P21+Q21 -> 0 | E21: =SUM(F21:H21) -> 0 | F21: =SUM(F22:F23) -> 0 | G21: =SUM(G22:G23) -> 0 | H21: =SUM(H22:H23) -> 0 | I21: =SUM(J21:L21) -> 0 | J21: =SUM(J22:J23) -> 0 | K21: =SUM(K22:K23) -> 0 | L21: =SUM(L22:L23) -> 0 | M21: =SUM(M22:M23) -> 0 | N21: =+O21+P21 -> 0 | O21: =SUM(O22:O23) -> 0 | P21: =SUM(P22:P23) -> 0 | Q21: =SUM(Q22:Q23) -> 0
B22: A.4.1. | C22: apskaitos prietaisai | D22: =O22+E22+I22+M22+P22+Q22 -> 0 | E22: =SUM(F22:H22) -> 0 | F22: =SUM(F45,F68,F107) -> 0 | G22: =SUM(G45,G68,G107) -> 0 | H22: =SUM(H45,H68,H107) -> 0 | I22: =SUM(J22:L22) -> 0 | J22: =SUM(J45,J68,J107) -> 0 | K22: =SUM(K45,K68,K107) -> 0 | L22: =SUM(L45,L68,L107) -> 0 | M22: =SUM(M45,M68,M107) -> 0 | N22: =+O22+P22 -> 0 | O22: =SUM(O45,O68,O107) -> 0 | P22: =SUM(P45,P68,P107) -> 0 | Q22: =SUM(Q45,Q68,Q107) -> 0
B23: A.4.2. | C23: įrankiai (matavimo priemonės, elektriniai įrankiai ir prietaisai, gamybinis inventorius ir kt.) | D23: =O23+E23+I23+M23+P23+Q23 -> 0 | E23: =SUM(F23:H23) -> 0 | F23: =SUM(F46,F69,F108) -> 0 | G23: =SUM(G46,G69,G108) -> 0 | H23: =SUM(H46,H69,H108) -> 0 | I23: =SUM(J23:L23) -> 0 | J23: =SUM(J46,J69,J108) -> 0 | K23: =SUM(K46,K69,K108) -> 0 | L23: =SUM(L46,L69,L108) -> 0 | M23: =SUM(M46,M69,M108) -> 0 | N23: =+O23+P23 -> 0 | O23: =SUM(O46,O69,O108) -> 0 | P23: =SUM(P46,P69,P108) -> 0 | Q23: =SUM(Q46,Q69,Q108) -> 0
B24: A.5. | C24: TRANSPORTO PRIEMONĖS | D24: =O24+E24+I24+M24+P24+Q24 -> 50.13595 | E24: =SUM(F24:H24) -> 6.3725757 | F24: =SUM(F25:F26) -> 1.7990318 | G24: =SUM(G25:G26) -> 0.85018469 | H24: =SUM(H25:H26) -> 3.7233592 | I24: =SUM(J24:L24) -> 43.761789 | J24: =SUM(J25:J26) -> 38.878752 | K24: =SUM(K25:K26) -> 3.049465 | L24: =SUM(L25:L26) -> 1.833572 | M24: =SUM(M25:M26) -> 0 | N24: =+O24+P24 -> 0.0015856996 | O24: =SUM(O25:O26) -> 0.0015856996 | P24: =SUM(P25:P26) -> 0 | Q24: =SUM(Q25:Q26) -> 0
B25: A.5.1. | C25: lengvieji automobiliai | D25: =O25+E25+I25+M25+P25+Q25 -> 17.55 | E25: =SUM(F25:H25) -> 4.4863587 | F25: =SUM(F48,F71,F110) -> 0.17664771 | G25: =SUM(G48,G71,G110) -> 0.80114029 | H25: =SUM(H48,H71,H110) -> 3.5085707 | I25: =SUM(J25:L25) -> 13.062147 | J25: =SUM(J48,J71,J110) -> 8.4607966 | K25: =SUM(K48,K71,K110) -> 2.8735512 | L25: =SUM(L48,L71,L110) -> 1.7277992 | M25: =SUM(M48,M71,M110) -> 0 | N25: =+O25+P25 -> 0.0014942258 | O25: =SUM(O48,O71,O110) -> 0.0014942258 | P25: =SUM(P48,P71,P110) -> 0 | Q25: =SUM(Q48,Q71,Q110) -> 0
B26: A.5.2. | C26: kitos transporto priemonės (transportas dumblui, vandeniui vežti, autobusai žmonėms vežti) | D26: =O26+E26+I26+M26+P26+Q26 -> 32.58595 | E26: =SUM(F26:H26) -> 1.886217 | F26: =SUM(F49,F72,F111) -> 1.6223841 | G26: =SUM(G49,G72,G111) -> 0.049044394 | H26: =SUM(H49,H72,H111) -> 0.2147885 | I26: =SUM(J26:L26) -> 30.699642 | J26: =SUM(J49,J72,J111) -> 30.417955 | K26: =SUM(K49,K72,K111) -> 0.17591373 | L26: =SUM(L49,L72,L111) -> 0.10577282 | M26: =SUM(M49,M72,M111) -> 0 | N26: =+O26+P26 -> 9.1473861e-05 | O26: =SUM(O49,O72,O111) -> 9.1473861e-05 | P26: =SUM(P49,P72,P111) -> 0 | Q26: =SUM(Q49,Q72,Q111) -> 0
B27: A.6. | C27: KITAS ILGALAIKIS TURTAS | D27: =O27+E27+I27+M27+P27+Q27 -> 0 | E27: =SUM(F27:H27) -> 0 | F27: =SUM(F28:F30) -> 0 | G27: =SUM(G28:G30) -> 0 | H27: =SUM(H28:H30) -> 0 | I27: =SUM(J27:L27) -> 0 | J27: =SUM(J28:J30) -> 0 | K27: =SUM(K28:K30) -> 0 | L27: =SUM(L28:L30) -> 0 | M27: =SUM(M28:M30) -> 0 | N27: =+O27+P27 -> 0 | O27: =SUM(O28:O30) -> 0 | P27: =SUM(P28:P30) -> 0 | Q27: =SUM(Q28:Q30) -> 0
B28: A.6.1. | D28: =O28+E28+I28+M28+P28+Q28 -> 0 | E28: =SUM(F28:H28) -> 0 | F28: =SUM(F51,F74,F113) -> 0 | G28: =SUM(G51,G74,G113) -> 0 | H28: =SUM(H51,H74,H113) -> 0 | I28: =SUM(J28:L28) -> 0 | J28: =SUM(J51,J74,J113) -> 0 | K28: =SUM(K51,K74,K113) -> 0 | L28: =SUM(L51,L74,L113) -> 0 | M28: =SUM(M51,M74,M113) -> 0 | N28: =+O28+P28 -> 0 | O28: =SUM(O51,O74,O113) -> 0 | P28: =SUM(P51,P74,P113) -> 0 | Q28: =SUM(Q51,Q74,Q113) -> 0
B29: A.6.2. | D29: =O29+E29+I29+M29+P29+Q29 -> 0 | E29: =SUM(F29:H29) -> 0 | F29: =SUM(F52,F75,F114) -> 0 | G29: =SUM(G52,G75,G114) -> 0 | H29: =SUM(H52,H75,H114) -> 0 | I29: =SUM(J29:L29) -> 0 | J29: =SUM(J52,J75,J114) -> 0 | K29: =SUM(K52,K75,K114) -> 0 | L29: =SUM(L52,L75,L114) -> 0 | M29: =SUM(M52,M75,M114) -> 0 | N29: =+O29+P29 -> 0 | O29: =SUM(O52,O75,O114) -> 0 | P29: =SUM(P52,P75,P114) -> 0 | Q29: =SUM(Q52,Q75,Q114) -> 0
B30: A.6.3. | D30: =O30+E30+I30+M30+P30+Q30 -> 0 | E30: =SUM(F30:H30) -> 0 | F30: =SUM(F53,F76,F115) -> 0 | G30: =SUM(G53,G76,G115) -> 0 | H30: =SUM(H53,H76,H115) -> 0 | I30: =SUM(J30:L30) -> 0 | J30: =SUM(J53,J76,J115) -> 0 | K30: =SUM(K53,K76,K115) -> 0 | L30: =SUM(L53,L76,L115) -> 0 | M30: =SUM(M53,M76,M115) -> 0 | N30: =+O30+P30 -> 0 | O30: =SUM(O53,O76,O115) -> 0 | P30: =SUM(P53,P76,P115) -> 0 | Q30: =SUM(Q53,Q76,Q115) -> 0
B31: B. | C31: TIESIOGIAI PASKIRSTOMAS ILGALAIKIS TURTAS | D31: =O31+E31+I31+M31+P31+Q31 -> 9074.2188 | E31: =E32+E36+E41+E44+E47+E50 -> 2525.5001 | F31: =F32+F36+F41+F44+F47+F50 -> 215.70452 | G31: =G32+G36+G41+G44+G47+G50 -> 945.83069 | H31: =H32+H36+H41+H44+H47+H50 -> 1363.9649 | I31: =I32+I36+I41+I44+I47+I50 -> 6548.7187 | J31: =J32+J36+J41+J44+J47+J50 -> 3023.8634 | K31: =K32+K36+K41+K44+K47+K50 -> 3498.538 | L31: =L32+L36+L41+L44+L47+L50 -> 26.31719 | M31: =M32+M36+M41+M44+M47+M50 -> 0 | N31: =+O31+P31 -> 0 | O31: =O32+O36+O41+O44+O47+O50 -> 0 | P31: =P32+P36+P41+P44+P47+P50 -> 0 | Q31: =Q32+Q36+Q41+Q44+Q47+Q50 -> 0
B32: B.1. | C32: NEMATERIALUSIS TURTAS | D32: =O32+E32+I32+M32+P32+Q32 -> 0 | E32: =SUM(F32:H32) -> 0 | F32: =SUM(F33:F35) -> 0 | G32: =SUM(G33:G35) -> 0 | H32: =SUM(H33:H35) -> 0 | I32: =SUM(J32:L32) -> 0 | J32: =SUM(J33:J35) -> 0 | K32: =SUM(K33:K35) -> 0 | L32: =SUM(L33:L35) -> 0 | M32: =SUM(M33:M35) -> 0 | N32: =+O32+P32 -> 0 | O32: =SUM(O33:O35) -> 0 | P32: =SUM(P33:P35) -> 0 | Q32: =SUM(Q33:Q35) -> 0
B33: B.1.1. | C33: standartinė programinė įranga | D33: =O33+E33+I33+M33+P33+Q33 -> 0 | E33: =SUM(F33:H33) -> 0 | F33: 0 | G33: 0 | H33: 0 | I33: =SUM(J33:L33) -> 0 | J33: 0 | K33: 0 | L33: 0 | M33: 0 | N33: =+O33+P33 -> 0 | O33: 0 | P33: 0 | Q33: 0 | R33: I.1.standartinė programinė įranga
B34: B.1.2. | C34: spec. programinė įranga | D34: =O34+E34+I34+M34+P34+Q34 -> 0 | E34: =SUM(F34:H34) -> 0 | F34: 0 | G34: 0 | H34: 0 | I34: =SUM(J34:L34) -> 0 | J34: 0 | K34: 0 | L34: 0 | M34: 0 | N34: =+O34+P34 -> 0 | O34: 0 | P34: 0 | Q34: 0 | R34: I.1.spec. programinė įranga
B35: B.1.3. | C35: kitas nematerialus turtas | D35: =O35+E35+I35+M35+P35+Q35 -> 0 | E35: =SUM(F35:H35) -> 0 | F35: 0 | G35: 0 | H35: 0 | I35: =SUM(J35:L35) -> 0 | J35: 0 | K35: 0 | L35: 0 | M35: 0 | N35: =+O35+P35 -> 0 | O35: 0 | P35: 0 | Q35: 0 | R35: I.1.kitas nematerialus turtas
B36: B.2. | C36: PASTATAI IR STATINIAI | D36: =O36+E36+I36+M36+P36+Q36 -> 8985.2926 | E36: =SUM(F36:H36) -> 2522.6902 | F36: =SUM(F37:F40) -> 214.09295 | G36: =SUM(G37:G40) -> 945.83069 | H36: =SUM(H37:H40) -> 1362.7666 | I36: =SUM(J36:L36) -> 6462.6024 | J36: =SUM(J37:J40) -> 2952.8157 | K36: =SUM(K37:K40) -> 3483.4695 | L36: =SUM(L37:L40) -> 26.31719 | M36: =SUM(M37:M40) -> 0 | N36: =+O36+P36 -> 0 | O36: =SUM(O37:O40) -> 0 | P36: =SUM(P37:P40) -> 0 | Q36: =SUM(Q37:Q40) -> 0
B37: B.2.1. | C37: Pastatai (administraciniai, gamybiniai-ūkiniai ir pan.) | D37: =O37+E37+I37+M37+P37+Q37 -> 34.05034 | E37: =SUM(F37:H37) -> 18.50362 | F37: 18.50362 | G37: 0 | H37: 0 | I37: =SUM(J37:L37) -> 15.54672 | J37: 0 | K37: 15.54672 | L37: 0 | M37: 0 | N37: =+O37+P37 -> 0 | O37: 0 | P37: 0 | Q37: 0 | R37: II.2.1.Pastatai
B38: B.2.2. | C38: keliai, aikštelės, šaligatviai ir tvoros | D38: =O38+E38+I38+M38+P38+Q38 -> 18.05476 | E38: =SUM(F38:H38) -> 18.05476 | F38: 18.05476 | G38: 0 | H38: 0 | I38: =SUM(J38:L38) -> 0 | J38: 0 | K38: 0 | L38: 0 | M38: 0 | N38: =+O38+P38 -> 0 | O38: 0 | P38: 0 | Q38: 0 | R38: II.2.2.1.keliai | S38: II.2.2.2.aikštelės | T38: II.2.2.3.šaligatviai | U38: II.2.2.4.tvoros
B39: B.2.3. | C39: vamzdynai | D39: =O39+E39+I39+M39+P39+Q39 -> 3036.873 | E39: =SUM(F39:H39) -> 1267.6335 | F39: 0 | G39: 0 | H39: 1267.6335 | I39: =SUM(J39:L39) -> 1769.2395 | J39: 1769.2395 | K39: 0 | L39: 0 | M39: 0 | N39: =+O39+P39 -> 0 | O39: 0 | P39: 0 | Q39: 0 | R39: II.2.3.vamzdynai
B40: B.2.4. | C40: Kiti įrenginiai (vandentiekio įrenginiai, nusodintuvai, diukeriai, vandens rezervuarai, gelžbetoniniai metantankai, smėlio gaudytuvai, aerotankai, nusodintuvai, nuotekų valymo flotatoriai, dumblo aikštelės ir kt.) | D40: =O40+E40+I40+M40+P40+Q40 -> 5896.3146 | E40: =SUM(F40:H40) -> 1218.4983 | F40: 177.53457 | G40: 945.83069 | H40: 95.13308 | I40: =SUM(J40:L40) -> 4677.8162 | J40: 1183.5763 | K40: 3467.9228 | L40: 26.31719 | M40: 0 | N40: =+O40+P40 -> 0 | O40: 0 | P40: 0 | Q40: 0 | R40: II.2.4.Kiti įrenginiai
B41: B.3. | C41: MAŠINOS IR ĮRANGA | D41: =O41+E41+I41+M41+P41+Q41 -> 57.41457 | E41: =SUM(F41:H41) -> 1.19835 | F41: =SUM(F42:F43) -> 0 | G41: =SUM(G42:G43) -> 0 | H41: =SUM(H42:H43) -> 1.19835 | I41: =SUM(J41:L41) -> 56.21622 | J41: =SUM(J42:J43) -> 41.1477 | K41: =SUM(K42:K43) -> 15.06852 | L41: =SUM(L42:L43) -> 0 | M41: =SUM(M42:M43) -> 0 | N41: =+O41+P41 -> 0 | O41: =SUM(O42:O43) -> 0 | P41: =SUM(P42:P43) -> 0 | Q41: =SUM(Q42:Q43) -> 0
B42: B.3.1. | C42: vandens siurbliai, nuotekų ir dumblo siurbliai virš 5 kW, kita įranga ( siurblių valdymo įranga, elektrotechninė įranga, stacionarios ir mobilios darbo bei hidrodinaminės mašinos, staklės, sklendės, grotelės, grėbliai, grandikliai, filtrai, centrifugos) | D42: =O42+E42+I42+M42+P42+Q42 -> 50.09705 | E42: =SUM(F42:H42) -> 1.19835 | F42: 0 | G42: 0 | H42: 1.19835 | I42: =SUM(J42:L42) -> 48.8987 | J42: 38.4477 | K42: 10.451 | L42: 0 | M42: 0 | N42: =+O42+P42 -> 0 | O42: 0 | P42: 0 | Q42: 0 | R42: II.3.1.vandens siurbliai, nuotekų ir dumblo siurbliai virš 5 kW, kita įranga
...

Sheet 7
C2: Ūkio subjektas: UAB „Biržų vandenys“ | Q2: Geriamojo vandens tiekimo ir nuotekų tvarkymo bei paviršinių nuotekų tvarkymo paslaugų įmonių apskaitos atskyrimo ir susijusių reikalavimų aprašo 7 priedas
C3: Ataskaitinis laikotarpis: 2021-01-01 - 2021-12-31
C5: Ataskaitinio laikotarpio reguliuojamo ilgalaikio turto likutinės vertės ( suskaičiuotos pagal Aprašo nuostatas) paskirstymo verslo vienetams ir paslaugoms ataskaita (tūkst. Eur)
F6: II.Gavyba | G6: II.Ruošimas | H6: II.Pristatymas | J6: III.Surinkimas | K6: III.Valymas | L6: III.Dumblas | M6: III.Pav.nuotekos | O6: I.Apskaitos veikla | P6: IV.Kita_reguliuojama | Q6: V.Nereguliuojama
B7: Eil. Nr. | C7: ILGALAIKIS TURTAS | D7: 1. IŠ VISO | E7: 2. Iš viso GVT | F7: 2.1. Geriamojo vandens gavyba | G7: 2.2. Geriamojo vandens ruošimas | H7: 2.3. Geriamojo vandens pristatymas | I7: 3. Iš viso NT | J7: 3.1. Nuotekų surinkimas | K7: 3.2. Nuotekų valymas | L7: 3.3. Nuotekų dumblo tvarkymas | M7: 4. Paviršinių nuotekų tvarkymas (tik esant atskirai paviršinių nuotekų tvarkymo sistemai) | N7: 5. Kitos reguliuojamosios veiklos verslo vienetas | O7: 5.1 Apskaitos veikla | P7: 5.2. Kita reguliuojama veikla | Q7: 6. Kitos veiklos (nereguliuojamosios veiklos) verslo vienetas
